BEGIN:VCALENDAR
VERSION:2.0
PRODID:-//Patriot Guard Riders - ECPv5.3.2.1//NONSGML v1.0//EN
CALSCALE:GREGORIAN
METHOD:PUBLISH
X-WR-CALNAME:Patriot Guard Riders
X-ORIGINAL-URL:https://www.patriotguard.org
X-WR-CALDESC:Events for Patriot Guard Riders
BEGIN:VTIMEZONE
TZID:America/New_York
BEGIN:DAYLIGHT
TZOFFSETFROM:-0500
TZOFFSETTO:-0400
TZNAME:EDT
DTSTART:20190310T070000
END:DAYLIGHT
BEGIN:STANDARD
TZOFFSETFROM:-0400
TZOFFSETTO:-0500
TZNAME:EST
DTSTART:20191103T060000
END:STANDARD
END:VTIMEZONE
BEGIN:VEVENT
DTSTART;VALUE=DATE:20190808
DTEND;VALUE=DATE:20190809
DTSTAMP:20210403T125409
CREATED:20190806T201722Z
LAST-MODIFIED:20190806T201722Z
UID:169849-1565222400-1565308799@www.patriotguard.org
SUMMARY:John Edward Nelson Jr.
DESCRIPTION:Honor Mission\nJohn Edward Nelson Jr. \, Retired\nUSA – \, WWII\, Korea\, Vietnam\nCovington \, Louisiana – 08-08-19\n\n\n\n\nABOUT THE MISSION: \nWarrant officer Nelson was in the Army for 26 years served in the occupation forces after WWII.later served in the Korean Conflict and also Vietnam Conflict.He will be buried with full military honors.\n\n\nPRIMARY STAGING DETAILS: 08-08-19 \nStaging Time: 09:30  \nRobert H. Burns American Legion Building\n2031 Ronald Reagan Hwy.\nCovington \, Louisiana 70433\n\n\nRide Captain: \nJames “Couyon” Morin\n225-715-4970\nknomad15002003@yahoo.com\n\n\nSpecial Instructions: \nWe will meet at the American Legion escort to Pinecrest Memorial Gardens seven tenths of a mile with help of LEO.\n\nFlags & Water:\nFlags will be provided\nIf you have large bike flags\, please bring them.\nWater WILL NOT be provided\, please bring your own.\n\n\n\nSubmitted By: James Morin \nPosition: Louisiana Ride Captain \n\nNote: You do not have to own/ride a motorcycle or be a veteran to join\, and membership is Free. The only requirement is RESPECT! To subscribe to receive mission notices\, log into the National Site and click on the Members tab at the top. Select the Subscribe to PGR Missions option.\n Print This Page
URL:https://www.patriotguard.org/mission/john-edward-nelson-jr/
CATEGORIES:Stand Down
END:VEVENT
END:VCALENDAR