BEGIN:VCALENDAR
VERSION:2.0
PRODID:-//Patriot Guard Riders - ECPv5.3.2.1//NONSGML v1.0//EN
CALSCALE:GREGORIAN
METHOD:PUBLISH
X-WR-CALNAME:Patriot Guard Riders
X-ORIGINAL-URL:https://www.patriotguard.org
X-WR-CALDESC:Events for Patriot Guard Riders
BEGIN:VTIMEZONE
TZID:America/New_York
BEGIN:DAYLIGHT
TZOFFSETFROM:-0500
TZOFFSETTO:-0400
TZNAME:EDT
DTSTART:20190310T070000
END:DAYLIGHT
BEGIN:STANDARD
TZOFFSETFROM:-0400
TZOFFSETTO:-0500
TZNAME:EST
DTSTART:20191103T060000
END:STANDARD
END:VTIMEZONE
BEGIN:VEVENT
DTSTART;VALUE=DATE:20190720
DTEND;VALUE=DATE:20190721
DTSTAMP:20210404T204751
CREATED:20190715T041119Z
LAST-MODIFIED:20190719T032012Z
UID:167452-1563580800-1563667199@www.patriotguard.org
SUMMARY:Robert Patrick Cappello
DESCRIPTION:Stand Down\nRobert Patrick Cappello\nUSA – Korea\nNorth Canton\, Ohio – 07-20-19\n\n\n\nABOUT THE MISSION: \nCPL Robert Patrick Cappello\, 90\, Canton\, Ohio\, US Army ”M” Co 23rd Infantry Regiment\, Korean War Veteran. CPL Capello will be receiving medals due him at his time of discharge. He will be pinned by Colonel Reed Kimbell (Ret). Medals include: CIB\, Korean Service Medal w/bronze Star attachment\, National Defense Service Medal\, United Nations Service Medal.\n\n\nPRIMARY STAGING DETAILS: 07-20-19 \nStaging Time: 09:40 AM\n \nMarcs (near PNC Bank)\n1664 North Main St\nNorth Canton\, Ohio 44720\n\n\nRide Captain: \nJim Myers\njmyers0620@yahoo.com\n\n\nSpecial Instructions: \nEnd of the Ceremony will conclude Our Mission\n\n\nFlags & Water:\nFlags will not be provided\nIf you have large bike flags\, please bring them.\nWater WILL NOT be provided\, please bring your own.\n\n\n\nSubmitted By: Patrick O’Connor \nPosition: Ohio Assistant State Captain \n\nNote: You do not have to own/ride a motorcycle or be a veteran to join\, and membership is Free. The only requirement is RESPECT! To subscribe to receive mission notices\, log into the National Site and click on the Members tab at the top. Select the Subscribe to PGR Missions option.\n Print This Page
URL:https://www.patriotguard.org/mission/robert-patrick-cappello/
CATEGORIES:Stand Down
END:VEVENT
BEGIN:VEVENT
DTSTART;VALUE=DATE:20190720
DTEND;VALUE=DATE:20190721
DTSTAMP:20210404T204751
CREATED:20190717T215017Z
LAST-MODIFIED:20190919T152207Z
UID:168030-1563580800-1563667199@www.patriotguard.org
SUMMARY:Russell Knuckles
DESCRIPTION:Due to the expected extreme heat conditions that are forecast for the area\, for the safety of our members I am regrettably ordering a STAND DOWN for this mission.\n\nHonor Mission\nRussell Knuckles\, Veteran\nUSA –\nCharleston/Ripley\, West Virginia – 07-20-19\n\n\n\nABOUT THE MISSION: \nThe Patriot Guard Riders have been invited to stand in silent Honor and Respect for U.S. Army Veteran Russell Knuckles for his final services and internment on Saturday.\n\n\nPRIMARY STAGING DETAILS: 07-20-19 \nStaging Time: 11:30 AM\n \nBream Presbyterian Church\n317 W. Washington Street\nCharleston\, West Virginia 25302\n\nMap\n\n\nRide Captain: \nRide Captain assignment is currently pending.\n\n\nSpecial Instructions: \nStaging: 11:30 AM.\n\nBriefing: 11:45 AM.\n\nFlag line will be in place NLT 12:00 PM and will be maintained until the start of services.\n\nAt the conclusion of services\, flag line will be set for his dignified transfer to the hearse.\n\nEscort to the Fairplains Cemetery\, Ripley\, WV.\n\nUpon arrival at the cemetery\, flag line will be set and maintained for the duration of graveside ceremonies.\n\n\nFlags & Water:\nFlags will not be provided\n\nLarge Bike Flags will NOT be needed.\n\nWater WILL NOT be provided\, please bring your own.\n\n\n\nSubmitted By: Susan Whitlatch \nPosition: \n\nNote: You do not have to own/ride a motorcycle or be a veteran to join\, and membership is Free. The only requirement is RESPECT! To subscribe to receive mission notices\, log into the National Site and click on the Members tab at the top. Select the Subscribe to PGR Missions option.\n Print This Page
URL:https://www.patriotguard.org/mission/russell-knuckles/
CATEGORIES:Stand Down
END:VEVENT
END:VCALENDAR