BEGIN:VCALENDAR
VERSION:2.0
PRODID:-//Patriot Guard Riders - ECPv5.3.2.1//NONSGML v1.0//EN
CALSCALE:GREGORIAN
METHOD:PUBLISH
X-WR-CALNAME:Patriot Guard Riders
X-ORIGINAL-URL:https://www.patriotguard.org
X-WR-CALDESC:Events for Patriot Guard Riders
BEGIN:VTIMEZONE
TZID:America/New_York
BEGIN:DAYLIGHT
TZOFFSETFROM:-0500
TZOFFSETTO:-0400
TZNAME:EDT
DTSTART:20190310T070000
END:DAYLIGHT
BEGIN:STANDARD
TZOFFSETFROM:-0400
TZOFFSETTO:-0500
TZNAME:EST
DTSTART:20191103T060000
END:STANDARD
END:VTIMEZONE
BEGIN:VEVENT
DTSTART;VALUE=DATE:20190927
DTEND;VALUE=DATE:20190928
DTSTAMP:20210402T045640
CREATED:20190916T175911Z
LAST-MODIFIED:20190916T175911Z
UID:174024-1569542400-1569628799@www.patriotguard.org
SUMMARY:Military Appreciation at Alamogordo High School Football Game
DESCRIPTION:HOTH Mission\nMilitary Appreciation at Alamogordo High School Football Game\nAlamogordo\, New Mexico – 09-27-19\n\n\n\n\nABOUT THE MISSION: \nThe Patriot Guard Riders have been invited to participate in the opening ceremony and halftime shows at the Alamogordo High School football game during Military Appreciation night on 27 September 2019.\n\n\nPRIMARY STAGING DETAILS: 09-27-19 \nStaging Time: 5:30 pm  \nLowe’s Grocery Store\nWest end of parking lot\n675 10th Street\nAlamogordo\, New Mexico 88310\n\n\nRide Captain: \nJim “Deacon Jim” Ernst\njimernst@q.com\n(575) 430-3904\n\nDale “Coach” Lindley\ntheking@live.com\n(575) 430-4041\n\n\nSpecial Instructions: \nStage at the Lowe’s Grocery store parking lot on 10th Street at 1730 hours\, briefing at 1745\, KSU 1755 hours.We will travel to the High School football field where we will take part in the opening ceremonies. We will be circling the field with the bikes to escort the “parade of students and families of veterans”. At halftime we will be on the field with a flag line\, augmented by the Alamogordo High School Air Force Junior ROTC\, during a Military Induction Ceremony conducted by the Holloman AFB Commander.Please do not be late for the briefing. There is a lot of information to be presented and timing is critical so the game can start on time.Please decorate your vehicle with large flags\, if you have them. (An Alamogordo High School Flag would be a great addition to your flags).Anyone associated with another organization\, please forward this information to your members. We want as many members present for this mission as possible. Anyone riding with the PGR for this mission will have free admission to the football game.\n\n\nFlags & Water:\nFlags will be provided\nIf you have large bike flags\, please bring them.\nWater will be provided.\n\nSubmitted By: Jim Ernst \nPosition: New Mexico State Captain \n\nNote: You do not have to own/ride a motorcycle or be a veteran to join\, and membership is Free. The only requirement is RESPECT! To subscribe to receive mission notices\, log into the National Site and click on the Members tab at the top. Select the Subscribe to PGR Missions option.\n Print This Page
URL:https://www.patriotguard.org/mission/military-appreciation-at-alamogordo-high-school-football-game/
CATEGORIES:HOTH Mission
END:VEVENT
BEGIN:VEVENT
DTSTART;VALUE=DATE:20190927
DTEND;VALUE=DATE:20190928
DTSTAMP:20210402T045640
CREATED:20190920T193540Z
LAST-MODIFIED:20190920T193540Z
UID:174878-1569542400-1569628799@www.patriotguard.org
SUMMARY:Wounded Warrior Bass Tournament
DESCRIPTION:HOTH Mission\nWounded Warrior Bass Tournament\nWesson\, Mississippi – 09-27-19\n\n\n\nABOUT THE MISSION: \nThe Patriot Guard has been asked to escort Wounded Warriors to Copiah Lake for a Bass Tournament.\n\n\nPRIMARY STAGING DETAILS: 09-27-19 \nStaging Time: 4:30 am  \nSylvarena Baptist Church\nSylvarena Road(Exit 51 off of I-55)\nWesson\, Mississippi 39191\n\n\nRide Captain: \nRandy Lackey\n601-953-6920\n\n\nSpecial Instructions: \nStaging 4:30 am\nKSU at 5:00 am for escort to Copiah Lake located at 1039 Lakefront Lane\, Crystal Springs\, MS.\nCoffee and snacks will be provided. Get there early to fellowship with Wounded Warrior fisherman and guides. LEO support by Harold Jones\, Sheriff of Copiah County.PGR will hold a flag line and salute from the dock as they enter the lake.\n\n\nFlags & Water:\nFlags will be provided\nLarge Bike Flags will NOT be needed.\nWater WILL NOT be provided\, please bring your own.\n\n\nSubmitted By: Keith Grantham \nPosition: Mississippi Assistant State Captain \n\nNote: You do not have to own/ride a motorcycle or be a veteran to join\, and membership is Free. The only requirement is RESPECT! To subscribe to receive mission notices\, log into the National Site and click on the Members tab at the top. Select the Subscribe to PGR Missions option.\n Print This Page
URL:https://www.patriotguard.org/mission/wounded-warrior-bass-tournament/
CATEGORIES:HOTH Mission
END:VEVENT
BEGIN:VEVENT
DTSTART;VALUE=DATE:20190927
DTEND;VALUE=DATE:20190928
DTSTAMP:20210402T045640
CREATED:20190923T005341Z
LAST-MODIFIED:20190923T005341Z
UID:175943-1569542400-1569628799@www.patriotguard.org
SUMMARY:Maur Hill Mount Academy Veterans / First Responder Appreciation Night
DESCRIPTION:HOTH Mission\nMaur Hill Mount Academy Veterans / First Responder Appreciation Night\, Veteran\n–\nAtchison\, Kansas – 09-27-19\n\n\n\nABOUT THE MISSION: \nMaur Hill Mount Academy is hosting a Homecoming Game Appreciation Night honoring all first responders and veterans during a pre-game ceremony at their stadium.\n\n\nPRIMARY STAGING DETAILS: 09-27-19 \nStaging Time: 6:15 PM\n \nWalmart Parking Lot\n1920 Highway 73\nAtchison\, Kansas 66002\n\n\nRide Captain: \nRon “Grumpy” Wurteler\nwurtele@kc.rr.com\n(913) 683-4652\n\n\nSpecial Instructions: \nStage: 6:15 P.M.\nMove to the stadium at approximately 6:30 P.M.\nWill enter the track on the field\, and drive around the track and stop in front of the home grandstand\, dismount and render honors during the playing of the National Anthem.\nWe will then depart the field with mission complete.\n\n\nFlags & Water:\nFlags will not be provided\nIf you have large bike flags\, please bring them.\nWater WILL NOT be provided\, please bring your own.\n\n\n\nSubmitted By: Ronald Wurtele \nPosition: Kansas Ride Captain \n\nNote: You do not have to own/ride a motorcycle or be a veteran to join\, and membership is Free. The only requirement is RESPECT! To subscribe to receive mission notices\, log into the National Site and click on the Members tab at the top. Select the Subscribe to PGR Missions option.\n Print This Page
URL:https://www.patriotguard.org/mission/maur-hill-mount-academy-veterans-first-responder-appreciation-night/
CATEGORIES:HOTH Mission
END:VEVENT
BEGIN:VEVENT
DTSTART;VALUE=DATE:20190927
DTEND;VALUE=DATE:20190928
DTSTAMP:20210402T045640
CREATED:20190923T135747Z
LAST-MODIFIED:20190923T135846Z
UID:175962-1569542400-1569628799@www.patriotguard.org
SUMMARY:SEMO Honor Tour
DESCRIPTION:HOTH Mission\nSEMO Honor Tour\, Veterans\nUSA USMC USN USAF – WWII\, Korea\, Vietnam\nPoplar Bluff\, Missouri – 09-27-19\n\n\n\n\nABOUT THE MISSION: \nThe 2019 SEMO Honor Tour has requested the Patriot Guard Riders to assist in escorting the veterans on their journey to Washington\, DC to visit our nation’s capitol.  The PGR will assist in the escort from Poplar Bluff \, MO to St. Louis Lambert Airport.  We will stand a flag line at the airport and greet the veterans as they depart on their trip.\n\n\nPRIMARY STAGING DETAILS: 09-27-19 \nStaging Time:  6:45  am  \nPoplar Bluff First Baptist Church\n551 N Westwood\nPoplar Bluff\, Missouri 63901\n\n\nRide Captain: \nWillie “Doods” Cunningham\ncapejwc@gmail.com\n\n\nSpecial Instructions: \nDeparture from Poplar Bluff is scheduled at 7:15 AM\n\nFlags & Water:\nFlags will not be provided\nLarge Bike Flags will NOT be needed.\nWater WILL NOT be provided\, please bring your own.\n\nSTAGING #2 DETAILS: 09-27-19 \nStaging Time:  9:30 am\n \nFarmington High School\n1 Black Knight Drive\nFarmington\, Missouri 63640\n\n\nRide Captain: \nTeresa ” Smilz” Barnhouse\nsmilz4u40@yahoo.com\, and\nRoger “Goose” Dollingersrdoll@charter.net\n\n\nSpecial Instructions: \nThere is a 10:00 AM ceremony at the school.   The veterans departure from Farmington is scheduled at 11:00 AM.\n\nFlags & Water:\nFlags will be provided\nIf you have large bike flags\, please bring them.\nWater will be provided.\n\nSTAGING #3 DETAILS: 09-27-19 \nStaging Time: 11:30 am\n \nHomestead Restaurant\n1024 Hwy K\nBonne Terre\, Missouri 63628\n\n\nRide Captain: \nTeresa “Smilz” Barnhouse\nsmilz4u40@yahoo.com and\nDave “Rebel” Beck\nDbeck59110@aol.com\n314-330-6974\n\n\nSpecial Instructions: \nVeterans will have lunch at the restaurant.  Ride escort briefing at 11:45 AM.  Scheduled departure time from restaurant is 12:15 PM.\n\nFlags & Water:\nFlags will be provided\nIf you have large bike flags\, please bring them.\nWater will be provided.\n\nSTAGING #4 DETAILS: 09-27-19 \nStaging Time: 1:45 pm\n \nLambert Airport\n10701 Lambert International Blvd.\nSt. Louis\, Missouri 63145\n\n\nRide Captain: \nDave “Rebel” Beck\ndbeck59110@aol.com\n314-330-6974 and\nSupport and HOTH Captain:\nTeresa “Smilz’ Barnhouse\nsmilz4u40@yahoo.com\n\n\nSpecial Instructions: \nTour bus is scheduled to arrive at airport at 1:55 PM at Southwest Airlines terminal 2.  PGR will stand flag line as veterans unload from bus.  Flight time is 3:55 PM.\n\nFlags & Water:\nFlags will be provided\nIf you have large bike flags\, please bring them.\nWater will be provided.\n\nSubmitted By: Dave Beck \nPosition: Missouri Assistant State Captain \n\nNote: You do not have to own/ride a motorcycle or be a veteran to join\, and membership is Free. The only requirement is RESPECT! To subscribe to receive mission notices\, log into the National Site and click on the Members tab at the top. Select the Subscribe to PGR Missions option.\n Print This Page
URL:https://www.patriotguard.org/mission/semo-honor-tour-2/
CATEGORIES:HOTH Mission
END:VEVENT
END:VCALENDAR