BEGIN:VCALENDAR
VERSION:2.0
PRODID:-//Patriot Guard Riders - ECPv5.3.2.1//NONSGML v1.0//EN
CALSCALE:GREGORIAN
METHOD:PUBLISH
X-WR-CALNAME:Patriot Guard Riders
X-ORIGINAL-URL:https://www.patriotguard.org
X-WR-CALDESC:Events for Patriot Guard Riders
BEGIN:VTIMEZONE
TZID:America/New_York
BEGIN:DAYLIGHT
TZOFFSETFROM:-0500
TZOFFSETTO:-0400
TZNAME:EDT
DTSTART:20190310T070000
END:DAYLIGHT
BEGIN:STANDARD
TZOFFSETFROM:-0400
TZOFFSETTO:-0500
TZNAME:EST
DTSTART:20191103T060000
END:STANDARD
END:VTIMEZONE
BEGIN:VEVENT
DTSTART;VALUE=DATE:20190926
DTEND;VALUE=DATE:20190927
DTSTAMP:20210402T050253
CREATED:20190916T012838Z
LAST-MODIFIED:20190916T012838Z
UID:172792-1569456000-1569542399@www.patriotguard.org
SUMMARY:Spartan Weekend at the Scarlet Pearl
DESCRIPTION:HOTH Mission\nSpartan Weekend at the Scarlet Pearl\n–\nDiberville\, Mississippi – 09-26-19\n\n\n\nABOUT THE MISSION: \nThe Patriot Guard Riders have been invited again to the 3rd annual Spartan Weekend at the Scarlet Pearl. The Spartan Alliance is on a mission to empower veterans to restore their independence. There will be 50 wounded veterans and their caregivers in attendance for a weekend of activities\, events\, and surprises. (There is a black tie gala Saturday evening\,  but due to limited space\, this will be for Ride Captains only)\n\n\nPRIMARY STAGING DETAILS: 09-26-19 \nStaging Time: 2:45 PM\n \nScarlet Pearl Casino\n9380 Central Ave\nDiberville\, Mississippi\n\n\nRide Captain: \nSandie Schlett\n228-297-6720\n\n\nSpecial Instructions: \nFlag line from 3-5:30 pm and greet these veterans and their caregivers as they arrive.\nWe will stay for the 6pm flag raising ceremony.\n\n\nFlags & Water:\nFlags will be provided\nLarge Bike Flags will NOT be needed.\nWater will be provided.\n\nSTAGING #2 DETAILS: 09-27-19 \nStaging Time: 4:15 PM\n \nScarlet Pearl Casino\n9380 Central Ave\nDiberville\, Mississippi\n\n\nRide Captain: \nSandie Schlett\n228-297-6720\n\n\nSpecial Instructions: \nWe will meet in the parking lot and stage for escort to the VFW Post #6731 in Diberville MS.\nOnce we arrive we will quickly form a flag line as these veterans enter.\nOnce they are inside we can go in and join them for dinner. I will need a head count for dinner\,  so if you want to do this\, please contact me directly.\n\n\nFlags & Water:\nFlags will be provided\nIf you have large bike flags\, please bring them.\nWater WILL NOT be provided\, please bring your own.\n\n\n\nSubmitted By: Sandie Schlett \nPosition: Mississippi Assistant State Captain \n\nNote: You do not have to own/ride a motorcycle or be a veteran to join\, and membership is Free. The only requirement is RESPECT! To subscribe to receive mission notices\, log into the National Site and click on the Members tab at the top. Select the Subscribe to PGR Missions option.\n Print This Page
URL:https://www.patriotguard.org/mission/spartan-weekend-at-the-scarlet-pearl/
CATEGORIES:HOTH Mission
END:VEVENT
BEGIN:VEVENT
DTSTART;VALUE=DATE:20190926
DTEND;VALUE=DATE:20190927
DTSTAMP:20210402T050253
CREATED:20190924T164122Z
LAST-MODIFIED:20190924T164122Z
UID:176386-1569456000-1569542399@www.patriotguard.org
SUMMARY:Viet Nam Traveling Wall
DESCRIPTION:HOTH Mission\nViet Nam Traveling Wall\n\nPrinceton\, Kentucky – 09-26-19\n\n\n\n\nABOUT THE MISSION: \nWe will be escorting the Viet Nam Traveling Wall into Princeton\, KY then on to Marion\, Ky where it will be on display\n\n\nPRIMARY STAGING DETAILS: 09-26-19 \nStaging Time: 1:30 pm \nExit 79 off I-69 onto Hwy 91 N towards Princeton\nPrinceton\, Kentucky 42445\n\n\nRide Captain: \nRandie Baldree “Whitelightning”\nrandieb@wk.net\n270-705-2354\n\n\nSpecial Instructions: \nExit 79 off I-69 towards Princeton\, KY\n\nFlags & Water:\nFlags will not be provided\nIf you have large bike flags\, please bring them.\nWater WILL NOT be provided\, please bring your own.\n\nSTAGING #2 DETAILS: 09-26-19 \nStaging Time: 11:45  \nPockets Shell\n1009 Paris Road\nMayfield\, Kentucky 42066\n\n\nRide Captain: \nRandie Baldree”Whitelightning”\nrandieb@wk.net\n270-705-2354\n\n\nSpecial Instructions: \nKSU @ 12 noon to travel to Princeton\, KY  arriving by 1:00 pm to meet the Wall\, then escort through Princeton and on to Marion.\n\nFlags & Water:\nFlags will not be provided\nIf you have large bike flags\, please bring them.\nWater WILL NOT be provided\, please bring your own.\n\n\n\nSubmitted By: Randie Baldree \nPosition: Kentucky Ride Captain \n\nNote: You do not have to own/ride a motorcycle or be a veteran to join\, and membership is Free. The only requirement is RESPECT! To subscribe to receive mission notices\, log into the National Site and click on the Members tab at the top. Select the Subscribe to PGR Missions option.\n Print This Page
URL:https://www.patriotguard.org/mission/viet-nam-traveling-wall/
CATEGORIES:HOTH Mission
END:VEVENT
BEGIN:VEVENT
DTSTART;VALUE=DATE:20190926
DTEND;VALUE=DATE:20190927
DTSTAMP:20210402T050253
CREATED:20190925T034244Z
LAST-MODIFIED:20190925T034244Z
UID:176572-1569456000-1569542399@www.patriotguard.org
SUMMARY:Welcome MOH Hershel Woody Williams
DESCRIPTION:HOTH Mission\nWelcome MOH Hershel Woody Williams\n– WWII\nLittle Rock\, Arkansas – 09-26-19\n\n\n\nABOUT THE MISSION: \nPlease join us in welcoming Medal of Honor recipient Hershel “Woody” Williams arrival to the Little Rock Airport. Woody will be here as a guest speaker for the Gold Star Families Monument Dedication Ceremony at the State Capital on Saturday the 28th at 11am. Seventy-four years ago\, Hershel “Woody” Williams was awarded the Medal of Honor for his courageous actions in the Battle of Iwo Jima.\n\n\nPRIMARY STAGING DETAILS: 09-26-19 \nStaging Time: 11:45 AM\n \nLittle Rock National Airport\, West side of Baggage claim below escalators.\n1 Airport Dr\nLittle Rock\, Arkansas 72202\nMap\n\n\nRide Captain: \nRandy “MUDD” Crownover\n501-993-2517\nRandycrownover@hotmail.com\n\n\nSpecial Instructions: \nBriefing: 1215pm\nFlagline: 1230pm\nFlagline only\nCages welcome.\n\n\nFlags & Water:\nFlags will be provided\nLarge Bike Flags will NOT be needed.\nWater WILL NOT be provided\, please bring your own.\n\n\n\nSubmitted By: Rick Schrunk \nPosition: Arkansas Ride/Hoth Captain \n\nNote: You do not have to own/ride a motorcycle or be a veteran to join\, and membership is Free. The only requirement is RESPECT! To subscribe to receive mission notices\, log into the National Site and click on the Members tab at the top. Select the Subscribe to PGR Missions option.\n Print This Page
URL:https://www.patriotguard.org/mission/welcome-moh-hershel-woody-williams/
CATEGORIES:HOTH Mission
END:VEVENT
END:VCALENDAR