BEGIN:VCALENDAR
VERSION:2.0
PRODID:-//Patriot Guard Riders - ECPv5.3.2.1//NONSGML v1.0//EN
CALSCALE:GREGORIAN
METHOD:PUBLISH
X-WR-CALNAME:Patriot Guard Riders
X-ORIGINAL-URL:https://www.patriotguard.org
X-WR-CALDESC:Events for Patriot Guard Riders
BEGIN:VTIMEZONE
TZID:America/New_York
BEGIN:DAYLIGHT
TZOFFSETFROM:-0500
TZOFFSETTO:-0400
TZNAME:EDT
DTSTART:20190310T070000
END:DAYLIGHT
BEGIN:STANDARD
TZOFFSETFROM:-0400
TZOFFSETTO:-0500
TZNAME:EST
DTSTART:20191103T060000
END:STANDARD
END:VTIMEZONE
BEGIN:VEVENT
DTSTART;TZID=America/New_York:20190923T000000
DTEND;TZID=America/New_York:20190923T000000
DTSTAMP:20210402T045918
CREATED:20190923T154143Z
LAST-MODIFIED:20190923T154143Z
UID:175934-1569196800-1569196800@www.patriotguard.org
SUMMARY:Newtonia Fall Festival
DESCRIPTION:HOTH Mission\nNewtonia Fall Festival\nNewtonia\, Missouri – 09-28-19\n\n\n\n\nABOUT THE MISSION: \nThe 44th Annual Newtonia Fall festival is a salute to the US military past\, present and future.  The organizers are creating care packages for our military deployed oversees as well as hosting veteran and military related booths\, including VFW Posts 5293 and 4142 from Joplin and Neosho.  The event starts with breakfast at 7 AM and Opening Ceremony at 8:50 AM followed by a Patriotic Parade (PGR will be in the 2 PM parade).  Lot’s of great food and a Great American pie contest.  We’d love to have any size Guard contingent to help us honor our military.  The Patriot Guard Riders have been honored by an invitation to participate in the parade\, which occurs that afternoon.\n\n\nPRIMARY STAGING DETAILS: 09-28-19 \nStaging Time: 1:30 pm\n \nNewtonia Community Center\n461 Mill Street\nNewtonia\, Missouri 64853\n\n\nRide Captain: \nRobert L. “Bob” Meeks\n417-437-0719\nhorizonstravel@sbcglobal.net\n\n\nSpecial Instructions: \nStage 1:30 pm at the Newtonia Community Center.  The parade will take place at 2:00 pm.  The route is very short – no fear of overheating.  Please bring large bike flags if you have them.\n\nFlags & Water:\nFlags will not be provided\nIf you have large bike flags\, please bring them.\nWater WILL NOT be provided\, please bring your own.\n\n\n\nSubmitted By: Robert Meeks \nPosition: Missouri Ride Captain \n\nNote: You do not have to own/ride a motorcycle or be a veteran to join\, and membership is Free. The only requirement is RESPECT! To subscribe to receive mission notices\, log into the National Site and click on the Members tab at the top. Select the Subscribe to PGR Missions option.\n Print This Page
URL:https://www.patriotguard.org/mission/newtonia-fall-festival/
CATEGORIES:HOTH Mission
END:VEVENT
END:VCALENDAR