BEGIN:VCALENDAR
VERSION:2.0
PRODID:-//Patriot Guard Riders - ECPv5.3.2.1//NONSGML v1.0//EN
CALSCALE:GREGORIAN
METHOD:PUBLISH
X-WR-CALNAME:Patriot Guard Riders
X-ORIGINAL-URL:https://www.patriotguard.org
X-WR-CALDESC:Events for Patriot Guard Riders
BEGIN:VTIMEZONE
TZID:America/New_York
BEGIN:DAYLIGHT
TZOFFSETFROM:-0500
TZOFFSETTO:-0400
TZNAME:EDT
DTSTART:20190310T070000
END:DAYLIGHT
BEGIN:STANDARD
TZOFFSETFROM:-0400
TZOFFSETTO:-0500
TZNAME:EST
DTSTART:20191103T060000
END:STANDARD
END:VTIMEZONE
BEGIN:VEVENT
DTSTART;VALUE=DATE:20190920
DTEND;VALUE=DATE:20190922
DTSTAMP:20210402T050302
CREATED:20190915T100744Z
LAST-MODIFIED:20190915T100744Z
UID:174043-1568937600-1569110399@www.patriotguard.org
SUMMARY:Vietnam - GWoT Wall Display
DESCRIPTION:  \n\nHOTH Mission\nVietnam – GWoT Wall Display\n\nKissimmee\, Florida  09-20&21-19\n\n\n \n\nABOUT THE MISSION: \nThe USO (United Service Organization) has requested the PGR set-up and display our Vietnam & Global War on Terrorism Walls during their 15th Annual USO Motorcycle Benefit Ride. The walls need to be in place by 8:00 AM\, Saturday the 21st. Since it takes several hours to set up the Vietnam Wall\, weather permitting\, we will set it up on Friday the 20th\, and set up the GWoT Wall Saturday morning. Volunteers are needed to help set up the Vietnam Wall on Friday at 10:00 AM and to set up the GWoT Wall\, tents\, computers and printers on Saturday at 7:00 AM. In addition\, volunteers will be needed to assist with the event on Saturday from 8:00 AM until approximately 3:00 PM. We will make a short presentation about the PGR on the main stage prior to the start of the ride at 10:30 AM.  Approximately 600 riders are expected to attend this event along with a dozen or so vendors. Any assistants you can provide would be greatly appreciated.\n\n\nPRIMARY STAGING DETAILS: 09-20-19 \nStaging Time: 10:00 AM  \nAustin-Tindall Regional Park\n4100 Boggy Creek Rd.\nKissimmee\, Florida 34744\nhttps://tinyurl.com/yy2y2qfm\n\n\nRide Captain: \nRobert “Garfield” Warren\nbusdrvrrlw70@gmail.com\n321-945-2589\n\n\nSpecial Instructions: \nEarly set-up of the Vietnam Wall\n\n\nFlags & Water:\nFlags will not be provided\nLarge Bike Flags will NOT be needed.\nWater will be provided.\n\nSTAGING #2 DETAILS: 09-21-19 \nStaging Time: 7:00 AM  \nAustin-Tindall Regional Park\n4100 Boggy Creek Rd.\nKissimmee\, Florida 34744\nhttps://tinyurl.com/yy2y2qfm\n\n\nRide Captain: \nRobert “Garfield” Warren\nbusdrvrrlw70@gmail.com\n321-945-2589\n\n\nSpecial Instructions: \nSet-up GWot Wall\, tents\, computers & printers. Assist with the event from 8:00 AM until 3:00 PM\n\n\nFlags & Water:\nFlags will not be provided\nLarge Bike Flags will NOT be needed.\nWater will be provided.\n  \n\n\n\nSubmitted By: David Shelton \nPosition: Florida State Captain \n\nNote: You do not have to own/ride a motorcycle or be a veteran to join\, and membership is Free. The only requirement is RESPECT! To subscribe to receive mission notices\, log into the National Site and click on the Members tab at the top. Select the Subscribe to PGR Missions option.\n Print This Page
URL:https://www.patriotguard.org/mission/vietnam-gwot-wall-display/
CATEGORIES:HOTH Mission
END:VEVENT
BEGIN:VEVENT
DTSTART;VALUE=DATE:20190921
DTEND;VALUE=DATE:20190922
DTSTAMP:20210402T050302
CREATED:20190904T132830Z
LAST-MODIFIED:20190913T163432Z
UID:172755-1569024000-1569110399@www.patriotguard.org
SUMMARY:Gold Star Families Appreciation
DESCRIPTION:  \n\nHOTH Mission\nGold Star Families Appreciation\nUSA USMC USN USAF USCG\nClearwater\, Florida  09-21-19\n\n\n \n\nABOUT THE MISSION: \nThe Clearwater Marine Aquarium staff has invited the Patriot Guard Riders to escort 80 Gold Star Families from their hotel to the Clearwater Marine Aquarium  Once we arrive would like us to step up a flag line\, as the families enter the aquarium. These families have lost loved ones in the service\, this is our turn to thank them for their sacrifices. Please bring flag bikes for escort and your 3×5 American flags for the flag line.\n\n\nPRIMARY STAGING DETAILS: 09-21-19 \nStaging Time: 8:00 AM  \nWyndham Resort\n100 Coronado Drive\nClearwater\, Florida 33767\n\n\nRide Captain: \nDan Edwards\nconsultdan@verizon.net\n727-542-6767\n\n\nSpecial Instructions: \nStage: 9:00 AM\nBrief: 8:15 AM\nKSU : 8:30 AM\n\nEscort two trams to Clearwater Aquarium\, which is less than a mile.\n\n\nFlags & Water:\nFlags will not be provided\nIf you have large bike flags\, please bring them.\nWater WILL NOT be provided\, please bring your own.\n\nSTAGING #2 DETAILS: 09-21-19 \nStaging Time: 8:30 AM  \nClearwater Marine Aquarium\n249 Windward Pass\nClearwater\, Florida 33767\n\n\nRide Captain: \n\nDan Edwards\nconsultdan@verizon.net\n727-542-6767\n\n\n\nSpecial Instructions: \n8:30 AM – Stage\n8:45 AM – Flag Line\n\n\nFlags & Water:\nFlags will not be provided\nLarge Bike Flags will NOT be needed.\nWater WILL NOT be provided\, please bring your own.\n  \n\n\nSubmitted By: Henry Hyde \nPosition: Florida Assistant State Captain \n\nNote: You do not have to own/ride a motorcycle or be a veteran to join\, and membership is Free. The only requirement is RESPECT! To subscribe to receive mission notices\, log into the National Site and click on the Members tab at the top. Select the Subscribe to PGR Missions option.\n Print This Page
URL:https://www.patriotguard.org/mission/gold-star-families-appreciation/
CATEGORIES:HOTH Mission
END:VEVENT
BEGIN:VEVENT
DTSTART;VALUE=DATE:20190921
DTEND;VALUE=DATE:20190922
DTSTAMP:20210402T050302
CREATED:20190908T231256Z
LAST-MODIFIED:20190908T231256Z
UID:173197-1569024000-1569110399@www.patriotguard.org
SUMMARY:POW/MIA Recognition Day Ceremony
DESCRIPTION:HOTH Mission\nPOW/MIA Recognition Day Ceremony\nJacksonville\, Florida – 09-21-19\n\n  \n\nABOUT THE MISSION: \nThe Patriot Guard Riders have again been invited by the Cecil Field POW/MIA Memorial Committee to stand a flag line during the POW/MIA Recognition Day “Gathering in the Pines II” opening and closing ceremony. The Patriot Guard will also have an information table during the event to inform the public of our PGR mission. The event will be held at the Cecil Field Chapel “Chapel of the High-Speed Pass” on September 21\, 2019\, from 10:00 AM to 3:00 PM. Please come join us as we honor and remember our POW/MIA’s.\n\n\nPRIMARY STAGING DETAILS: 09-21-19  \nStaging Time: 09:15 AM \nCecil Field Chapel “Chapel of the High-Speed Pass”\n6112 POW-MIA Memorial Pkwy\nJacksonville\, Florida 32221\nMap Link\n\n\nRide Captain: \nRichard Vernon\nrichvernon2370@yahoo.com\n(904) 254-9269\n\n\nSpecial Instructions: \nBrief: 9:30 AM\nParking will be by the direction of parking attendants\n\n\nFlags & Water:\n\nFlags will be provided\nLarge Bike Flags will NOT be needed.\nWater WILL NOT be provided\, please bring your own.\n\n\n\n\nSubmitted By: Richard Vernon \nPosition: Florida Assistant State Captain \n\nNote: You do not have to own/ride a motorcycle or be a veteran to join\, and membership is Free. The only requirement is RESPECT! To subscribe to receive mission notices\, log into the National Site and click on the Members tab at the top. Select the Subscribe to PGR Missions option.
URL:https://www.patriotguard.org/mission/pow-mia-recognition-day-ceremony/
CATEGORIES:HOTH Mission
END:VEVENT
BEGIN:VEVENT
DTSTART;VALUE=DATE:20190921
DTEND;VALUE=DATE:20190922
DTSTAMP:20210402T050302
CREATED:20190914T102215Z
LAST-MODIFIED:20190914T102216Z
UID:173984-1569024000-1569110399@www.patriotguard.org
SUMMARY:Honor Flight Welcome Home
DESCRIPTION:  \n\nHOTH Mission\nHonor Flight Welcome Home\n WWII\, Korea\, Vietnam\nOrlando\, Florida  09-21-19\n\n\n \n\nABOUT THE MISSION: \nThe Patriot Guard Riders have the honor of standing a flag line and welcome home our heroes of the “Greatest Generation” from their trip back from Washington\, DC after visiting the various war monuments and witnessing the changing of the guard at the Tomb of the Unknowns at Arlington National Cemetery. This flight will have 24 Veterans with their escorts and medical staff.\n\n\nPRIMARY STAGING DETAILS: 09-21-19 \nStaging Time: 10:00 PM  \nFast Park & Relax\n7870 N. Frontage Rd\nOrlando\, Florida 32812\nhttp://tinyurl.com/y63ofrwu\n\n\nRide Captain: \nGene ” Doc” Goss\negoss1@brighthouse.com\n407-509-9023\n\n\nSpecial Instructions: \nFast Park and Relax is offering free parking and free shuttle service for those who greet the Honor Flights at the Orlando Int’l Airport. Bring your flags\, banners and signs to help welcome our humble WWII\, Korean & Vietnam War Heroes as they return from Washington\, DC. Please follow the thread for further updates as they become available.\n\n10:15 PM – Brief\n10:45 PM – Arrival\nFlag Line as directed by the RC.\n\n\nFlags & Water:\nFlags will not be provided\nLarge Bike Flags will NOT be needed.\nWater WILL NOT be provided\, please bring your own.\n  \n\n\n\nSubmitted By: Bernie Conner \nPosition: Florida Assistant State Captain \n\nNote: You do not have to own/ride a motorcycle or be a veteran to join\, and membership is Free. The only requirement is RESPECT! To subscribe to receive mission notices\, log into the National Site and click on the Members tab at the top. Select the Subscribe to PGR Missions option.\n Print This Page
URL:https://www.patriotguard.org/mission/honor-flight-welcome-home-25/
CATEGORIES:HOTH Mission
END:VEVENT
BEGIN:VEVENT
DTSTART;VALUE=DATE:20190921
DTEND;VALUE=DATE:20190922
DTSTAMP:20210402T050302
CREATED:20190915T203221Z
LAST-MODIFIED:20190925T011321Z
UID:174108-1569024000-1569110399@www.patriotguard.org
SUMMARY:Gold Star Family Monument
DESCRIPTION:HOTH Mission\nGold Star Family Monument\n–\nWheeling\, West Virginia – 09-21-19\n\n\n\nABOUT THE MISSION: \nThe Patriot Guard Riders have been invited to stand a flag line for The Gold Star Family Monument dedication\, September 21\, 2019\, 11:00 a.m.\, Heritage Port\, Wheeling\, WV to honor the families of service men and women who have sacrificed their lives for our country.\n\nWoody Williams will be doing the dedication ceremony.\n\nThis will be the seventh Gold Star Family Monument in West Virginia.Please come out and support this event.\n\n\nPRIMARY STAGING DETAILS: 09-21-19 \nStaging Time: 10:15 AM\n \nHeritage Port\nNorth of the amphitheater up the walking trail.\nWheeling\, West Virginia 26003\n\nhttps://tinyurl.com/yyjfexz2\n\n\n\nRide Captain: \nSusan Whitlatch (starr6562@gmail.com)\nMike Whitlatch (bumpnrun2462@aol.com)\n\n\nSpecial Instructions: \nBriefing 10:30 a.m.\n\nFlag line in place by 10:45 a.m.\n\n\nFlags & Water:\nFlags will not be provided\nLarge Bike Flags will NOT be needed.\nWater WILL NOT be provided\, please bring your own.\n\n\nSubmitted By: Delores Minear \nPosition: West Virginia HOTH Coordinator \n\nNote: You do not have to own/ride a motorcycle or be a veteran to join\, and membership is Free. The only requirement is RESPECT! To subscribe to receive mission notices\, log into the National Site and click on the Members tab at the top. Select the Subscribe to PGR Missions option.\n Print This Page
URL:https://www.patriotguard.org/mission/gold-star-family-monument/
CATEGORIES:HOTH Mission
END:VEVENT
BEGIN:VEVENT
DTSTART;VALUE=DATE:20190921
DTEND;VALUE=DATE:20190922
DTSTAMP:20210402T050302
CREATED:20190916T083534Z
LAST-MODIFIED:20190916T112607Z
UID:174187-1569024000-1569110399@www.patriotguard.org
SUMMARY:Honor Flight- PBIA
DESCRIPTION:  \n\nHOTH Mission\nHonor Flight- PBIA\nWest Palm Beach\, Florida  09-21-19\n\n\n \n\nABOUT THE MISSION: \nThe Patriot Guard Riders will stand for our heroes as they travel to Washington\, DC. Come out to show them we still remember their sacrifice for our country in time of war. All motorcycle clubs\, riders\, and patriots are welcome to stand with us. Honor Flight will have WW II\, Korea\, and Vietnam Veterans.\n\nThis is a two-part mission.\nPart 1 is a flag line to send them off. Parking will be in the Commercial Lane (arrivals) in the median. Use the area before the 1st pedestrian crosswalk. Park close! Overflow will be the next median area after the 1st pedestrian crosswalk. Cars must use the parking garage.\nPart 2 is a flag-line to welcome them home. Parking will be on the upper level (departures) at the far east-end behind the barricades. Cars must use the parking garage.\nPlease bring your 3 X 5 American flags and stand in honor and respect for our hero’s.\n\n\nPRIMARY STAGING DETAILS: 09-21-19 \nStaging Time: 3:00 AM  \nPalm Beach Int. Airport\n1000 Turnage Blvd\nWest Palm Beach\, Florida\n\n\nRide Captain: \nJeff “Cowboy” Garten\nCell (561) 662-4062\n\n\nSpecial Instructions: \n3:10 AM – Brief\n3:15 AM – Flag line by Concourse “B”.\n\n\nFlags & Water:\nFlags will not be provided.\nLarge Bike Flags will NOT be needed.\nWater WILL NOT be provided\, please bring your own.\n\nSTAGING #2 DETAILS: 09-21-19 \nStaging Time: 6:30 PM  \nPalm Beach Int. Airport\n1000 Turnage Blvd\nWest Palm Beach\, Florida\n\n\nRide Captain: \nTBD\n\n\nSpecial Instructions: \n6:45 PM- Brief\n7:00 PM– Flag line\, Upper level\, towards the east end.\nPlane lands at 7:35 PM.\n\n\nFlags & Water:\nFlags will not be provided.\nLarge Bike Flags will NOT be needed.\nWater WILL NOT be provided\, please bring your own.\n  \n\n\nSubmitted By: Jeff Garten \nPosition: Florida Assistant State Captain \n\nNote: You do not have to own/ride a motorcycle or be a veteran to join\, and membership is Free. The only requirement is RESPECT! To subscribe to receive mission notices\, log into the National Site and click on the Members tab at the top. Select the Subscribe to PGR Missions option.\n Print This Page
URL:https://www.patriotguard.org/mission/honor-flight-pbia/
CATEGORIES:HOTH Mission
END:VEVENT
BEGIN:VEVENT
DTSTART;VALUE=DATE:20190921
DTEND;VALUE=DATE:20190922
DTSTAMP:20210402T050302
CREATED:20190916T085436Z
LAST-MODIFIED:20190916T111733Z
UID:174184-1569024000-1569110399@www.patriotguard.org
SUMMARY:Honor Flight- FLL
DESCRIPTION:  \n\nHOTH Mission\nHonor Flight Welcome Home\nFt. Lauderdale\, Florida  09-21-19\n\n\n\nABOUT THE MISSION: \nThe Patriot Guard Riders will stand for our heroes as they return from Washington\, DC. Come out to show them we still remember their sacrifice for our country in time of war. All motorcycle clubs\, riders and patriots are welcome to stand with us. Honor Flight will have WW II\, Korea and Vietnam Veterans. We will stand a flag line to welcome them home. Parking will be on the upper-level parking garage. Our heroes will arrive on Spirit Airlines at Terminal 4.\nPlease bring your 3 X 5 American flags and stand in honor and respect for our hero’s.\n\n\nPRIMARY STAGING DETAILS: 09-21-19 \nStaging Time: 6:00 PM  \nFt. Lauderdale-Hollywood Int. Airport\n100 Terminal Dr.\nFt. Lauderdale\, Florida 33315\n\n\nRide Captain: \nTBD\n\n\nSpecial Instructions: \n6:30 PM– Flag-line\n\n\nFlags & Water:\nFlags will not be provided.\nLarge Bike Flags will NOT be needed.\nWater WILL NOT be provided\, please bring your own.\n  \n\n\nSubmitted By: Jeff Garten \nPosition: Florida Assistant State Captain \n\nNote: You do not have to own/ride a motorcycle or be a veteran to join\, and membership is Free. The only requirement is RESPECT! To subscribe to receive mission notices\, log into the National Site and click on the Members tab at the top. Select the Subscribe to PGR Missions option.\n Print This Page
URL:https://www.patriotguard.org/mission/honor-flight-fll/
CATEGORIES:HOTH Mission
END:VEVENT
BEGIN:VEVENT
DTSTART;VALUE=DATE:20190921
DTEND;VALUE=DATE:20190922
DTSTAMP:20210402T050302
CREATED:20190916T235814Z
LAST-MODIFIED:20190916T235814Z
UID:174370-1569024000-1569110399@www.patriotguard.org
SUMMARY:Honor Flight Kentucky Welcome Home
DESCRIPTION:HOTH Mission\nHonor Flight Kentucky Welcome Home\nUSA USMC USN USAF USCG – WWII\, Korea\, Vietnam\nLexington\, Kentucky – 09-21-19\n\n\n\n\nABOUT THE MISSION: \nHonor Flight Kentucky will be flying World War II\, Korean War and Vietnam War veterans to Washington D.C. to see their memorials that are dedicated to their service and sacrifices. The highlight of their trip is when they are “Welcomed Home” by family\, friends\, and patriots. Make plans to be part of this amazing patriotic event and take the opportunity to thank these Veterans with handshakes and hugs.\n\n\nPRIMARY STAGING DETAILS: 09-21-19 \nStaging Time: 6:00 am \nBluegrass Airport\n4000 Terminal Dr\nLexington\, Kentucky 40510\n\n\nRide Captain: \nDavid England 859-749-1810\nJohn Babcock 859-771-2140\n\n\nSpecial Instructions: \nWe will meet in the main lobby area and hold flags and greet as the Veterans get ready to board the plane for Washington DC.\n\nFlags & Water:\nFlags will be provided\nLarge Bike Flags will NOT be needed.\nWater WILL NOT be provided\, please bring your own.\n\nSTAGING #2 DETAILS: 09-21-19 \nStaging Time: 6:00 pm  \nBluegrass Airport\n4000 Terminal Drive\nLexington\, Kentucky 40510\n\n\nRide Captain: \nDavid England 859-749-1810\nJohn Babcock 859-771-2140\n\n\nSpecial Instructions: \nWe will line up with flags to “welcome home” our Veterans as they arrive at 7:30 pm.\n\nFlags & Water:\nFlags will be provided\nLarge Bike Flags will NOT be needed.\nWater WILL NOT be provided\, please bring your own.\n\n\n\nSubmitted By: Kelli Oakley \nPosition: Kentucky Ride Captain \n\nNote: You do not have to own/ride a motorcycle or be a veteran to join\, and membership is Free. The only requirement is RESPECT! To subscribe to receive mission notices\, log into the National Site and click on the Members tab at the top. Select the Subscribe to PGR Missions option.\n Print This Page
URL:https://www.patriotguard.org/mission/honor-flight-kentucky-welcome-home/
CATEGORIES:HOTH Mission
END:VEVENT
BEGIN:VEVENT
DTSTART;VALUE=DATE:20190921
DTEND;VALUE=DATE:20190922
DTSTAMP:20210402T050302
CREATED:20190917T125409Z
LAST-MODIFIED:20190917T125409Z
UID:174425-1569024000-1569110399@www.patriotguard.org
SUMMARY:Ozark Ham & Turkey Fest
DESCRIPTION:HOTH Mission\nOzark Ham & Turkey Fest\n\nCalifornia\, Missouri – 09-21-19\n\n\n\n\nABOUT THE MISSION: \nThe Patriot Guard Riders have again been graciously invited to participate in the Ozark Ham & Turkey Fest in California\, Mo.  We have been asked to lead the parade as the Color Guard.  We will have all military branch flags flying also.\n\n\nPRIMARY STAGING DETAILS: 09-21-19 \nStaging Time: 8:30 am\n \nMoniteau County Ready Mix\n810 E. Smith St\nCalifornia\, Missouri 65018\n\n\nRide Captain: \nDavid Bledsoe\nDevldog624@gmail.com\n660-473-2038\n\n\nSpecial Instructions: \nStage at Smith St and Industrial Dr in front of Moniteau County Ready Mix.\nLineup begins at 8:30 am\, Parade begins at 9:00 am.\n\nFlags & Water:\nFlags will be provided\nIf you have large bike flags\, please bring them.\nWater WILL NOT be provided\, please bring your own.\n\n\n\n\nSubmitted By: David Bledsoe \nPosition: Missouri Ride Captain \n\nNote: You do not have to own/ride a motorcycle or be a veteran to join\, and membership is Free. The only requirement is RESPECT! To subscribe to receive mission notices\, log into the National Site and click on the Members tab at the top. Select the Subscribe to PGR Missions option.\n Print This Page
URL:https://www.patriotguard.org/mission/ozark-ham-turkey-fest/
CATEGORIES:HOTH Mission
END:VEVENT
BEGIN:VEVENT
DTSTART;VALUE=DATE:20190921
DTEND;VALUE=DATE:20190922
DTSTAMP:20210402T050302
CREATED:20190917T151741Z
LAST-MODIFIED:20190917T151741Z
UID:174546-1569024000-1569110399@www.patriotguard.org
SUMMARY:"Operation Feed Our Vets"
DESCRIPTION:HOTH Mission\n“Operation Feed Our Vets”\n–\nBoynton Beach\, Florida – 09-21-19\n\n\n\nABOUT THE MISSION: \nThe Patriot Guard Riders are supporting our Veterans. We have collected non-perishable food\, gift cards and cash for Vetsville- Cease Fire House in Boynton Beach. Last minute donations will be accepted. All bikers are welcome to help us escort the donations to Vetsville. Please bring your 3 X 5 American Flags as we stand in Honor and Respect for our Veterans. Flag bikes are highly encouraged. Please hydrate.\n\n\nPRIMARY STAGING DETAILS: 09-21-19 \nStaging Time: 11:00 AM\n \nPublix @ Quantum Village (NOTE: Stage on west side)\n1005 Gateway Blvd.\nBoynton Beach\, Florida\n\n\nRide Captain: \nJeff “Cowboy” Garten\nCell (561) 662-4062\n\n\nSpecial Instructions: \n11:00am- 11:45am – Accept donations.\n11:50am- Briefing\n12:30pm- KSU\, escort to Vetsville.\n12:10pm- Arrive\, establish flag-line for presentation.\n\n\nFlags & Water:\nFlags will not be provided\nIf you have large bike flags\, please bring them.\nWater WILL NOT be provided\, please bring your own.\n\n\n\nSubmitted By: Jeff Garten \nPosition: Florida Assistant State Captain \n\nNote: You do not have to own/ride a motorcycle or be a veteran to join\, and membership is Free. The only requirement is RESPECT! To subscribe to receive mission notices\, log into the National Site and click on the Members tab at the top. Select the Subscribe to PGR Missions option.\n Print This Page
URL:https://www.patriotguard.org/mission/operation-feed-our-vets/
CATEGORIES:HOTH Mission
END:VEVENT
BEGIN:VEVENT
DTSTART;VALUE=DATE:20190921
DTEND;VALUE=DATE:20190922
DTSTAMP:20210402T050302
CREATED:20190918T174733Z
LAST-MODIFIED:20190918T174733Z
UID:174892-1569024000-1569110399@www.patriotguard.org
SUMMARY:Glendale Stand Up for Veterans
DESCRIPTION:Glendale Stand Up for Veterans \, Veteran\nUSA USMC USN USAF USCG –\nGlendale\, Arizona – 09-21-19\n\n\nABOUT THE MISSION:\n\nThe Patriot Guard Riders have been invited to participate in the Glendale Stand Up for Veterans opening ceremony. We are Honored. The September 21\, 2019 event will host representatives from support agencies\, businesses and non-profit groups to help those who have sacrificed to serve our country. For more information\, go to www.glendalestandup.org\n\n\nPRIMARY STAGING DETAILS: 09-21-19 \nStaging Time: 06:30 am \nGlendale Community College South Parking Lot\n6000 W Olive Ave\nGlendale\, Arizona 85302\n\n\nRide Captain: \nTom Burns-tgburns55@hotmail.com\nFlag Captains-Sheri and Gary\n\n\nSpecial Instructions: \nBriefing 7:00 a.m.\nAfter the briefing the PGR will form a flag line to welcome our Heroes as they enter the event. Flags are distributed to the various other groups that have come to support the Veterans. PGR members will also assist with this effort.\n\n\nFlags & Water:\nFlags will be provided\nIf you have large bike flags\, please bring them.\nWater will be provided.\n\nSubmitted By: Tom Burns \nPosition: Arizona State Captain \n\nNote: You do not have to own/ride a motorcycle or be a veteran to join\, and membership is Free. The only requirement is RESPECT! To subscribe to receive mission notices\, log into the National Site and click on the Members tab at the top. Select the Subscribe to PGR Missions option.\n Print This Page
URL:https://www.patriotguard.org/mission/glendale-stand-up-for-veterans-2/
CATEGORIES:HOTH Mission
END:VEVENT
BEGIN:VEVENT
DTSTART;VALUE=DATE:20190921
DTEND;VALUE=DATE:20190922
DTSTAMP:20210402T050302
CREATED:20190919T034950Z
LAST-MODIFIED:20190919T034950Z
UID:175132-1569024000-1569110399@www.patriotguard.org
SUMMARY:Craig Shormas
DESCRIPTION:HOTH Mission\nCraig Shormas\n–\nChesterfield\, Missouri – 09-21-19\n\n\n\nABOUT THE MISSION: \nOn Saturday September 21\, 2019\, Code 3 Response will be hosting the 4th Annual “Mike Flamion” Hotdogs With Heroes event. It will be held in the Southeast parking lot of Macy’s – Chesterfield from 11:00 – 6:00pm\, and will feature Police\, Fire\, EMS\, and Military equipment displays\, six police and medical helicopters\, live music from the Bands SuperJam\, and John Henry Band\, along with Big Foot Monster Truck\, a huge Jeep and Car show\, a large kid play area\, BBQ and beverages\, and many other activities for adults and children alike. Officer Flamion has graciously chosen Engineer/Paramedic Craig Shormas from the Monarch Fire Protection District\, who is suffering from stage 4 Metastatic Prostate Cancer\, as their 2019 Honoree.\n\n\nPRIMARY STAGING DETAILS: 09-21-19 \nStaging Time: 10:40 AM\n \nSouth East parking lot Macy’s\n49 Chesterfield Mall\nChesterfield \, Missouri 63017\n\n\nRide Captain: \nJerry “Zipper” Craft\nFixit82@aol.com\n314-574-8706\n\nFlags/Support: TBD\n\n\nSpecial Instructions: \nStage: 1040 am\nRide Meeting to Follow\nCome and go as needed.\nMission will be from 11:00am – 2:00pm\nLow 73deg High 83deg 40% chance of rain.\nDress accordingly\, Hydrate\, Hydrate\, Hydrate Please Ride/Drive Definitely.\n\n\nFlags & Water:\nFlags will be provided\nIf you have large bike flags\, please bring them.\nWater will be provided.\n\n\n\nSubmitted By: Jerry Craft \nPosition: \n\nNote: You do not have to own/ride a motorcycle or be a veteran to join\, and membership is Free. The only requirement is RESPECT! To subscribe to receive mission notices\, log into the National Site and click on the Members tab at the top. Select the Subscribe to PGR Missions option.\n Print This Page
URL:https://www.patriotguard.org/mission/craig-shormas/
CATEGORIES:HOTH Mission
END:VEVENT
BEGIN:VEVENT
DTSTART;VALUE=DATE:20190921
DTEND;VALUE=DATE:20190922
DTSTAMP:20210402T050302
CREATED:20190919T113304Z
LAST-MODIFIED:20190919T113304Z
UID:174911-1569024000-1569110399@www.patriotguard.org
SUMMARY:Key Ceremony for Sgt Bryan Camacho
DESCRIPTION:HOTH Mission\nKey Ceremony for Sgt Bryan Camacho\n–\nMurfreesboro\, Tennessee – 09-21-19\n\n\n\nABOUT THE MISSION: \nPGR will escort Sgt Bryan Camacho to a new house built and donated by Homes For Our Troops. HFOT has provided over 250 homes with special accommodations to wounded heroes. Sgt Camacho was severely wounded by an IED in Iraq in 2007 and has achieved considerable independence through rigorous therapy.\n\n\nPRIMARY STAGING DETAILS: 09-21-19 \nStaging Time: 09:00 AM\n \nMt Tabor Cumberland Presbyterian Church\n6000 Manchester Hwy (US 41)\nMurfreesboro\, Tennessee 37127\n\n\nRide Captain: \nRob Moreland\n(931) 224-0610\n\n\nSpecial Instructions: \nPGR will escort Sgt Comacho about four miles to the home site for a key ceremony.\n\n\nFlags & Water:\nFlags will be provided\nIf you have large bike flags\, please bring them.\nWater WILL NOT be provided\, please bring your own.\n\n\n\nSubmitted By: David Westhorp \nPosition: Tennessee State Captain \n\nNote: You do not have to own/ride a motorcycle or be a veteran to join\, and membership is Free. The only requirement is RESPECT! To subscribe to receive mission notices\, log into the National Site and click on the Members tab at the top. Select the Subscribe to PGR Missions option.\n Print This Page
URL:https://www.patriotguard.org/mission/key-ceremony-for-sgt-bryan-camacho/
CATEGORIES:HOTH Mission
END:VEVENT
BEGIN:VEVENT
DTSTART;VALUE=DATE:20190921
DTEND;VALUE=DATE:20190922
DTSTAMP:20210402T050302
CREATED:20190919T113732Z
LAST-MODIFIED:20190919T113732Z
UID:175178-1569024000-1569110399@www.patriotguard.org
SUMMARY:Utah Honor Flight Welcome Home
DESCRIPTION:HOTH Mission\nUtah Honor Flight Welcome Home\n–\nSLC\, Utah – 09-21-19\n\n\n\nABOUT THE MISSION: \nThe Patriot Guard Riders have been requested to stand a flag line for the Utah Honor Flight. The escort will take place at the Salt Lake International Airport in Salt Lake at 5:00 PM. We will stand a flag line at the Airport while the heroes board the buses. We will then escort them to the Utah National Guard Armory. If at all possible\, please attend. Bring your friends and family. It is an experience they will never forget. This is a great time to honor our nation’s heroes. Cages (cars) are very welcome. Thank you to all that serve(d) and protect(ed) this great nation. Anyone attending in a cage and willing to transport the flags please contact Russ Smith at: 801-450-8317.\n\n\nPRIMARY STAGING DETAILS: 09-21-19 \nStaging Time: 4:00 PM\n \nUtah National Guard Armory\n1640 N 2200 W\nSLC\, Utah\n\n\nRide Captain: \nRuss Smith\n801-450-8317\n\n\nSpecial Instructions: \nKSU: 4:30 PM\nWeather: Sunny with a high of 67.\nPlease dress accordingly and keep yourself hydrated.\n\n\nFlags & Water:\nFlags will be provided\nIf you have large bike flags\, please bring them.\nWater WILL NOT be provided\, please bring your own.\n\n\n\nSubmitted By: Dave Richardson \nPosition: Utah State Captain \n\nNote: You do not have to own/ride a motorcycle or be a veteran to join\, and membership is Free. The only requirement is RESPECT! To subscribe to receive mission notices\, log into the National Site and click on the Members tab at the top. Select the Subscribe to PGR Missions option.\n Print This Page
URL:https://www.patriotguard.org/mission/utah-honor-flight-welcome-home-6/
CATEGORIES:HOTH Mission
END:VEVENT
END:VCALENDAR