BEGIN:VCALENDAR
VERSION:2.0
PRODID:-//Patriot Guard Riders - ECPv5.3.2.1//NONSGML v1.0//EN
CALSCALE:GREGORIAN
METHOD:PUBLISH
X-WR-CALNAME:Patriot Guard Riders
X-ORIGINAL-URL:https://www.patriotguard.org
X-WR-CALDESC:Events for Patriot Guard Riders
BEGIN:VTIMEZONE
TZID:America/New_York
BEGIN:DAYLIGHT
TZOFFSETFROM:-0500
TZOFFSETTO:-0400
TZNAME:EDT
DTSTART:20190310T070000
END:DAYLIGHT
BEGIN:STANDARD
TZOFFSETFROM:-0400
TZOFFSETTO:-0500
TZNAME:EST
DTSTART:20191103T060000
END:STANDARD
END:VTIMEZONE
BEGIN:VEVENT
DTSTART;VALUE=DATE:20190920
DTEND;VALUE=DATE:20190921
DTSTAMP:20210402T045748
CREATED:20190831T154240Z
LAST-MODIFIED:20190906T155319Z
UID:172395-1568937600-1569023999@www.patriotguard.org
SUMMARY:Kent Island HS Veterans & 1st Responders Appreciation Night
DESCRIPTION:NOTE UPDATED DATE CHANGE!!\nHOTH Mission\nKent Island HS Veterans & 1st Responders Appreciation Night\n\nStevensville\, Maryland – 09-20-19\n\n\n\nABOUT THE MISSION: \nThe MD Patriot Guard has once again been invited for the ninth year\, to escort and present the colors at Kent Island High School home football game\, on Friday 20 Sept. 2019.  An annual event\, the school honors wounded Warriors\, Military\, Veterans and all 1st Responders \, in order to remind the community that our freedom is not free.  PGR participation is important to the community of Stevensville\, MD and we are honored to attend.  All are encouraged to attend\, bikes or cages.  Bikes with mounted flags will be priority\, as this involves a motorized flag line during the opening ceremonies.\n\n\nPRIMARY STAGING DETAILS: 09-20-19 \nStaging: 5:30 PM\n \nShore Stop\nLove Point Rd. (Rt #8) and Main St.\nStevensville\, Maryland 21666\n\n\nRide Captain: \nJim “Bubba” Hutson\njimbarbhutson@atlanticbb.net\n410-827-4718\n\n\nSpecial Instructions: \nStage: 5:30 PM\nBrief: 5:45 PM\nKSU: 6:00 PM\, for one mile ride to School Stadium.\nOpening ceremonies: 6:50 PM\n\n\nFlags & Water:\nFlags will not be provided\nIf you have large bike flags\, please bring them.\nWater WILL NOT be provided\, please bring your own.\n\nSubmitted By: William Johnston \nPosition: Maryland Assistant State Captain \n\nNote: You do not have to own/ride a motorcycle or be a veteran to join\, and membership is Free. The only requirement is RESPECT! To subscribe to receive mission notices\, log into the National Site and click on the Members tab at the top. Select the Subscribe to PGR Missions option.\n Print This Page
URL:https://www.patriotguard.org/mission/kent-island-hs-veterans-1st-responders-appreciation-night/
CATEGORIES:HOTH Mission
END:VEVENT
BEGIN:VEVENT
DTSTART;VALUE=DATE:20190920
DTEND;VALUE=DATE:20190921
DTSTAMP:20210402T045748
CREATED:20190915T020353Z
LAST-MODIFIED:20190915T020353Z
UID:174028-1568937600-1569023999@www.patriotguard.org
SUMMARY:Military Appreciation Day
DESCRIPTION:HOTH Mission\nMilitary Appreciation Day\nMarietta \, Georgia – 09-20-19\n\n\n\n\nABOUT THE MISSION: \nThe Patriot Guard Riders have been invited to participate in the Kell High School Military Appreciation night celebration Friday night September 20 2019. We have been requested to stand a silent flag line pre-game during the Playing of the National Anthem and at half time of the football game when current and former members of the military are honored for their service. We will have free passes for the game and parking. We will need a head count so that they can arrange for our reserved seats and parking. Please call Dawn Wood at 678 761-5161 before the end of the day Tuesday September 17th and let her know if you will be able to attend. This event has grown over the years and it is an honor to be invited to participate. We will need to be on site NLT 6:30 PM so we can get to the Field for the National Anthem approximately 7:15 PM. I am hoping for a good turnout .\n\n\nPRIMARY STAGING DETAILS: 09-20-19 \nStaging Time: 6:15 pm \nKell High School Parking Lot\n4770 Lee Waters Rd.\nMarietta \, Georgia 30066\n\n\nRide Captain: \nWilliam “Buffalo Bill” Kalway\n404 545 5140\nw.kalway@comcast.net\n\n\nSpecial Instructions: \nWe will stage in the parking lot (reserved Parking) for a short briefing and then proceed to our assigned location with flags.\n\n\nFlags & Water:\n\nFlags will be provided\nLarge Bike Flags will NOT be needed.\nWater will be provided.\n\n\n\nSubmitted By: William Kalway \nPosition: \n\nNote: You do not have to own/ride a motorcycle or be a veteran to join\, and membership is Free. The only requirement is RESPECT! To subscribe to receive mission notices\, log into the National Site and click on the Members tab at the top. Select the Subscribe to PGR Missions option.\n Print This Page
URL:https://www.patriotguard.org/mission/military-appreciation-day-3/
CATEGORIES:HOTH Mission
END:VEVENT
BEGIN:VEVENT
DTSTART;VALUE=DATE:20190920
DTEND;VALUE=DATE:20190922
DTSTAMP:20210402T045748
CREATED:20190915T100744Z
LAST-MODIFIED:20190915T100744Z
UID:174043-1568937600-1569110399@www.patriotguard.org
SUMMARY:Vietnam - GWoT Wall Display
DESCRIPTION:  \n\nHOTH Mission\nVietnam – GWoT Wall Display\n\nKissimmee\, Florida  09-20&21-19\n\n\n \n\nABOUT THE MISSION: \nThe USO (United Service Organization) has requested the PGR set-up and display our Vietnam & Global War on Terrorism Walls during their 15th Annual USO Motorcycle Benefit Ride. The walls need to be in place by 8:00 AM\, Saturday the 21st. Since it takes several hours to set up the Vietnam Wall\, weather permitting\, we will set it up on Friday the 20th\, and set up the GWoT Wall Saturday morning. Volunteers are needed to help set up the Vietnam Wall on Friday at 10:00 AM and to set up the GWoT Wall\, tents\, computers and printers on Saturday at 7:00 AM. In addition\, volunteers will be needed to assist with the event on Saturday from 8:00 AM until approximately 3:00 PM. We will make a short presentation about the PGR on the main stage prior to the start of the ride at 10:30 AM.  Approximately 600 riders are expected to attend this event along with a dozen or so vendors. Any assistants you can provide would be greatly appreciated.\n\n\nPRIMARY STAGING DETAILS: 09-20-19 \nStaging Time: 10:00 AM  \nAustin-Tindall Regional Park\n4100 Boggy Creek Rd.\nKissimmee\, Florida 34744\nhttps://tinyurl.com/yy2y2qfm\n\n\nRide Captain: \nRobert “Garfield” Warren\nbusdrvrrlw70@gmail.com\n321-945-2589\n\n\nSpecial Instructions: \nEarly set-up of the Vietnam Wall\n\n\nFlags & Water:\nFlags will not be provided\nLarge Bike Flags will NOT be needed.\nWater will be provided.\n\nSTAGING #2 DETAILS: 09-21-19 \nStaging Time: 7:00 AM  \nAustin-Tindall Regional Park\n4100 Boggy Creek Rd.\nKissimmee\, Florida 34744\nhttps://tinyurl.com/yy2y2qfm\n\n\nRide Captain: \nRobert “Garfield” Warren\nbusdrvrrlw70@gmail.com\n321-945-2589\n\n\nSpecial Instructions: \nSet-up GWot Wall\, tents\, computers & printers. Assist with the event from 8:00 AM until 3:00 PM\n\n\nFlags & Water:\nFlags will not be provided\nLarge Bike Flags will NOT be needed.\nWater will be provided.\n  \n\n\n\nSubmitted By: David Shelton \nPosition: Florida State Captain \n\nNote: You do not have to own/ride a motorcycle or be a veteran to join\, and membership is Free. The only requirement is RESPECT! To subscribe to receive mission notices\, log into the National Site and click on the Members tab at the top. Select the Subscribe to PGR Missions option.\n Print This Page
URL:https://www.patriotguard.org/mission/vietnam-gwot-wall-display/
CATEGORIES:HOTH Mission
END:VEVENT
BEGIN:VEVENT
DTSTART;VALUE=DATE:20190920
DTEND;VALUE=DATE:20190921
DTSTAMP:20210402T045748
CREATED:20190915T171516Z
LAST-MODIFIED:20190915T171516Z
UID:172196-1568937600-1569023999@www.patriotguard.org
SUMMARY:Prescott VA Annual POW/MIA Remembrance Ceremony
DESCRIPTION:HOTH Mission\nPrescott VA Annual POW/MIA Remembrance Ceremony\nPrescott\, Arizona – 09-20-19\n\n\n\n\nABOUT THE MISSION: \nThe PGR has been requested to have a Flag Line at the Prescott VA’s annual POW/MIA Ceremony to honor and remember former Prisoners of War and those who are still Missing in Action.\n\n\nPRIMARY STAGING DETAILS: 09-20-19 \nStaging Time: 09:15 am \nPrescott VA”The Gazebo” (next to Building 154\, the Library)\nPrescott\, Arizona 86313\nbit.ly/2MFaqGh\n\n\nRide Captain: \nMike Ammons 408-679-3695\ntnthd213@gmail.com\n\n\nSpecial Instructions: \nBriefing/Circle of Honor  – 9:40 AM\nFlag Line – 9:50 AM\nFlag Captain : Gary Sheldon\n\nStaging location: Go past the VA Chapel to the end of the road. The VA Gazebo is around the circle on your right hand side (next to Building 154\, the VA Library). On-street parking is limited; suggest turning right at the end of the road to park in the VA Visitor’s Parking Lot or else in the lot across from the VA Chapel.\n\n\nFlags & Water:\nFlags will be provided\nLarge Bike Flags will NOT be needed.\nWater will be provided.\n\nSubmitted By: John Moffitt \nPosition: Arizona Assistant State Captain \n\nNote: You do not have to own/ride a motorcycle or be a veteran to join\, and membership is Free. The only requirement is RESPECT! To subscribe to receive mission notices\, log into the National Site and click on the Members tab at the top. Select the Subscribe to PGR Missions option.\n Print This Page
URL:https://www.patriotguard.org/mission/prescott-va-annual-pow-mia-remembrance-ceremony/
CATEGORIES:HOTH Mission
END:VEVENT
BEGIN:VEVENT
DTSTART;VALUE=DATE:20190920
DTEND;VALUE=DATE:20190921
DTSTAMP:20210402T045748
CREATED:20190915T225114Z
LAST-MODIFIED:20190915T225114Z
UID:174110-1568937600-1569023999@www.patriotguard.org
SUMMARY:The Traveling Kentucky Vietnam Wall
DESCRIPTION:HOTH Mission\nThe Traveling Kentucky Vietnam Wall\n–\nLexington\, Kentucky – 09-20-19\n\n\n\nABOUT THE MISSION: \nWe have been asked to escort the Kentucky Vietnam Traveling Wall from the Lexington\, Ky Walmart to the Winchester\, Ky Walmart for viewing. It will be our honor to do this mission.\n\n\nPRIMARY STAGING DETAILS: 09-20-19 \nStaging Time: 12:30 PM\n \nHamburg Walmart\n2350 Grey Lag Way\nLexington\, Kentucky 40509\n\n\nRide Captain: \nJohn Babcock\n859-771-2140\n\n\nSpecial Instructions: \nStaging in front of the Hamburg Walmart Entrance.\nKSU 1:00 pm to Winchester Walmart\, 1859 Bypass Rd\, Winchester\, KY 40391.\n\n\nFlags & Water:\nFlags will be provided\nIf you have large bike flags\, please bring them.\nWater WILL NOT be provided\, please bring your own.\n\n\n\nSubmitted By: Kelly Shehan \nPosition: Kentucky Ride Captain \n\nNote: You do not have to own/ride a motorcycle or be a veteran to join\, and membership is Free. The only requirement is RESPECT! To subscribe to receive mission notices\, log into the National Site and click on the Members tab at the top. Select the Subscribe to PGR Missions option.\n Print This Page
URL:https://www.patriotguard.org/mission/the-traveling-kentucky-vietnam-wall-2/
CATEGORIES:HOTH Mission
END:VEVENT
BEGIN:VEVENT
DTSTART;VALUE=DATE:20190920
DTEND;VALUE=DATE:20190921
DTSTAMP:20210402T045748
CREATED:20190915T234824Z
LAST-MODIFIED:20190915T234824Z
UID:174102-1568937600-1569023999@www.patriotguard.org
SUMMARY:Tunnel to Towers 5K
DESCRIPTION:HOTH Mission\nTunnel to Towers 5K\n–\nColumbia\, South Carolina – 09-20-19\n\n\n\nABOUT THE MISSION: \nSouth Carolina runners will include New York City firefighters\, Fort Jackson Soldiers\, Midlands’ first responders and family members of our fallen heroes. The ALR\, CVMA\, PGR\, and other invited guests will honor those serving and those who have paid the ultimate sacrifice for our country. All groups\, all riders\, all non-riders are welcome to stand. Please join us as we stand a flag line to show those in attendance that the American people support them and appreciate their service and sacrifice. The Tunnel to Towers 5K is named in memory of Stephen Siller\, a New York City firefighter (FDNY) who lost his life on September 11\, 2001 after strapping on his gear and running through the Brooklyn Battery Tunnel to the Twin Towers.\n\n\nPRIMARY STAGING DETAILS: 09-20-19 \nStaging Time: 6:30 PM\n \nUSC Baseball Parking Area\n409 Blossom St\nColumbia\, South Carolina 29201\nMap\n\n\nRide Captain: \nL.Z. Harrison\, Jr.\n(803) 360-3830\n\n\nSpecial Instructions: \nStage at intersection of Blossom Street and Williams by Carolina baseball Stadium\, in the back of the parking for the China Buffet restaurant.\nWe will establish a flag line along the Blossom Street Bridge to honor and support the runners on their journey.\nPlease come out and support if possible. Flags will be provided.\n\n\nFlags & Water:\nFlags will be provided\nLarge Bike Flags will NOT be needed.\nWater will be provided.\n\n\n\nSubmitted By: L.Z. Harrison\, Jr. \nPosition: South Carolina Assistant State Captain \n\nNote: You do not have to own/ride a motorcycle or be a veteran to join\, and membership is Free. The only requirement is RESPECT! To subscribe to receive mission notices\, log into the National Site and click on the Members tab at the top. Select the Subscribe to PGR Missions option.\n Print This Page
URL:https://www.patriotguard.org/mission/tunnel-to-towers-5k/
CATEGORIES:HOTH Mission
END:VEVENT
BEGIN:VEVENT
DTSTART;VALUE=DATE:20190920
DTEND;VALUE=DATE:20190921
DTSTAMP:20210402T045748
CREATED:20190916T001925Z
LAST-MODIFIED:20190916T002213Z
UID:174021-1568937600-1569023999@www.patriotguard.org
SUMMARY:POW/MIA Remembrance Day Candle Light Vigil
DESCRIPTION:HOTH Mission\nPOW/MIA Remembrance Day Candle Light Vigil\nTallahassee\, Florida\n09-20-19\n\n\nABOUT THE MISSION:\n\nThe Patriot Guard Riders will stand a flag line at the Tallahassee National Cemetery for the POW/MIA Remembrance Day Candle Light Vigil. This is to honor all of those who were captured in the line of duty or are still missing in action all in the name of preserving freedom. The program is scheduled to run from 8:00 PM to 9:30 PM.\n\n\nPRIMARY STAGING DETAILS: 09-20-19  \nStaging Time: 7:00 PM \nWalmart Super Center\n3535 Apalachee Parkway\nTallahassee\, Florida 32311\nMap Link\n\n\n  \nRide Captain: \nDon Reeder\n850-933-0886\nFloridaSailor@comcast.net\n\n\nSpecial Instructions: \nBriefing: 7:15 PM\nKSU: 7:20 PM\n\n\nFlags & Water:\nFlags will be provided\nLarge Bike Flags will NOT be needed.\nWater WILL NOT be provided\, please bring your own.\n\n\n\nSubmitted By: Don Reeder \nPosition: Florida Assistant State Captain \n\n\nNote: You do not have to own/ride a motorcycle or be a veteran to join\, and membership is Free. The only requirement is RESPECT! To subscribe to receive mission notices\, log into the National Site and click on the Members tab at the top. Select the Subscribe to PGR Missions option.
URL:https://www.patriotguard.org/mission/pow-mia-remembrance-day-candle-light-vigil/
CATEGORIES:HOTH Mission
END:VEVENT
BEGIN:VEVENT
DTSTART;VALUE=DATE:20190920
DTEND;VALUE=DATE:20190921
DTSTAMP:20210402T045748
CREATED:20190916T173712Z
LAST-MODIFIED:20190916T173822Z
UID:174240-1568937600-1569023999@www.patriotguard.org
SUMMARY:Hometown Hero Banner Dedication
DESCRIPTION:HOTH Mission\nHometown Hero Banner Deication\nDoylestown\, Pennsylvania – 09-20-19\n\n\n\nABOUT THE MISSION: \nA request has been made for the Patriot Guard Riders to form a flag line and stand in honor as Memorial Banners are dedicated at the Freedom Square in Doylestown\, Pa. These banners are to honor two active duty military members who lost their lives all while protecting the nation’s freedom. Navy Ens Sarah Mitchell and Army Cpt. Connor Bednarzyk will be honored this day as the banners are dedicated. These two brave active military members are true American heroes and it is our turn to show them and their families the honor. and respect so due them\n\n\nPRIMARY STAGING DETAILS: 09-20-19 \nStaging Time: 3:00 pm  \nFreedom SquareN. Pine St\nDoylestown\, Pennsylvania 18901\nhttps://goo.gl/maps/ZLayVNnfmuC5HHcG9\n\n\nRide Captain: \nMark Fiore\nPhone: 215-431-5073\nE-Mail: markbennyfiore@gmail.com\n\n\nSpecial Instructions: \nStaging at the Freedom Square to set up the flag line for 3:30 pm. Dedication ceremony will start at 4:00 pm.Parking may be a challenge. Street parking if possible or parking at the Bucks County Parking Garage\, Union and N. Broad St.. Free Parking but about 3 blocks away from the square. https://goo.gl/maps/PHgAhpuuPtpkTc2s5\n\n\nFlags & Water:\nFlags will not be provided\nLarge Bike Flags will NOT be needed.\nWater WILL NOT be provided\, please bring your own.\n\n\nSubmitted By: Joyce Pawlowski \nPosition: Pennsylvania HOTH Coordinator \n\nNote: You do not have to own/ride a motorcycle or be a veteran to join\, and membership is Free. The only requirement is RESPECT! To subscribe to receive mission notices\, log into the National Site and click on the Members tab at the top. Select the Subscribe to PGR Missions option.\n Print This Page
URL:https://www.patriotguard.org/mission/hometown-hero-banner-dedication/
CATEGORIES:HOTH Mission
END:VEVENT
BEGIN:VEVENT
DTSTART;VALUE=DATE:20190920
DTEND;VALUE=DATE:20190921
DTSTAMP:20210402T045748
CREATED:20190916T174623Z
LAST-MODIFIED:20190916T174623Z
UID:174206-1568937600-1569023999@www.patriotguard.org
SUMMARY:POW/MIA Ceremony
DESCRIPTION:HOTH Mission\nPOW/MIA Ceremony\nPocasset\, Massachusetts – 09-20-19\n\n\n\nABOUT THE MISSION: \nThe staff at the Massachsuetts National Cemetery have requested our presence at the POW /MIA ceremony.\n\n\nPRIMARY STAGING DETAILS: 09-20-19 \nStaging Time: 5:00 pm  \nCape Cod Harley Davidson\n750 MacArthur Blvd. (RT28)\nPocasset\, Massachusetts 02559\n\n\nRide Captain: \nRoche\nrichardrocheleau106@yahoo.com\n\n\nSpecial Instructions: \nBreifing/ksu 5:45PM\nWe will then proceed to the Massachusetts National Cemetery Connery Ave. Bourne MA 02532\n\n\nFlags & Water:\nFlags will be provided\nLarge Bike Flags will NOT be needed.\nWater WILL NOT be provided\, please bring your own.\n\nSubmitted By: Steven Vieira \nPosition: Massachusetts Assistant State Captain \n\nNote: You do not have to own/ride a motorcycle or be a veteran to join\, and membership is Free. The only requirement is RESPECT! To subscribe to receive mission notices\, log into the National Site and click on the Members tab at the top. Select the Subscribe to PGR Missions option.\n Print This Page
URL:https://www.patriotguard.org/mission/pow-mia-ceremony-5/
CATEGORIES:HOTH Mission
END:VEVENT
BEGIN:VEVENT
DTSTART;VALUE=DATE:20190920
DTEND;VALUE=DATE:20190921
DTSTAMP:20210402T045748
CREATED:20190916T213852Z
LAST-MODIFIED:20190916T213852Z
UID:174308-1568937600-1569023999@www.patriotguard.org
SUMMARY:POW/MIA Day Observance
DESCRIPTION:HOTH Mission\nPOW/MIA Day Observance\, POW/MIA\nThe Dalles\, Oregon – 09-20-19\n\n\n\nABOUT THE MISSION: \nPatriot Guard Riders\, the Mid Columbia Veterans Memorial Committee has asked for your presence to stand the line at the Annual observance of the POW/MIA Day Ceremony.\n\n\nPRIMARY STAGING DETAILS: 09-20-19 \nStaging Time: 5:15 pm\n \nKelly Viewpoint at Sorosis Park\n300 E Scenic Drive\nThe Dalles\, Oregon 97058\n\nMap\n\n\nRide Captain: \nBob Canavan\n206-498-5292\nbcan77@aol.com\n\n\nSpecial Instructions: \nStage at the west end of the viewpoint parking lot. Opposite end from the Memorial.\n\nBriefing: 5:30 pm\nFlagline Set: as needed\nService Starts: 6:00 pm\n\n\nFlags & Water:\n\n\nFlags will not be provided\nLarge Bike Flags will NOT be needed.\nWater WILL NOT be provided\, please bring your own.\n\n\nSubmitted By: John Hanan II \nPosition: Oregon State Captain \n\nNote: You do not have to own/ride a motorcycle or be a veteran to join\, and membership is Free. The only requirement is RESPECT! To subscribe to receive mission notices\, log into the National Site and click on the Members tab at the top. Select the Subscribe to PGR Missions option.\n Print This Page
URL:https://www.patriotguard.org/mission/pow-mia-day-observance/
CATEGORIES:HOTH Mission
END:VEVENT
BEGIN:VEVENT
DTSTART;VALUE=DATE:20190920
DTEND;VALUE=DATE:20190921
DTSTAMP:20210402T045748
CREATED:20190916T223405Z
LAST-MODIFIED:20190916T223405Z
UID:174344-1568937600-1569023999@www.patriotguard.org
SUMMARY:Korean War Veterans Commemoration Ceremony
DESCRIPTION:HOTH Mission\nKorean War Veterans Commemoration Ceremony\nUSA USMC USN USAF USCG – Korea\nFrankfort\, Kentucky – 09-20-19\n\n\n\nABOUT THE MISSION: \nThe Patriot Guard has been requested to stake flags and honor the Korean War Veterans that will be recognized and receive the Ambassador for Peace Medallions and Certificates. This ceremony is hosted and will be presented by The Kentucky Department of Veterans Affairs and the Republic of South Korea.\n\n\nPRIMARY STAGING DETAILS: 09-20-19 \nStaging Time: 09:30 AM\n \nBoone National Guard Center Wellman Armory\n100 Minuteman Parkway\nFrankfort\, Kentucky 40601\n\n\nRide Captain: \nKelli Oakley\n859-433-6495\nkellioakley@yahoo.com\n\n\nSpecial Instructions: \nStake flags at 9:30am.\nFamilies and Friends arrive 10:30am.\nCeremony begins at 11am.\nImportant Note: Please let Kelli Oakley know by phone or email if you plan on attending\, if possible\, so that she can add you to the list at the gate so the process of entering will be easier to go through. You can still attend if you are not on the list\, but it will be more convenient and a quicker process for you if you can let her know.\nAlso\, please remember this is a National Guard Center.\nLet’s show our Korean War Veterans that we appreciate their service.\n\n\nFlags & Water:\nFlags will be provided\nIf you have large bike flags\, please bring them.\nWater will be provided.\n\n\n\nSubmitted By: Kelli Oakley \nPosition: Kentucky Ride Captain \n\nNote: You do not have to own/ride a motorcycle or be a veteran to join\, and membership is Free. The only requirement is RESPECT! To subscribe to receive mission notices\, log into the National Site and click on the Members tab at the top. Select the Subscribe to PGR Missions option.\n Print This Page
URL:https://www.patriotguard.org/mission/korean-war-veterans-commemoration-ceremony/
CATEGORIES:HOTH Mission
END:VEVENT
BEGIN:VEVENT
DTSTART;VALUE=DATE:20190920
DTEND;VALUE=DATE:20190921
DTSTAMP:20210402T045748
CREATED:20190917T002245Z
LAST-MODIFIED:20190917T002245Z
UID:174372-1568937600-1569023999@www.patriotguard.org
SUMMARY:POW/MIA Watchfire Ceremony
DESCRIPTION:HOTH Mission\nPOW/MIA Watchfire Ceremony\nUSA USMC USN USAF USCG –\nSt Charles\, Missouri – 09-20-19\n\n\n\nABOUT THE MISSION: \nThe Saint Charles Veterans Commission has requested the Patriot Guard Riders stand a flag line during the annual ceremony at the Veterans Memorial to commemorate all active military\, veterans\, and all POW/MIA on Friday night. The event is known as a “Watch Fire\,” a long-standing tradition to build large fires to guide returning soldiers and militia back to their camp or village. The modern day watch fire is a symbolic event: a fire lit in hopes that all of America’s soldiers held as prisoners of war and those missing in action will find their way home. These symbolic fires are lit to provide hope to family members that the missing may yet be found and brought home. Everyone is invited to attend.\n\n\nPRIMARY STAGING DETAILS: 09-20-19 \nStaging Time: 5:45 PM\n \nVacant parking lot adjacent to the AT&T Building on Clark Street\, across from the Academy of the Sacred Heart at Clark and Second Street (South side of Clark Street\, between 2nd & 3rd)\nSt Charles\, Missouri 63301\n\n\nRide Captain: \nNeil “Nitehawk” Hill\n314-808-2568\nnitehawk.pgr@gmail.com\n\nFlags and support: Mike “Mr Jenx” Jenkins\n\n\nSpecial Instructions: \nRide meeting at 5:55 PM\nKSU 6:05 PM\nWe will proceed with police escort to the Veteran’s Memorial at Bishop’s Landing and will park together in a private parking area.\nCeremony 6:30 PM\nFlag line will be at the Veterans Memorial site.\nWeather is expected to be mostly sunny with temps falling from a high of 88 degrees.\n\n\nFlags & Water:\nFlags will be provided\nIf you have large bike flags\, please bring them.\nWater will be provided.\n\n\n\nSubmitted By: Neil Hill \nPosition: Missouri Ride Captain \n\nNote: You do not have to own/ride a motorcycle or be a veteran to join\, and membership is Free. The only requirement is RESPECT! To subscribe to receive mission notices\, log into the National Site and click on the Members tab at the top. Select the Subscribe to PGR Missions option.\n Print This Page
URL:https://www.patriotguard.org/mission/pow-mia-watchfire-ceremony/
CATEGORIES:HOTH Mission
END:VEVENT
BEGIN:VEVENT
DTSTART;VALUE=DATE:20190920
DTEND;VALUE=DATE:20190921
DTSTAMP:20210402T045748
CREATED:20190918T125125Z
LAST-MODIFIED:20190918T125125Z
UID:174869-1568937600-1569023999@www.patriotguard.org
SUMMARY:Battle High School
DESCRIPTION:HOTH Mission\nBattle High School\n\nColumbia\, Missouri – 09-20-19\n\n\n\n\nABOUT THE MISSION: \nThe Patriot Guard has been requested to ride in for the National Anthem for the Battle HS Football game Friday night 9/20/2019 in Columbia Mo.\n\n\nPRIMARY STAGING DETAILS: 09-20-19 \nStaging Time: 6:00 pm  \n7575 E. St Charles Rd\nColumbia\, MO 65202 \n\n\n\nRide Captain: \nJames Maxwell (Patriotryder)\njemaxwell1@gmail.com\n(573)808-2173\n\n\nSpecial Instructions: \nWe will stage on the east side of the school at the gate for the football field.  Ride briefing at 6:15 pm with game start time at 7:00 pm. We will ride in around the track and dismount in front of the stands for the National Anthem.  After the Anthem we are welcome to stay and watch the game.  If you have large flags please bring them.\n\nFlags & Water:\nFlags will not be provided\nIf you have large bike flags\, please bring them.\nWater WILL NOT be provided\, please bring your own.\n\n\n\n\nSubmitted By: James Maxwell \nPosition: \n\nNote: You do not have to own/ride a motorcycle or be a veteran to join\, and membership is Free. The only requirement is RESPECT! To subscribe to receive mission notices\, log into the National Site and click on the Members tab at the top. Select the Subscribe to PGR Missions option.\n Print This Page
URL:https://www.patriotguard.org/mission/battle-high-school/
CATEGORIES:HOTH Mission
END:VEVENT
BEGIN:VEVENT
DTSTART;TZID=America/New_York:20190920T000000
DTEND;TZID=America/New_York:20190920T000000
DTSTAMP:20210402T045748
CREATED:20190920T161526Z
LAST-MODIFIED:20190920T161526Z
UID:175660-1568937600-1568937600@www.patriotguard.org
SUMMARY:Clarence "CW" Owens
DESCRIPTION:HOTH Mission\nClarence “CW” Owens\nUSN – WWII\nHuntsville\, Alabama – 09-22-19\n\n\n\nABOUT THE MISSION: \nAfter serving in the Navy during WWII\, flying F4’s and F5’s\, Mr. Owens also served on the USS St. Louis and the USS South Dakota.After leaving the Navy Mr. Owens returned to Huntsville and became a motorcycle officer with Huntsville Police Department.\nLater he also worked for the Madison County Sheriff’s Department. He has been an avid “biker” his whole life.\nMr. Owens will be joining friends at the Sundown Club for a birthday celebration\, where the Patriot Guard Riders have been asked to “ride by” and stop to wish him a Happy Birthday.\nWe would be honored to show some appreciation to this WWII Veteran and former Law Enforcement Officer.\n\n\nPRIMARY STAGING DETAILS: 09-22-19 \nStaging Time: 1:30 pm  \nThe Sundown Club\n409 Oakwood Ave\nHuntsville\, Alabama 35811\nhttps://www.google.com/maps/place/Sundown+Club/@34.7490531\,-86.5893259\,15z/data=!4m5!3m4!1s0x0:0x64a7b379348a4ede!8m2!3d34.7490531!4d-86.5893259\n\n\nRide Captain: \nTama Morgan\n256-503-0818\ntmorgan@mdmechanical.com\n\n\n\n\nFlags & Water:\nFlags will not be provided\nLarge Bike Flags will NOT be needed.\nWater WILL NOT be provided\, please bring your own.\n\n\nSubmitted By: Dolores Stephenson \nPosition: Alabama Assistant State Captain \n\nNote: You do not have to own/ride a motorcycle or be a veteran to join\, and membership is Free. The only requirement is RESPECT! To subscribe to receive mission notices\, log into the National Site and click on the Members tab at the top. Select the Subscribe to PGR Missions option.\n Print This Page
URL:https://www.patriotguard.org/mission/clarence-cw-owens/
CATEGORIES:HOTH Mission
END:VEVENT
END:VCALENDAR