BEGIN:VCALENDAR
VERSION:2.0
PRODID:-//Patriot Guard Riders - ECPv5.3.2.1//NONSGML v1.0//EN
CALSCALE:GREGORIAN
METHOD:PUBLISH
X-WR-CALNAME:Patriot Guard Riders
X-ORIGINAL-URL:https://www.patriotguard.org
X-WR-CALDESC:Events for Patriot Guard Riders
BEGIN:VTIMEZONE
TZID:America/New_York
BEGIN:DAYLIGHT
TZOFFSETFROM:-0500
TZOFFSETTO:-0400
TZNAME:EDT
DTSTART:20190310T070000
END:DAYLIGHT
BEGIN:STANDARD
TZOFFSETFROM:-0400
TZOFFSETTO:-0500
TZNAME:EST
DTSTART:20191103T060000
END:STANDARD
END:VTIMEZONE
BEGIN:VEVENT
DTSTART;VALUE=DATE:20190913
DTEND;VALUE=DATE:20190914
DTSTAMP:20210402T050224
CREATED:20190906T150527Z
LAST-MODIFIED:20190906T174447Z
UID:172995-1568332800-1568419199@www.patriotguard.org
SUMMARY:Honor Flight
DESCRIPTION:HOTH Mission\nHonor Flight\nSavannah\, Georgia – 09-13-19\n\n\n ABOUT THE MISSION:\n\n\nHonor Flight Savannah has invited the Patriot Guard Riders to escort the heroes as they depart to visit their monuments in Washington\, DC and it will be our honor to oblige. Honor Flight transports America’s veterans to Washington\, DC to visit memorials dedicated to honor the service and sacrifices of themselves and their friends at no cost to the veteran.\n\n\nPRIMARY STAGING DETAILS: 09-13-19 \nStaging Time: 06:00 am  \nHunter Army Airfield Montgomery Street Gate\n(There is no street address for the gate\, closest intersection is Montgomery St and Mildred St)\nSavannah\, Georgia 31409\n\n\nRide Captain: \nGregory “LT” Ernst\ngernst1856@gmail.com\n912-856-0507\n\n\nSpecial Instructions: \nAfter the briefing at 06:15 am we will ride to the Tominac Fitness Center and stand a flag line. The ceremony will start at 07:30 am and we are invited to attend. At 08:30 am\, we will honor the heroes as they board the bus. At 09:00 am\, we will participate in a LEO led escort of the bus from Hunter Army Airfield to Hwy 21 and I 95. As we will be on a military installation\, remember to bring proper ID\, wear full-finger gloves\, over-the-ankle boots\, eye protection\, reflective vest or shirt\, DOT helmet\, proof of insurance and no firearms.\n\n\nFlags & Water:\nFlags will be provided\nIf you have large bike flags\, please bring them.\nWater will be provided.\n\n\n\nSubmitted By: Gregory Ernst \nPosition: Georgia Ride Captain \n\nNote: You do not have to own/ride a motorcycle or be a veteran to join\, and membership is Free. The only requirement is RESPECT! To subscribe to receive mission notices\, log into the National Site and click on the Members tab at the top. Select the Subscribe to PGR Missions option.\n Print This Page
URL:https://www.patriotguard.org/mission/honor-flight-26/
CATEGORIES:HOTH Mission
END:VEVENT
BEGIN:VEVENT
DTSTART;VALUE=DATE:20190913
DTEND;VALUE=DATE:20190914
DTSTAMP:20210402T050224
CREATED:20190907T215350Z
LAST-MODIFIED:20190907T215903Z
UID:173083-1568332800-1568419199@www.patriotguard.org
SUMMARY:6th Annual Andrew J. Keller Memorial Game
DESCRIPTION:HOTH Mission\n6th Annual Andrew J. Keller Memorial Game\, KIA\, Veteran\nUSA\, WoT\nBeaverton\, Oregon – 09-13-19\n\n\n\nABOUT THE MISSION: \nLadies and Gentlemen of the Patriot Guard Riders\, we have been invited to stand for the 6th Annual Andrew J. Keller Memorial Game. This year at the Southridge Skyhawks home game against the Lincoln Cardinals they will be remembering Andrew’s Sacrifice to our Nation. Andrew was assigned to 1st Battalion\, 503rd Infantry Regiment\, 173rd Airborne Brigade Combat Team\, Vicenza\, Italy. He died Aug. 15\, 2012 in Charkh\, Afghanistan. Please join us as we pay our respects and honor for his service to our nation.\n\n\nPRIMARY STAGING DETAILS: 09-13-19 \nStaging Time: 6:00 pm  \nSouthridge High School\n9625 SW 125th Ave\nBeaverton\, Oregon 97008\nMap\n\n\nRide Captain: \nRob Herman\nrpherman@hotmail.com\n\n\nSpecial Instructions: \nBriefing: 6:30 pm\nBikes on the Field: as needed\n\n\nFlags & Water:\n\nFlags will not be provided\nIf you have large bike flags\, please bring them.\nWater WILL NOT be provided\, please bring your own.\n\n\nSubmitted By: John Hanan II \nPosition: Oregon State Captain \n\nNote: You do not have to own/ride a motorcycle or be a veteran to join\, and membership is Free. The only requirement is RESPECT! To subscribe to receive mission notices\, log into the National Site and click on the Members tab at the top. Select the Subscribe to PGR Missions option.\n Print This Page
URL:https://www.patriotguard.org/mission/6th-annual-andrew-j-keller-memorial-game/
CATEGORIES:HOTH Mission
END:VEVENT
BEGIN:VEVENT
DTSTART;VALUE=DATE:20190913
DTEND;VALUE=DATE:20190914
DTSTAMP:20210402T050224
CREATED:20190911T000610Z
LAST-MODIFIED:20190911T000610Z
UID:172432-1568332800-1568419199@www.patriotguard.org
SUMMARY:Crew of the USS Houston
DESCRIPTION:HOTH Mission\nCrew of the USS Houston\, Veteran\nUSN\nLouisville\, Kentucky – 09-13-19\n\n\n\n\nABOUT THE MISSION: \nWe have been asked to escort the crew of the USS Houston from the hotel that they are staying at to the Jtown Veterans Park\n\n\nPRIMARY STAGING DETAILS: 09-13-19 \nStaging Time: 7:30 AM  \nHilton Garden Hotel\n2735 Crittenden Dr\nLouisville\, Kentucky\n\n\nRide Captain: \nR/C Tom Baker 502-271-8955\n\n\nSpecial Instructions: \nWe will eat breakfast with these Veterans at the Hilton Garden INN 2735 Crittenden Dr and escort them to Jtown Veterans Park 10707 Taylorsville Rd\n\nFlags & Water:\nFlags will not be provided\nIf you have large bike flags\, please bring them.\nWater WILL NOT be provided\, please bring your own.\n\n\n\nSubmitted By: Thomas Baker \nPosition: Kentucky Ride Captain \n\nNote: You do not have to own/ride a motorcycle or be a veteran to join\, and membership is Free. The only requirement is RESPECT! To subscribe to receive mission notices\, log into the National Site and click on the Members tab at the top. Select the Subscribe to PGR Missions option.\n Print This Page
URL:https://www.patriotguard.org/mission/crew-of-the-uss-houston/
CATEGORIES:HOTH Mission
END:VEVENT
BEGIN:VEVENT
DTSTART;VALUE=DATE:20190913
DTEND;VALUE=DATE:20190914
DTSTAMP:20210402T050224
CREATED:20190911T001219Z
LAST-MODIFIED:20190911T001219Z
UID:172468-1568332800-1568419199@www.patriotguard.org
SUMMARY:Kentucky Vietnam Wall
DESCRIPTION:HOTH Mission\nKentucky Vietnam Wall\nHarrodsburg\, Kentucky – 09-13-19\n\n\n\n\nABOUT THE MISSION: \nWe have been ask to escort Kentucky Vietnam wall from Harrodsburg to Burkesville Ky. It will be a honor to do this mission.\n\n\nPRIMARY STAGING DETAILS: 09-13-19 \nStaging Time: 11:30  \nWalmart Parking lot\n591 Joseph Dr\,\nHarrodsburg\, Kentucky 40330\n\n\nRide Captain: \nDavid Arnold\nkng570@aol.com\n859 338 8635\n\n\nSpecial Instructions: \nKSU 12:00\n\nFlags & Water:\nFlags will not be provided\nIf you have large bike flags\, please bring them.\nWater WILL NOT be provided\, please bring your own.\n\n\n\nSubmitted By: David Arnold \nPosition: Kentucky Ride Captain \n\nNote: You do not have to own/ride a motorcycle or be a veteran to join\, and membership is Free. The only requirement is RESPECT! To subscribe to receive mission notices\, log into the National Site and click on the Members tab at the top. Select the Subscribe to PGR Missions option.\n Print This Page
URL:https://www.patriotguard.org/mission/kentucky-vietnam-wall/
CATEGORIES:HOTH Mission
END:VEVENT
BEGIN:VEVENT
DTSTART;VALUE=DATE:20190913
DTEND;VALUE=DATE:20190914
DTSTAMP:20210402T050224
CREATED:20190911T171059Z
LAST-MODIFIED:20190911T171059Z
UID:173275-1568332800-1568419199@www.patriotguard.org
SUMMARY:NEO Veterans Freedom Tour
DESCRIPTION:HOTH Mission\nNEO Veterans Freedom Tour\, Veteran\n–\nPryor\, Oklahoma – 09-13-19\n\n\n\nABOUT THE MISSION: \nThe PGR has been invited to send off a bus load of veterans to Vicksburg MS to the Vicksburg National Military Park. Leaving Friday from Mayes County Fairgrounds 7:00am. These will be Korea and Vietnam Veterans that cannot fly. They are asking we accompany them to the 2nd stop light in Chouteau\, OK. on south 69 hwy. where we will turn off to Amish Restaurant to debrief.\nWe will have Pryor PD and Mayes County LEO.\n\n\nPRIMARY STAGING DETAILS: 09-13-19 \nStaging Time: 06:00  AM\n \nMayes County Fairgrounds\n2150 NE 1st St\nPryor\, Oklahoma\n\n\nRide Captain: \nDick “Kickstand” Fawcett\ndickfawcett1@gmail.com\n918-782-7661\n\n\nSpecial Instructions: \nBriefing: 6:15am. Mandatory to accompany these Hero’s.\nKSU: 7:00am\nWeather: 78°/65°\, 50% chance!\n\n\nFlags & Water:\nFlags will not be provided\nIf you have large bike flags\, please bring them.\nWater WILL NOT be provided\, please bring your own.\n\n\n\nSubmitted By: Richard Fawcett \nPosition: Oklahoma Assistant State Captain \n\nNote: You do not have to own/ride a motorcycle or be a veteran to join\, and membership is Free. The only requirement is RESPECT! To subscribe to receive mission notices\, log into the National Site and click on the Members tab at the top. Select the Subscribe to PGR Missions option.\n Print This Page
URL:https://www.patriotguard.org/mission/neo-veterans-freedom-tour/
CATEGORIES:HOTH Mission
END:VEVENT
BEGIN:VEVENT
DTSTART;VALUE=DATE:20190913
DTEND;VALUE=DATE:20190914
DTSTAMP:20210402T050224
CREATED:20190912T004123Z
LAST-MODIFIED:20190912T004321Z
UID:173101-1568332800-1568419199@www.patriotguard.org
SUMMARY:Annual Washington\, OK High School Football Game Honoring Veterans
DESCRIPTION:HOTH Mission\nAnnual Washington\, OK High School Football Game Honoring Veterans\, Active Duty\, Retired\, Veteran\nUSA USMC USN USAF USCG – WWII\, Korea\, Vietnam\, GW/ODS\, WoT\nGoldsby\, Oklahoma – 09-13-19\n\n\n\nABOUT THE MISSION: \nWashington High School & Warriors For Freedom have requested the PGR join them for the 3rd annual Football game honoring Active Military and Veterans on Friday\, 13 Sept. 2019 at the Washington\, OK High School Football field.\n\n\nPRIMARY STAGING DETAILS: 09-13-19 \nStaging Time: 6:00 PM\n \nLibby’s Cafe\n111 N. Main St.\nGoldsby\, Oklahoma 73093\n\n\nRide Captain: \nMark Blevins\n(405) 496-0382\nscrltngray@gmail.com\n\n\nSpecial Instructions: \nThere will NOT be a Flag Line during this mission.\nBriefing: 6:15p.m.\nRiders wishing to ride in the group going to the football field MUST attend the briefing.\nKSU: Approx. 6:45p.m.\nBig Flag bikes will lead and make their way to Washington High School’s football field\, where they will ride onto the field and present the game ball to the officials. After the presentation\, Riders will exit the field and be dismissed.\nAny wanting to watch the game are welcome to do so.\nWeather: 60% chance of scattered showers with a daytime high of 84 & a light NE breeze.\nRemember to hydrate prior to and during this mission.\n\n\nFlags & Water:\nFlags will not be provided\nIf you have large bike flags\, please bring them.\nWater WILL NOT be provided\, please bring your own.\n\n\n\nSubmitted By: Ray Gehrig \nPosition: Oklahoma Ride Captain \n\nNote: You do not have to own/ride a motorcycle or be a veteran to join\, and membership is Free. The only requirement is RESPECT! To subscribe to receive mission notices\, log into the National Site and click on the Members tab at the top. Select the Subscribe to PGR Missions option.\n Print This Page
URL:https://www.patriotguard.org/mission/annual-washington-ok-high-school-football-game-honoring-veterans/
CATEGORIES:HOTH Mission
END:VEVENT
END:VCALENDAR