BEGIN:VCALENDAR
VERSION:2.0
PRODID:-//Patriot Guard Riders - ECPv5.3.2.1//NONSGML v1.0//EN
CALSCALE:GREGORIAN
METHOD:PUBLISH
X-WR-CALNAME:Patriot Guard Riders
X-ORIGINAL-URL:https://www.patriotguard.org
X-WR-CALDESC:Events for Patriot Guard Riders
BEGIN:VTIMEZONE
TZID:America/New_York
BEGIN:DAYLIGHT
TZOFFSETFROM:-0500
TZOFFSETTO:-0400
TZNAME:EDT
DTSTART:20190310T070000
END:DAYLIGHT
BEGIN:STANDARD
TZOFFSETFROM:-0400
TZOFFSETTO:-0500
TZNAME:EST
DTSTART:20191103T060000
END:STANDARD
END:VTIMEZONE
BEGIN:VEVENT
DTSTART;VALUE=DATE:20190830
DTEND;VALUE=DATE:20190831
DTSTAMP:20210403T124709
CREATED:20190827T124146Z
LAST-MODIFIED:20190827T124314Z
UID:171984-1567123200-1567209599@www.patriotguard.org
SUMMARY:The Traveling Kentucky Vietnam Wall
DESCRIPTION:HOTH Mission\nThe Traveling Kentucky Vietnam Wall\n–\nLexington\, Kentucky – 08-30-19\n\n\n\nABOUT THE MISSION: \nWe have been asked to escort the Kentucky Vietnam Traveling Wall from the Lexington\, Ky Walmart to the Winchester\, Ky Walmart for viewing. It will be our honor to do this mission.\n\n\nPRIMARY STAGING DETAILS: 08-30-19 \nStaging Time: 12:30 PM\n \nHamburg Walmart Parking Lot\n2350 Grey Lag Way\,\nLexington\, Kentucky 40509\n\n\nRide Captain: \nJohn Babcock\n859-771-2140\n\n\nSpecial Instructions: \nKSU 1:00 pm. Escorting The Wall to Winchester Walmart – 1859 Bypass Rd\, Winchester\, KY 40391.\n\n\nFlags & Water:\nFlags will be provided\nIf you have large bike flags\, please bring them.\nWater WILL NOT be provided\, please bring your own.\n\n\n\nSubmitted By: Kelly Shehan \nPosition: Kentucky Ride Captain \n\nNote: You do not have to own/ride a motorcycle or be a veteran to join\, and membership is Free. The only requirement is RESPECT! To subscribe to receive mission notices\, log into the National Site and click on the Members tab at the top. Select the Subscribe to PGR Missions option.\n Print This Page
URL:https://www.patriotguard.org/mission/the-traveling-kentucky-vietnam-wall/
CATEGORIES:HOTH Mission
END:VEVENT
END:VCALENDAR