BEGIN:VCALENDAR
VERSION:2.0
PRODID:-//Patriot Guard Riders - ECPv5.3.2.1//NONSGML v1.0//EN
CALSCALE:GREGORIAN
METHOD:PUBLISH
X-WR-CALNAME:Patriot Guard Riders
X-ORIGINAL-URL:https://www.patriotguard.org
X-WR-CALDESC:Events for Patriot Guard Riders
BEGIN:VTIMEZONE
TZID:America/New_York
BEGIN:DAYLIGHT
TZOFFSETFROM:-0500
TZOFFSETTO:-0400
TZNAME:EDT
DTSTART:20190310T070000
END:DAYLIGHT
BEGIN:STANDARD
TZOFFSETFROM:-0400
TZOFFSETTO:-0500
TZNAME:EST
DTSTART:20191103T060000
END:STANDARD
END:VTIMEZONE
BEGIN:VEVENT
DTSTART;VALUE=DATE:20190828
DTEND;VALUE=DATE:20190830
DTSTAMP:20210403T124856
CREATED:20190826T190507Z
LAST-MODIFIED:20190826T190507Z
UID:171930-1566950400-1567123199@www.patriotguard.org
SUMMARY:LST 325
DESCRIPTION:HOTH Mission\nLST 325\nUSN – WWII\, Korea\, Vietnam\nMadison\, Alabama – 08-28-19\n\n\n\nABOUT THE MISSION: \nThe Decatur-Morgan County Tourism Board and the City of Decatur have asked the Patriot Guard to place flags for the arrival\, opening Ceremony and visit of LST 325 to Ingalls Harbor in Decatur. We are Honored to do so. LST 325 served at Normandy on D-Day\, Korea and Vietnam. LST 325 is the only remaining operational LST.\n\n\nPRIMARY STAGING DETAILS: 08-28-19 \nStaging Time: 1:00 PM\n \nRedstone Harley-Davidson\n15100 Hwy 20\nMadison\, Alabama 35756\n\n\nRide Captain: \nCoop\npgrcoop@gmail.com\n256-653-2896\n\nFlag Captain: Paul Neal\, moosen23@hotmail.com\, 256-508-9172\n\n\nSpecial Instructions: \nKSU 1:15 pm. Ride as a group to Ingalls Harbor.\n\n\nFlags & Water:\nFlags will be provided\nLarge Bike Flags will NOT be needed.\nWater will be provided.\n\nSTAGING #2 DETAILS: 08-28-19 \nStaging Time: 1:30 PM\n \nBoat Docks\nHwy 31 Causeway\nDecatur\, Alabama 35601\n\n\nRide Captain: \nJeff Tennyson\njeff.tennyson6897@gmail.com\n256-221-1921\n\n\nSpecial Instructions: \nKSU 1:45 pm. Ride as a group to Ingalls Harbor.\n\n\nFlags & Water:\nFlags will be provided\nLarge Bike Flags will NOT be needed.\nWater will be provided.\n\nSTAGING #3 DETAILS: 08-29-19 \nStaging Time: 07:00 AM\n \nRedstone Harley-Davidson\n15100 Hwy 20\nMadison\, Alabama 35756\n\n\nRide Captain: \nCoop\npgrcoop@gmail.com\n256-653-2896\n\nFlag Captain: Paul Neal\, moosen23@hotmail.com\, 256-508-9172\n\n\nSpecial Instructions: \nKSU 07:15 am. Ride as a group to Ingalls Harbor.\n\n\nFlags & Water:\nFlags will be provided\nIf you have large bike flags\, please bring them.\nWater will be provided.\n\nSTAGING #4 DETAILS: 08-29-19 \nStaging Time: 07:15 AM\n \nBoat Docks\nHwy 31 Causeway\nDecatur\, Alabama 35601\n\n\nRide Captain: \nCoop\npgrcoop@gmail.com\n256-653-2896\n\nAsst: Jeff Tennyson\, jeff.tennyson6897@gmail.com\, 256-221-1921\nFlag Captain: Paul Neal\, moosen23@hotmail.com\, 256-508-9172\n\n\nSpecial Instructions: \nKSU 07:30 am. Ride as a group to Ingalls Harbor.\nPlace flags. Set flag line.\nOpening Ceremony begins at 09:00 am\n\n\nFlags & Water:\nFlags will be provided\nIf you have large bike flags\, please bring them.\nWater will be provided.\n\n\n\nSubmitted By: John Cooper \nPosition: Alabama Ride Captain \n\nNote: You do not have to own/ride a motorcycle or be a veteran to join\, and membership is Free. The only requirement is RESPECT! To subscribe to receive mission notices\, log into the National Site and click on the Members tab at the top. Select the Subscribe to PGR Missions option.\n Print This Page
URL:https://www.patriotguard.org/mission/lst-325/
CATEGORIES:HOTH Mission
END:VEVENT
BEGIN:VEVENT
DTSTART;VALUE=DATE:20190829
DTEND;VALUE=DATE:20190830
DTSTAMP:20210403T124856
CREATED:20190812T211106Z
LAST-MODIFIED:20190812T211748Z
UID:170621-1567036800-1567123199@www.patriotguard.org
SUMMARY:Vietnam Memorial Moving Wall Escort
DESCRIPTION:HOTH Mission\nVietnam Memorial Moving Wall Escort\nBrighton\, Michigan – 08-29-19\n\n\n\nABOUT THE MISSION: \nThe Patriot Guard Riders have been invited to escort the Vietnam Moving Wall from Brighton to Bennett Park in Hamburg. This is a Police supported escort and is open to all experienced licensed riders. The Moving Wall is a place to remember\, reflect and begin to heal. It will be our privilege to assist in bringing this sacred memorial to our area to Honor all those who made the ultimate sacrifice in Vietnam.\n\n\nPRIMARY STAGING DETAILS: 08-29-19 \nStaging Time: 8:30 am  \nCracker Barrel7925 Conference Center Dr.\nBrighton\, Michigan 48114\nhttps://goo.gl/maps/ZJAcQNWFhgN32H3M8\n\n\nRide Captain: \nTraveler (248) 496-9107\nViper (586) 873-5096\n\n\nSpecial Instructions: \nBriefing: 9:40 AM\nKSU: 10:00 AM\nNOTE: Staging is on the Service Drive in front of the Cracker Barrel restaurant.\nThis is a 27-mile escort and should last approximately one hour. Bikes flying large flags must be able to withstand sustained speeds of 45 miles per hour.\nALL RIDERS MUST ATTEND THE SAFETY BRIEFING TO PARTICIPATE IN THE ESCORT.\n\n\nFlags & Water:\nFlags will not be provided\nLarge Bike Flags will NOT be needed.\nWater WILL NOT be provided\, please bring your own.\n\nSubmitted By: Terrence Laurencelle \nPosition: Michigan Ride Captain \n\nNote: You do not have to own/ride a motorcycle or be a veteran to join\, and membership is Free. The only requirement is RESPECT! To subscribe to receive mission notices\, log into the National Site and click on the Members tab at the top. Select the Subscribe to PGR Missions option.\n Print This Page
URL:https://www.patriotguard.org/mission/vietnam-memorial-moving-wall-escort/
CATEGORIES:HOTH Mission
END:VEVENT
BEGIN:VEVENT
DTSTART;VALUE=DATE:20190829
DTEND;VALUE=DATE:20190830
DTSTAMP:20210403T124856
CREATED:20190827T115853Z
LAST-MODIFIED:20190827T115853Z
UID:171995-1567036800-1567123199@www.patriotguard.org
SUMMARY:Seattle to Colorado Springs\, NW Fire Velo Fire Fighters
DESCRIPTION:HOTH Mission\nSeattle to Colorado Springs\, NW Fire Velo Fire Fighters\n–\nRedmond\, Washington – 08-29-19\n\n\n\nABOUT THE MISSION: \nLadies and Gentlemen of the Patriot Guard Riders\, we have been invited by the NW Fire Velo fire fighters and the Gary Sinise Foundation to stand a flag line at an important mission to raise support for fallen heroes – first responders\, the men and women of the US Armed Services\, and the families who have paid the ultimate sacrifice in service to our nation. The NW Fire Velo team will be pedaling once again to raise money for the R.I.S.E. program. Our riders will travel from Seattle to Colorado Springs\, arriving on September 21st to honor our fallen firefighters at the annual International Association of Fire Fighters\, Fallen Firefighter Memorial. The 20-day cycling event starting August 29th covers over 1\,600 miles\, climbs over 70\,000 feet\, and visits fire departments in five different states.\n\n\nPRIMARY STAGING DETAILS: 08-29-19 \nStaging Time: 06:00 AM\n \nMicrosoft Corp Campus\n15255 NE 40th St\,\nRedmond\, Washington 98052\n\n\nRide Captain: \nDoug “Doppler” Shepard\ndougsh@hotmail.com\n(206) 679-0059\n\nSupport Vehicle: Veronica “Vee” Port\, veronicaport@hotmail.com\n\n\nSpecial Instructions: \n6:00am – Staging and Sign-in\n6:15am – Mission Briefing\n6:30am – KSU\n6:45am – Arrival and Setup\n7:00am – Flag Line in place\n7:00am – Honoring Ceremony begins.\nParking is a challenge so we will be meeting on the Microsoft soccer field. You will need to park in the free parking garage on floor X1 for building Studio “B”. Take the elevator to the (P)laza level.\nIf you took the correct elevator it will put you out directly in front of the soccer field.\nIf not just ask anyone where to find the soccer field and look for our flags.\n\n\nFlags & Water:\nFlags will be provided\nLarge Bike Flags will NOT be needed.\nWater will be provided.\n\n\n\nSubmitted By: Doug Shepard \nPosition: Washington Ride Captain \n\nNote: You do not have to own/ride a motorcycle or be a veteran to join\, and membership is Free. The only requirement is RESPECT! To subscribe to receive mission notices\, log into the National Site and click on the Members tab at the top. Select the Subscribe to PGR Missions option.\n Print This Page
URL:https://www.patriotguard.org/mission/seattle-to-colorado-springs-nw-fire-velo-fire-fighters/
CATEGORIES:HOTH Mission
END:VEVENT
END:VCALENDAR