BEGIN:VCALENDAR
VERSION:2.0
PRODID:-//Patriot Guard Riders - ECPv5.3.2.1//NONSGML v1.0//EN
CALSCALE:GREGORIAN
METHOD:PUBLISH
X-WR-CALNAME:Patriot Guard Riders
X-ORIGINAL-URL:https://www.patriotguard.org
X-WR-CALDESC:Events for Patriot Guard Riders
BEGIN:VTIMEZONE
TZID:America/New_York
BEGIN:DAYLIGHT
TZOFFSETFROM:-0500
TZOFFSETTO:-0400
TZNAME:EDT
DTSTART:20190310T070000
END:DAYLIGHT
BEGIN:STANDARD
TZOFFSETFROM:-0400
TZOFFSETTO:-0500
TZNAME:EST
DTSTART:20191103T060000
END:STANDARD
END:VTIMEZONE
BEGIN:VEVENT
DTSTART;VALUE=DATE:20190807
DTEND;VALUE=DATE:20190808
DTSTAMP:20210403T124737
CREATED:20190722T041653Z
LAST-MODIFIED:20190722T041653Z
UID:167691-1565136000-1565222399@www.patriotguard.org
SUMMARY:National Purple Heart Day
DESCRIPTION:HOTH Mission\nNational Purple Heart Day\nEl Paso\, Texas – 08-07-19\n\n\n \n\nABOUT THE MISSION: \nThe “Lone Star” Chapter 396 Military Order of the Purple Heart have honored the Patriot Guard Riders with a request to assist in the observance of the National Purple Heart Day.  During the American Revolutionary War\, the Badge for Military Merit decorated six known soldiers. Purple Heart Day on August 7 commemorates the creation of the oldest American military decoration for military merit\, the Purple Heart and honors the men and women who are of the Military Order of the Purple Heart. Created by General George Washington in 1782 to be presented to soldiers for “any singularly meritorious action”\, the decoration was a purple\, heart-shaped piece of silk bound with a thin edge of silver and the word Merit embroidered in silver across the face.\n\n\nPRIMARY STAGING DETAILS: 08-07-19 \nStaging Time: 8:30 am\n \nFort Bliss National Cemetery\n5200 Fred Wilson Ave. Rostrum Area\nEl Paso\, Texas 79906\n\n\nRide Captain: \nVaughn Nelson\nfwtpgrmissions@gmail.com\n\n\nSpecial Instructions: \nBriefing: 8:45 am\nFlag Line: 9:00 am\nMission Scheduling: Paul Lewey (915) 433-7000\n\nFlags & Water:\nFlags will be provided\nLarge Bike Flags will NOT be needed.\nWater will be provided.\n\n\n\nSubmitted By: Vaughn Nelson \nPosition: Texas Ride Captain \n\nNote: You do not have to own/ride a motorcycle or be a veteran to join\, and membership is Free. The only requirement is RESPECT! To subscribe to receive mission notices\, log into the National Site and click on the Members tab at the top. Select the Subscribe to PGR Missions option.\n Print This Page
URL:https://www.patriotguard.org/mission/national-purple-heart-day/
CATEGORIES:HOTH Mission
END:VEVENT
BEGIN:VEVENT
DTSTART;VALUE=DATE:20190807
DTEND;VALUE=DATE:20190808
DTSTAMP:20210403T124737
CREATED:20190802T125202Z
LAST-MODIFIED:20190802T132526Z
UID:169561-1565136000-1565222399@www.patriotguard.org
SUMMARY:Unveiling of the Purple Heart Monument
DESCRIPTION:HOTH Mission\nUnveiling of the Purple Heart Monument\nTallahassee\, Florida – 08-07-19\n\n\nABOUT THE MISSION:\n\nThe Patriot Guard Riders are requested to join in the Unveiling of the Purple Heart Memorial to be hosted by the Tallahassee National Cemetery. The Patriot Guard Riders will stand a flag line at the Tallahassee National Cemetery during the program.\n\n\nPRIMARY STAGING DETAILS: 08-07-19  \nStaging Time: 08:00 AM \nWalmart Super Center\n3535 Apalachee Parkway\,\nTallahassee\, Florida 32311\nMap URL\n\n\nRide Captain: \nDon Reeder\n850-933-0886\nFloridaSailor@comcast.net\n\n\nSpecial Instructions: \nBriefing: 08:15 AM\nKSU: 08:20 AM\n\n\nFlags & Water:\nFlags will be provided\nLarge Bike Flags will NOT be needed.\nWater will be provided.\n\n\n\nSubmitted By: Don Reeder \nPosition: Florida Assistant State Captain \n\n\nNote: You do not have to own/ride a motorcycle or be a veteran to join\, and membership is Free. The only requirement is RESPECT! To subscribe to receive mission notices\, log into the National Site and click on the Members tab at the top. Select the Subscribe to PGR Missions option.
URL:https://www.patriotguard.org/mission/08-07-19-unveiling-of-the-purple-heart-monument/
CATEGORIES:HOTH Mission
END:VEVENT
BEGIN:VEVENT
DTSTART;VALUE=DATE:20190807
DTEND;VALUE=DATE:20190808
DTSTAMP:20210403T124737
CREATED:20190802T230944Z
LAST-MODIFIED:20190802T230944Z
UID:169676-1565136000-1565222399@www.patriotguard.org
SUMMARY:KIA Wall of Honor
DESCRIPTION:HOTH Mission\nKIA Wall of Honor\, KIA\nUSA USMC USN USAF USCG – WWII\, Korea\, Vietnam\, GW/ODS\, WoT\nO’Fallon\, Missouri – 08-07-19\n\n\n\n\nABOUT THE MISSION: \nThe St. Charles County Veterans Museum has requested the Patriot Guard Riders join in the dedication of the KIA Wall of Honor that honors all of the men and women who have given their all for this great nation.  These men and women sacrificed all to preserve our freedom.  Please join me the dedication of this KIA Wall of Honor.\n\n\nPRIMARY STAGING DETAILS: 08-07-19 \nStaging Time: 09:15 am\n \nSt. Charles County Veterans Museum\n410 East Elm Street\nO’Fallon\, Missouri 63606\n\n\nRide Captain: \nRon “Pete” Peterson\nron.peterson@charter.net\n636.443.9643\n\n\nSpecial Instructions: \nThis is a flag line only.\nDedication will begin at 10:00.\nAll are welcome to tour the museum after the dedication.  Flag Support: Mike “Moose” Hanewinkel.  Weather is projected to be a high of 87* with a 20% chance of rain. Cages are welcome. HYDRATE HYDRATE HYDRATE.\n\nFlags & Water:\nFlags will be provided\nIf you have large bike flags\, please bring them.\nWater will be provided.\n\n\n\n\nSubmitted By: Ronald Peterson \nPosition: Missouri Ride Captain \n\nNote: You do not have to own/ride a motorcycle or be a veteran to join\, and membership is Free. The only requirement is RESPECT! To subscribe to receive mission notices\, log into the National Site and click on the Members tab at the top. Select the Subscribe to PGR Missions option.\n Print This Page
URL:https://www.patriotguard.org/mission/kia-wall-of-honor/
CATEGORIES:HOTH Mission
END:VEVENT
BEGIN:VEVENT
DTSTART;VALUE=DATE:20190807
DTEND;VALUE=DATE:20190808
DTSTAMP:20210403T124737
CREATED:20190806T202507Z
LAST-MODIFIED:20190806T202507Z
UID:169846-1565136000-1565222399@www.patriotguard.org
SUMMARY:Washington County Fair Flag Raising
DESCRIPTION:HOTH Mission\nWashington County Fair Flag Raising\n–\nHurricane\, Utah – 08-07-19\n\n\n\n\nABOUT THE MISSION: \nThe Patriot Guard Riders have been requested to participate in the Washington County Fair Flag Raising. The flag raising will be at the Washington County Fair Grounds on 5500 W 700 S in Hurricane . We will participate in the flag raising.Anyone attending in a cage and willing to transport flags please contact Dale “Moe” Moore at: 515-351-9753.\n\n\nPRIMARY STAGING DETAILS: 08-07-19 \nStaging Time: 6:00 pm \nUtah DMV Hurricane Office\n100 S 5300 W\nHurricane\, Utah\n\n\nRide Captain: \nDale “Moe” Moore 515-351-9753\n\n\nSpecial Instructions: \nKSU: 6:30 PM Weather: Mostly cloudy with a 10% chance of showers and a high of 97. Please dress accordingly and keep yourself hydrated.\n\nFlags & Water:\nFlags will be provided\nLarge Bike Flags will NOT be needed.\nWater WILL NOT be provided\, please bring your own.\n\n\n\n\nSubmitted By: Dave Richardson \nPosition: Utah State Captain \n\nNote: You do not have to own/ride a motorcycle or be a veteran to join\, and membership is Free. The only requirement is RESPECT! To subscribe to receive mission notices\, log into the National Site and click on the Members tab at the top. Select the Subscribe to PGR Missions option.\n Print This Page
URL:https://www.patriotguard.org/mission/washington-county-fair-flag-raising/
CATEGORIES:HOTH Mission
END:VEVENT
END:VCALENDAR