BEGIN:VCALENDAR
VERSION:2.0
PRODID:-//Patriot Guard Riders - ECPv5.3.2.1//NONSGML v1.0//EN
CALSCALE:GREGORIAN
METHOD:PUBLISH
X-WR-CALNAME:Patriot Guard Riders
X-ORIGINAL-URL:https://www.patriotguard.org
X-WR-CALDESC:Events for Patriot Guard Riders
BEGIN:VTIMEZONE
TZID:America/New_York
BEGIN:DAYLIGHT
TZOFFSETFROM:-0500
TZOFFSETTO:-0400
TZNAME:EDT
DTSTART:20190310T070000
END:DAYLIGHT
BEGIN:STANDARD
TZOFFSETFROM:-0400
TZOFFSETTO:-0500
TZNAME:EST
DTSTART:20191103T060000
END:STANDARD
END:VTIMEZONE
BEGIN:VEVENT
DTSTART;VALUE=DATE:20190806
DTEND;VALUE=DATE:20190807
DTSTAMP:20210403T124936
CREATED:20190729T222918Z
LAST-MODIFIED:20190810T064557Z
UID:169118-1565049600-1565135999@www.patriotguard.org
SUMMARY:Traveling Memorial
DESCRIPTION:HOTH Mission\n09/11 Traveling Memorial\n\nWashington\, Missouri – 08-06-19\n\n\n\n\nABOUT THE MISSION: \nLadies and Gentlemen of the Patriot Guard Riders\, please join us in escorting the 9/11 Memorial exhibit to the Washington Missouri Fairgrounds\, where it will be seen by thousands of visitors during the 2019 fair.  This memorial is a 53 foot long vehicle\, which transforms into a 1\,000 square foot exhibit that is intended to educate people about the 9/11 attacks.  It also provides a memorial so that we never forget the 400+ First Responders that gave their lives in the wake of events that took place on September 11\, 2001.  The memorial will include some of the actual Twin Tower I-beam structure\, have actual recordings of the radio transmissions from First Responders\, and offer tours guided by retired New York City Police and Fire Fighters.  It will be the honor of the Patriot Guard to escort the 9/11 Memorial\, along with many active First Responders\, through the streets of Washington\, Missouri for the public to show their respect\, and offer their gratitude for those who lost their lives protecting us on 9/11\, and for those who continue to protect us daily.  Our mission will be complete after the 9/11 Memorial safely arrives at the Washington Missouri Fairgrounds.\n\n\nPRIMARY STAGING DETAILS: 08-06-19 \nStaging Time: 10:00 am \nN-Sports\n3101 Recreation Drive (Hwy 100\, East end of town)\nWashington\, Missouri 63090\n\n\nRide Captain: \nJeff ‘Tattoo’ Hirsch\njeff.stlpgr@gmail.com\n314.210.6307\nFlag support:  TBD\n\n\nSpecial Instructions: \n10:00 – Staging w/ ride meeting to follow\n10:15 – Arrival of 09/11 exhibit.\n11:00 – Escort to Washington Fairgrounds\n11:30 – Dismissal\n\nFlags & Water:\n\nFlags will be provided\nIf you have large bike flags\, please bring them.\nWater will be provided.\n\n\n\n\nSubmitted By: Jeff Hirsch \nPosition: Missouri Ride Captain \n\nNote: You do not have to own/ride a motorcycle or be a veteran to join\, and membership is Free. The only requirement is RESPECT! To subscribe to receive mission notices\, log into the National Site and click on the Members tab at the top. Select the Subscribe to PGR Missions option.\n Print This Page
URL:https://www.patriotguard.org/mission/traveling-memorial/
CATEGORIES:HOTH Mission
END:VEVENT
BEGIN:VEVENT
DTSTART;VALUE=DATE:20190806
DTEND;VALUE=DATE:20190807
DTSTAMP:20210403T124936
CREATED:20190730T045548Z
LAST-MODIFIED:20190730T050717Z
UID:169145-1565049600-1565135999@www.patriotguard.org
SUMMARY:National Night Out
DESCRIPTION:HOTH Mission\nNational Night Out\, Veteran\nUSA USMC USN USAF USCG – LEO\, Fire\, EMS\nKnox\, Pennsylvania – 08-06-19\n\n\n\nABOUT THE MISSION: \n  The Patriot Guard Riders have been invited by the Knox Borough Police Department for National Night Out- a nationally recognized event\, first event like this to be held in Clarion County.  Knox Borough Police Department serves a population approximately 1250 residents.  National Night Out was organized to help build relationships between the community\, LEOs\, First Responders and the Military.  At the event\, there will be LEOs\, Fire Fighters\, and EMS Departments along with Military personnel to have a good time and to explain what they do and what services each department has to offer.\n\n\nPRIMARY STAGING DETAILS: 08-06-19 \nStaging Time: 16:30  \nAmerican Legion Post #720\n70 Veterans Rd\nKnox\, Pennsylvania 16232\nMAP\n\n\nRide Captain: \nMarcy “Marcella” Sorensen\npgrpa.hoth.west@gmail.com\n(402) 290-9589\nAaron Zeff\npgrpa.asc.west@gmail.com\n(724) 587-5626\nTimothy Smith\npgrpa.sc@gmail.com\n(724) 472-8746\n\n\nSpecial Instructions: \nBriefing: 4:45 PM\nKSU:  TBD\nEscorting to:\nKeystone Elementary School\n451 Huston Ave\nKnox\, PA 16232\nMAP\n\nEvent is from 5:00 PM-8 PM\n  National Night Out\, is open to the public and all are welcome!  There will be food\,drinks\, activities for all age groups and the the event is free of charge.\n  Members can attend all of a Mission or any part of the Mission.  PGR sets no time for a member to Stand a Mission.  We Thank you for whatever time you give us and the families of our Heroes appreciate your time.  This time of year deer are on the move\, please be aware & alert of your surroundings.  Also before heading out\, please watch the weather\, dress accordingly & hydrate.\n\nFlags & Water:\nFlags will not be provided\nLarge Bike Flags will NOT be needed.\nWater WILL NOT be provided\, please bring your own.\n\n\n\nSubmitted By: Marcy Sorensen \nPosition: Pennsylvania Ride Captain \n\nNote: You do not have to own/ride a motorcycle or be a veteran to join\, and membership is Free. The only requirement is RESPECT! To subscribe to receive mission notices\, log into the National Site and click on the Members tab at the top. Select the Subscribe to PGR Missions option.\n Print This Page
URL:https://www.patriotguard.org/mission/08-06-19-national-night-out/
CATEGORIES:HOTH Mission
END:VEVENT
BEGIN:VEVENT
DTSTART;VALUE=DATE:20190806
DTEND;VALUE=DATE:20190807
DTSTAMP:20210403T124936
CREATED:20190802T005557Z
LAST-MODIFIED:20190802T005557Z
UID:169526-1565049600-1565135999@www.patriotguard.org
SUMMARY:KVHOF Class of 2019 Announcement Ceremony
DESCRIPTION:HOTH Mission\nKVHOF Class of 2019 Announcement Ceremony\n\nFrankfort\, Kentucky – 08-06-19\n\n\n  \n\nABOUT THE MISSION: \nKentucky PGR has been asked to assist with the Kentucky Veteran Hall Of Fame 2019 Class Inductees Announcement Ceremony.\n\n\nPRIMARY STAGING DETAILS: 08-06-19 \nStaging Time: 8:00 am \nKentucky State Capitol Building\n700 Capitol Ave\nFrankfort\, Kentucky 40601\n\n\nRide Captain: \nKelly Shehan 859-619-8158\n\n\nSpecial Instructions: \nAs you face the Capitol\, Staging will be in the parking lot next to the left side of the building.\nWe will stake flags outside\, stand a flag line inside\, and assist Veterans into the Capitol if needed.\n10:00 am Parachute Jump onto the Capitol lawn.\n10:30 am Hall of Fame Class of 2019 Announcement Ceremony in the Rotunda.\nShould be finished about Noon.\n\nFlags & Water:\nFlags will be provided\nLarge Bike Flags will NOT be needed.\nWater WILL NOT be provided\, please bring your own.\n\n\n\nSubmitted By: Kelly Shehan \nPosition: Kentucky Ride Captain \n\nNote: You do not have to own/ride a motorcycle or be a veteran to join\, and membership is Free. The only requirement is RESPECT! To subscribe to receive mission notices\, log into the National Site and click on the Members tab at the top. Select the Subscribe to PGR Missions option.\n Print This Page
URL:https://www.patriotguard.org/mission/kvhof-class-of-2019-announcement-ceremony/
CATEGORIES:HOTH Mission
END:VEVENT
BEGIN:VEVENT
DTSTART;VALUE=DATE:20190806
DTEND;VALUE=DATE:20190807
DTSTAMP:20210403T124936
CREATED:20190806T025309Z
LAST-MODIFIED:20190806T025309Z
UID:169814-1565049600-1565135999@www.patriotguard.org
SUMMARY:Oaklawn Memorial Historical Cemetery Cleanup
DESCRIPTION:HOTH Mission\nOaklawn Memorial Historical Cemetery Cleanup\n\nMobile\, Alabama – 08-06-19\n\n\n\n\nABOUT THE MISSION: \nIt is time to get together to help clean up at Oaklawn Memorial Cemetery. Please bring mowers\, weedeaters\, chainsaw\, blowers\, gloves\, etc. We will be working from 7am to 11am. You may arrive for all or part of this mission. All help is greatly appreciated to honor these veterans who are buried there.\n\n\nPRIMARY STAGING DETAILS: 08-06-19 \nStaging Time: 7:00 am  \nOaklawn Memorial Historical Cemetery\,\n1800 Holt Rd.\nMobile\, Alabama\n\n\nRide Captain: \nEd “Juju” Lessard\, (251) 978-6215\, chromedome43@hotmail.com\n\n\nSpecial Instructions: \nNo staging please proceed directly to cemetery.\n\nFlags & Water:\nFlags will not be provided\nLarge Bike Flags will NOT be needed.\nWater will be provided.\n\n\n\n\nSubmitted By: Richard Ullo \nPosition: Alabama Ride Captain \n\nNote: You do not have to own/ride a motorcycle or be a veteran to join\, and membership is Free. The only requirement is RESPECT! To subscribe to receive mission notices\, log into the National Site and click on the Members tab at the top. Select the Subscribe to PGR Missions option.\n Print This Page
URL:https://www.patriotguard.org/mission/oaklawn-memorial-historical-cemetery-cleanup/
CATEGORIES:HOTH Mission
END:VEVENT
END:VCALENDAR