BEGIN:VCALENDAR
VERSION:2.0
PRODID:-//Patriot Guard Riders - ECPv5.3.2.1//NONSGML v1.0//EN
CALSCALE:GREGORIAN
METHOD:PUBLISH
X-WR-CALNAME:Patriot Guard Riders
X-ORIGINAL-URL:https://www.patriotguard.org
X-WR-CALDESC:Events for Patriot Guard Riders
BEGIN:VTIMEZONE
TZID:America/New_York
BEGIN:DAYLIGHT
TZOFFSETFROM:-0500
TZOFFSETTO:-0400
TZNAME:EDT
DTSTART:20190310T070000
END:DAYLIGHT
BEGIN:STANDARD
TZOFFSETFROM:-0400
TZOFFSETTO:-0500
TZNAME:EST
DTSTART:20191103T060000
END:STANDARD
END:VTIMEZONE
BEGIN:VEVENT
DTSTART;VALUE=DATE:20190726
DTEND;VALUE=DATE:20190727
DTSTAMP:20210404T203739
CREATED:20190718T174632Z
LAST-MODIFIED:20190718T175302Z
UID:168114-1564099200-1564185599@www.patriotguard.org
SUMMARY:Built to Honor Ribbon Cutting Home Dedication
DESCRIPTION:HOTH Mission\nBuilt to Honor Ribbon Cutting Home Dedication\, Veteran\nGW/ODS\nPunta Gorda\, Florida – 07-26-19\n\n\n\nABOUT THE MISSION: \nThis is a Ribbon Cutting home dedication for a Veteran. He gave his country over 7 years of service and was physically and psychologically injured by IEDs during his duties. He did not lose his life or limbs\, but he suffered physical and psychological injuries that will worsen with age and will affect his family for decades. Having a home to call his own in the Ft. Myers area\, a place that he feels safe and comfortable in near his family and friends\, will be a huge source of comfort to him and will create an environment beneficial to his recovery and his family’s happiness. We will escort him and his family to their new home and stand a flag line for the ceremony.\nPlease bring your 3 X 5 American flags and stand in honor and respect for this Veteran hero and his family.\n\n\nPRIMARY STAGING DETAILS: 07-26-19 \nStaging Time: 8:45 AM\n \nEntrance to Parkside at Babcock Ranch\n42000 Lake Babcock Drive at SR 31\nPunta Gorda\, Florida 33982\nMap\n\n\nRide Captain: \nBill Franklin\n941-350-2547\ngulfrader@comcast.net\n\n\nSpecial Instructions: \n8:45 AM – Stage\n9:00 AM – Brief\n9:15 AM  – Escort and flag line\n\n\nFlags & Water:\nFlags will not be provided.\nIf you have large bike flags\, please bring them.\nWater WILL NOT be provided\, please bring your own.\n\n\nSubmitted By: William Franklin \nPosition: Florida Ride Captain \n\nNote: You do not have to own/ride a motorcycle or be a veteran to join\, and membership is Free. The only requirement is RESPECT! To subscribe to receive mission notices\, log into the National Site and click on the Members tab at the top. Select the Subscribe to PGR Missions option.\n Print This Page
URL:https://www.patriotguard.org/mission/built-to-honor-ribbon-cutting-home-dedication/
CATEGORIES:HOTH Mission
END:VEVENT
BEGIN:VEVENT
DTSTART;VALUE=DATE:20190726
DTEND;VALUE=DATE:20190727
DTSTAMP:20210404T203739
CREATED:20190726T030356Z
LAST-MODIFIED:20190726T030356Z
UID:168811-1564099200-1564185599@www.patriotguard.org
SUMMARY:Korean War - 66th Anniversary Observance
DESCRIPTION:HOTH Mission\nKorean War – 66th Anniversary Observance\n– Korea\nProvidence\, Rhode Island – 07-26-19\n\n\n\nABOUT THE MISSION: \nPatriot Guard Riders and Associates\, the Patriot Guard Riders have been requested to provide a flag line at the Korean War Veterans Memorial in downtown Providence for the 66th Anniversary of the cease fire in Korea. This mission will take place in the park between the courts and the river in downtown Providence. We will be meeting right in the park for staging and have been given permission to park in the park. The entrance to the park is located on College St.\n\n\nPRIMARY STAGING DETAILS: 07-26-19 \nStaging Time: 10:30 AM\n \nMemorial Park\nS. Main St.\nProvidence\, Rhode Island 02903\nMap\n\n\nRide Captain: \nCowboy Mike Graichen\nMikegncbc@gmail.com\n401-473-0124\n\n\nSpecial Instructions: \n\n\nFlags & Water:\nFlags will be provided\nLarge Bike Flags will NOT be needed.\nWater will be provided.\n\n\n\nSubmitted By: Michael Graichen \nPosition: Rhode Island HOTH Coordinator \n\nNote: You do not have to own/ride a motorcycle or be a veteran to join\, and membership is Free. The only requirement is RESPECT! To subscribe to receive mission notices\, log into the National Site and click on the Members tab at the top. Select the Subscribe to PGR Missions option.\n Print This Page
URL:https://www.patriotguard.org/mission/korean-war-66th-anniversary-observance/
CATEGORIES:HOTH Mission
END:VEVENT
END:VCALENDAR