BEGIN:VCALENDAR
VERSION:2.0
PRODID:-//Patriot Guard Riders - ECPv5.3.2.1//NONSGML v1.0//EN
CALSCALE:GREGORIAN
METHOD:PUBLISH
X-WR-CALNAME:Patriot Guard Riders
X-ORIGINAL-URL:https://www.patriotguard.org
X-WR-CALDESC:Events for Patriot Guard Riders
BEGIN:VTIMEZONE
TZID:America/New_York
BEGIN:DAYLIGHT
TZOFFSETFROM:-0500
TZOFFSETTO:-0400
TZNAME:EDT
DTSTART:20190310T070000
END:DAYLIGHT
BEGIN:STANDARD
TZOFFSETFROM:-0400
TZOFFSETTO:-0500
TZNAME:EST
DTSTART:20191103T060000
END:STANDARD
END:VTIMEZONE
BEGIN:VEVENT
DTSTART;VALUE=DATE:20190713
DTEND;VALUE=DATE:20190714
DTSTAMP:20210404T203749
CREATED:20190705T220556Z
LAST-MODIFIED:20190705T220556Z
UID:166732-1562976000-1563062399@www.patriotguard.org
SUMMARY:St. James Veterans Home Popcorn Run
DESCRIPTION:HOTH Mission\nSt. James Veteran’s Home Popcorn Run\n–\nSt. James\, Missouri – 07-13-19\n\n\n\n\nABOUT THE MISSION: \nThe Patriot Guard Riders will visit the heroes at the Veterans Home bringing them cheer and comaraderie. We will visit from 1:30 pm – 3:00 pm.\n\n\nPRIMARY STAGING DETAILS: 07-13-19 \nStaging Time: 1:00 pm \nCountry Bob’s Cafe parking lot\n1202 N Jefferson St\nSaint James\, Missouri 65559\n\n\nRide Captain: \nKeith Livingstone\nramminon@gmail.com\n573-263-5878\n\n\nSpecial Instructions: \nWe will depart the parking lot at 1:25 pm – Anyone wishing to have lunch at Country Bobs before the mission please meet at 12 noon. I will provide a list of the veteran’s needs upon request.  Please email me or call me. The list hasn’t changed from previous visits.  However\, if this is your first visit you will want the list.\n\nFlags & Water:\nFlags will not be provided\nIf you have large bike flags\, please bring them.\nWater WILL NOT be provided\, please bring your own.\n\n\n\n\nSubmitted By: Keith Livingstone \nPosition: Missouri Ride Captain \n\nNote: You do not have to own/ride a motorcycle or be a veteran to join\, and membership is Free. The only requirement is RESPECT! To subscribe to receive mission notices\, log into the National Site and click on the Members tab at the top. Select the Subscribe to PGR Missions option.\n Print This Page
URL:https://www.patriotguard.org/mission/st-james-veterans-home-popcorn-run/
CATEGORIES:HOTH Mission
END:VEVENT
BEGIN:VEVENT
DTSTART;VALUE=DATE:20190713
DTEND;VALUE=DATE:20190714
DTSTAMP:20210404T203749
CREATED:20190707T201931Z
LAST-MODIFIED:20190707T201931Z
UID:166904-1562976000-1563062399@www.patriotguard.org
SUMMARY:New Hampshire Fallen 7 Jarheads  MC
DESCRIPTION:HOTH Mission\nNew Hampshire Fallen 7 Jarheads MC\, Veteran\nUSMC –\nMesa\, Arizona – 07-13-19\n\n\n\n\nABOUT THE MISSION: \nThe Patriot Guard Riders have been invited to stand a Flag Line in support of the New Hampshire Fallen 7. In conjunction with Desert Wind Harley Davidson and the East Valley HOG chapter the event is scheduled to start at 8:00 AM. Flag line is requested for 7:45 AM until 8:15 AM. New Hampshire Fallen 7 Poker Run. Join Desert Wind H-D and the East Valley HOG Chapter on a Poker Run to support the Families of the Fallen 7 on 7/13. 100% off the proceeds will go directly to the Families.\n\n\nPRIMARY STAGING DETAILS: 07-13-19 \nStaging Time: 07:00 am \nDesert Winds Harley Davidson\n922 S Country Club Drive\nMesa\, Arizona 85210\n\n\nRide Captain: \nTim Gentry 402-210-7857  tgentry100@gmail.com\nFlag Captain: TBD\n\n\nSpecial Instructions: \nMeet Ride Captain at Desert Winds Harley Davidson.\nCircle of Honor/Briefing Time: 7:30 AM\nFlag Line Set: 7:45 AM\n\nFlags & Water:\nFlags will be provided\nLarge Bike Flags will NOT be needed.\nWater will be provided.\n\nSubmitted By: Bill Wooster \nPosition: Arizona Assistant State Captain \n\nNote: You do not have to own/ride a motorcycle or be a veteran to join\, and membership is Free. The only requirement is RESPECT! To subscribe to receive mission notices\, log into the National Site and click on the Members tab at the top. Select the Subscribe to PGR Missions option.\n Print This Page
URL:https://www.patriotguard.org/mission/new-hampshire-fallen-7-jarheads-mc/
CATEGORIES:HOTH Mission
END:VEVENT
BEGIN:VEVENT
DTSTART;VALUE=DATE:20190713
DTEND;VALUE=DATE:20190714
DTSTAMP:20210404T203749
CREATED:20190710T171935Z
LAST-MODIFIED:20190710T171935Z
UID:167017-1562976000-1563062399@www.patriotguard.org
SUMMARY:Michael Gower
DESCRIPTION:HOTH Mission\nMichael Gower\, Retired\nUSA – WoT\nMiddleville\, Michigan – 07-13-19\n\n\n\nABOUT THE MISSION: \nThe Patriot Guard Riders have been invited by the family of Sgt Michael Gower\, wounded warrior\, to escort the family from Thornapple Kellogg High School in Middleville to his new home. Michael was awarded and built a brand new specially adaptive home for him and his family by Homes for our Troops. The PGR have been asked to stand a flag line at the entrance to his new home in addition to the escort.\n\n\nPRIMARY STAGING DETAILS: 07-13-19 \nStaging Time: 09:15 AM\n \nThornapple Kellogg High School\n3885 Bender Rd\nMiddleville\, Michigan 49333\nMap\n\n\nRide Captain: \nMike Myers OlSpec5\n616 283 8313\n\n\nSpecial Instructions: \nWe will all stage at the High School\, then before the escort leaves\, R/C Phil Pakiela will lead the non riders to the future home and set up a flag line before the escort arrives.\nThe escort riders may run large bike flags if the are safely capable of speeds over 45 mph. This is a LEO led escort ride aprox. 3 miles.\nKSU at 9:45 for a 10 am arrival at the home.\n\n\nFlags & Water:\nFlags will be provided\nIf you have large bike flags\, please bring them.\nWater WILL NOT be provided\, please bring your own.\n\n\n\nSubmitted By: Mike Myers \nPosition: Michigan Assistant State Captain \n\nNote: You do not have to own/ride a motorcycle or be a veteran to join\, and membership is Free. The only requirement is RESPECT! To subscribe to receive mission notices\, log into the National Site and click on the Members tab at the top. Select the Subscribe to PGR Missions option.\n Print This Page
URL:https://www.patriotguard.org/mission/michael-gower/
CATEGORIES:HOTH Mission
END:VEVENT
END:VCALENDAR