BEGIN:VCALENDAR
VERSION:2.0
PRODID:-//Patriot Guard Riders - ECPv5.3.2.1//NONSGML v1.0//EN
CALSCALE:GREGORIAN
METHOD:PUBLISH
X-WR-CALNAME:Patriot Guard Riders
X-ORIGINAL-URL:https://www.patriotguard.org
X-WR-CALDESC:Events for Patriot Guard Riders
BEGIN:VTIMEZONE
TZID:America/New_York
BEGIN:DAYLIGHT
TZOFFSETFROM:-0500
TZOFFSETTO:-0400
TZNAME:EDT
DTSTART:20190310T070000
END:DAYLIGHT
BEGIN:STANDARD
TZOFFSETFROM:-0400
TZOFFSETTO:-0500
TZNAME:EST
DTSTART:20191103T060000
END:STANDARD
END:VTIMEZONE
BEGIN:VEVENT
DTSTART;VALUE=DATE:20190712
DTEND;VALUE=DATE:20190713
DTSTAMP:20210404T203913
CREATED:20190709T213141Z
LAST-MODIFIED:20190709T213141Z
UID:167009-1562889600-1562975999@www.patriotguard.org
SUMMARY:Gold Star Family Dedication
DESCRIPTION:  \n\n\n\nHOTH Mission\nGold Star Family Dedication\nUSA USMC USN USAF USCG –\nMayfield\, Kentucky – 07-12-19\n\n\n  \n\nABOUT THE MISSION: \nWe have been asked to stand a flag line as a New Gold Star Family Memorial is dedicated.\n\n\nPRIMARY STAGING DETAILS: 07-12-19 \nStaging Time: 12:30  \nPocket’s Shell\n1009 Paris Road\nMayfield\, Kentucky 42066\n\n\nRide Captain: \nRandie Baldree”Whitelightning”\n270-705-2354\nrandieb@wk.net\n\n\nSpecial Instructions: \nWe are helping dedicate a New Memorial for the Gold Star Families at Harmon Park\, HWY 45 North in Mayfield\, KY 42066  KSU 12:45 pm \n\nFlags & Water:\nFlags will be provided\nLarge Bike Flags will NOT be needed.\nWater WILL NOT be provided\, please bring your own.\n\n\n\nSubmitted By: Randie Baldree \nPosition: Kentucky Ride Captain \n\nNote: You do not have to own/ride a motorcycle or be a veteran to join\, and membership is Free. The only requirement is RESPECT! To subscribe to receive mission notices\, log into the National Site and click on the Members tab at the top. Select the Subscribe to PGR Missions option.\n Print This Page
URL:https://www.patriotguard.org/mission/gold-star-family-dedication/
CATEGORIES:HOTH Mission
END:VEVENT
BEGIN:VEVENT
DTSTART;VALUE=DATE:20190712
DTEND;VALUE=DATE:20190713
DTSTAMP:20210404T203913
CREATED:20190711T001113Z
LAST-MODIFIED:20190711T001113Z
UID:167269-1562889600-1562975999@www.patriotguard.org
SUMMARY:Paul Kerchum
DESCRIPTION:HOTH Mission\nPaul Kerchum\, POW/MIA\, Retired\nUSA – WWII\nVail\, Arizona – 07-12-19\n\n\n\nABOUT THE MISSION: \nPaul Kerchum joined the United States Army at sixteen years of age and served in the 31st Infantry Regiment in the Phillipines. CMSGT was captured by the Japanese\, was a prisoner of war for thirty four months and survived the Bataan Death March. In 1944\, CMSGT Kerchum was brought aboard the Japanese prison ship\, Shin ‘yo Maru\, also known as a “hell ship”. It was attacked by an American submarine\, who did not know that it had American prisoners aboard. CMSGT Kerchum was one of eighty two survivors who was rescued by Filipino guerillas. Today CMSGT Kerchum is often asked to be a keynote speaker at many events to speak of his military career and his experience as a POW. CMSGT is quoted in saying\, “Freedom is never free\, American men and women have spilled their blood and given their lives so we can have the freedom we enjoy today.” CMSGT Kerchum has been asked to be the keynote speaker once again at 99 years of age and we have been invited to ride with him to the event.\n\n\nPRIMARY STAGING DETAILS: 07-12-19 \nStaging Time: 06:45 AM\n \nDairy Queen\n13160 E. Colossal Cave Road\nVail\, Arizona 85641\n\n\nRide Captain: \nRobi 520-429-1175 and Kip 520-240-7163\nFlag Captain: DaFlagGuy\, 520-241-4530\n\n\nSpecial Instructions: \nBrieifing: 7:00 AM\nKSU: 7:20 AM\nWe will represent a flag line when we arrive at the Vail school.\nPlease mount flags on your bikes if you have the ability to do so to honor one of Americas Greatest Generation.\n\n\nFlags & Water:\nFlags will be provided\nIf you have large bike flags\, please bring them.\nWater will be provided.\n\n\n\nSubmitted By: Robi Campbell \nPosition: Arizona Assistant State Captain \n\nNote: You do not have to own/ride a motorcycle or be a veteran to join\, and membership is Free. The only requirement is RESPECT! To subscribe to receive mission notices\, log into the National Site and click on the Members tab at the top. Select the Subscribe to PGR Missions option.\n Print This Page
URL:https://www.patriotguard.org/mission/paul-kerchum/
CATEGORIES:HOTH Mission
END:VEVENT
BEGIN:VEVENT
DTSTART;TZID=America/New_York:20190712T000000
DTEND;TZID=America/New_York:20190712T000000
DTSTAMP:20210404T203913
CREATED:20190712T215300Z
LAST-MODIFIED:20190712T215300Z
UID:167497-1562889600-1562889600@www.patriotguard.org
SUMMARY:The Annual Welcome Home Veterans Appreciation Event At Erie Zoo
DESCRIPTION:HOTH Mission\nThe Annual Welcome Home Veterans Appreciation Event At Erie Zoo\, Veteran\nUSA USMC USN USAF USCG\nErie\, Pennsylvania – 07-19-19\n\n\n\nABOUT THE MISSION: \nThe Patriot Guard Riders have been invited by The Erie VA Medical Center and Vet Center for the Annual Welcome Home Event at The Erie Zoo.  The Erie VA Medical Center invites veterans of all eras and their families\, to attend.  This event is a one stop shop to connect with a number of VA programs and other veteran-related community resources.\n\n\nPRIMARY STAGING DETAILS: 07-19-19 \nStaging Time: 16:45  \nSheetz #499\n8180 Perry Hwy\nErie\, Pennsylvania 16509\nMAP\n\n\nRide Captain: \nDale Mallory\ntazmall@hotmail.com\n(724) 992-9186\n\n\nSpecial Instructions: \nBriefing: 5:00 PM\nKSU: 5:15 PM\nErie Zoo\n2701\, 423 W 38th St\nErie\, PA 16508\nMAP\nFlag Line: 5:30 PM\nEvent is scheduled from 6-9:00 PM\n\nMembers can attend all of a Mission or any part of the Mission. PGR sets no time for a member to Stand a Mission. We Thank you for whatever time you give us and the families of our Heroes appreciate your time.  Deer are on the move\, please be aware & alert of your surroundings\, also before heading out\, please watch the weather\, dress accordingly and hydrate\n\nFlags & Water:\nFlags will not be provided\nLarge Bike Flags will NOT be needed.\nWater WILL NOT be provided\, please bring your own.\n\n\n\nSubmitted By: Marcy Sorensen \nPosition: Pennsylvania Ride Captain \n\nNote: You do not have to own/ride a motorcycle or be a veteran to join\, and membership is Free. The only requirement is RESPECT! To subscribe to receive mission notices\, log into the National Site and click on the Members tab at the top. Select the Subscribe to PGR Missions option.\n Print This Page
URL:https://www.patriotguard.org/mission/the-annual-welcome-home-veterans-appreciation-event-at-erie-zoo/
CATEGORIES:HOTH Mission
END:VEVENT
END:VCALENDAR