BEGIN:VCALENDAR
VERSION:2.0
PRODID:-//Patriot Guard Riders - ECPv5.3.2.1//NONSGML v1.0//EN
CALSCALE:GREGORIAN
METHOD:PUBLISH
X-WR-CALNAME:Patriot Guard Riders
X-ORIGINAL-URL:https://www.patriotguard.org
X-WR-CALDESC:Events for Patriot Guard Riders
BEGIN:VTIMEZONE
TZID:America/New_York
BEGIN:DAYLIGHT
TZOFFSETFROM:-0500
TZOFFSETTO:-0400
TZNAME:EDT
DTSTART:20190310T070000
END:DAYLIGHT
BEGIN:STANDARD
TZOFFSETFROM:-0400
TZOFFSETTO:-0500
TZNAME:EST
DTSTART:20191103T060000
END:STANDARD
END:VTIMEZONE
BEGIN:VEVENT
DTSTART;VALUE=DATE:20190623
DTEND;VALUE=DATE:20190624
DTSTAMP:20210406T113338
CREATED:20190615T124308Z
LAST-MODIFIED:20190615T124308Z
UID:164841-1561248000-1561334399@www.patriotguard.org
SUMMARY:U.S. Air Force Yellow Ribbon Ceremony
DESCRIPTION:  \n\nHOTH Mission\nU.S. Air Force Yellow Ribbon Ceremony\n\nOrlando\, Florida  06-23-19\n\n\n \n\nABOUT THE MISSION: \nOnce again\, the United States Air Force has invited the Patriot Guard Riders to participate in their fabulous Yellow Ribbon Ceremony. The Yellow Ribbon Program is a cooperative network of military services\, veteran service organizations\, state and local government departments and other agencies that provide information\, resources\, referral and proactive outreach to service members and their families throughout all phases of the deployment cycle. Each event has members that are deploying within the next 120 days and those just returning from deployment. This event focuses on members and their family concerns in preparation for deployment by providing military and community resource information workshops and stress management. For those members that have returned from deployment\, the event focuses on reconnecting with family\, community and employers. The Yellow Ribbon Program truly cares about its members and their families before\, during and after deployment and will do whatever it takes to insure their well-being. Please bring your 3 X 5 flags to this awesome event\, as this is an opportunity for us to honor and support several hundred patriots and their families at one time.\n\n\nPRIMARY STAGING DETAILS: 06-23-19 \nStaging Time: 10:45 am  \nHyatt Regency Orlando\n9801 International Drive\nOrlando\, Florida 32819\nhttp://tinyurl.com/y5yyccrf\n\n\nRide Captain: \nRobert “Garfield” Warren\nbusdrvrrlw70@aol.com\n321-945-2589\n\n\nSpecial Instructions: \nParking will be in the back off of Convention Way.\n\n11:00 am Brief\nFlag Line as directed by the RC\n\n\nFlags & Water:\n\nFlags will not be provided\nLarge Bike Flags will NOT be needed.\nWater WILL NOT be provided\, please bring your own.\n  \n\n\nSubmitted By: Bernie Conner \nPosition: Florida Assistant State Captain \n\nNote: You do not have to own/ride a motorcycle or be a veteran to join\, and membership is Free. The only requirement is RESPECT! To subscribe to receive mission notices\, log into the National Site and click on the Members tab at the top. Select the Subscribe to PGR Missions option.\n Print This Page
URL:https://www.patriotguard.org/mission/u-s-air-force-yellow-ribbon-ceremony-9/
CATEGORIES:HOTH Mission
END:VEVENT
BEGIN:VEVENT
DTSTART;VALUE=DATE:20190623
DTEND;VALUE=DATE:20190624
DTSTAMP:20210406T113338
CREATED:20190619T163853Z
LAST-MODIFIED:20190619T164925Z
UID:165221-1561248000-1561334399@www.patriotguard.org
SUMMARY:First Responders Awards Ceremony.
DESCRIPTION:HOTH Mission\nFirst Responders Awards Ceremony\nTallahassee\, Florida – 06-23-19\n\n\n \n\nABOUT THE MISSION: \nThe Patriot Guard Riders have been asked to join in the First Responders Awards Ceremony. This is to say thank you to all first responders for supporting the community. We will stand a flag line during the program.\n\n\nPRIMARY STAGING DETAILS: 06-23-19 \nStaging Time: 7:30 AM\n \nCircle K\n5012 Crawfordville Road (Intersection of Crawfordville Road and Capital Circle)\nTallahassee\, Florida  32305\n           Map\n\n\nRide Captain: \nRide Captain: Don Reeder\n850-933-0886\nFloridaSailor@comcast.net\n\n\nSpecial Instructions: \n7:45 AM – Stage\n          8:00 AM – KSU to Mt. Carmel Missionary Baptist Church\, Port St. Joe\, Fl. 32456\n\n\nFlags & Water:\nFlags will be provided.\nLarge Bike Flags will NOT be needed.\nWater WILL NOT be provided\, please bring your own.\n\nSTAGING #2 DETAILS: 06-23-19 \nStaging Time: 10:30 AM\n \n           Mt. Carmel Missionary Baptist Church\n300 Avenue D\nPort St. Joe\, Florida 32456\n          Map\n\n\nRide Captain: \nRide Captain:\nDon Reeder\n850-933-0886\nFloridaSailor@comcast.net\n\n\nSpecial Instructions: \n10:45 AM – Brief\n           11:00 AM – Set the flag line\n\n\nFlags & Water:\nFlags will be provided.\nLarge Bike Flags will NOT be needed.\nWater WILL NOT be provided\, please bring your own.\n\n\nSubmitted By: Don Reeder \nPosition: Florida Assistant State Captain \n\nNote: You do not have to own/ride a motorcycle or be a veteran to join\, and membership is Free. The only requirement is RESPECT! To subscribe to receive mission notices\, log into the National Site and click on the Members tab at the top. Select the Subscribe to PGR Missions option.\n Print This Page
URL:https://www.patriotguard.org/mission/first-responders-awards-ceremony/
CATEGORIES:HOTH Mission
END:VEVENT
END:VCALENDAR