BEGIN:VCALENDAR
VERSION:2.0
PRODID:-//Patriot Guard Riders - ECPv5.3.2.1//NONSGML v1.0//EN
CALSCALE:GREGORIAN
METHOD:PUBLISH
X-WR-CALNAME:Patriot Guard Riders
X-ORIGINAL-URL:https://www.patriotguard.org
X-WR-CALDESC:Events for Patriot Guard Riders
BEGIN:VTIMEZONE
TZID:America/New_York
BEGIN:DAYLIGHT
TZOFFSETFROM:-0500
TZOFFSETTO:-0400
TZNAME:EDT
DTSTART:20190310T070000
END:DAYLIGHT
BEGIN:STANDARD
TZOFFSETFROM:-0400
TZOFFSETTO:-0500
TZNAME:EST
DTSTART:20191103T060000
END:STANDARD
END:VTIMEZONE
BEGIN:VEVENT
DTSTART;VALUE=DATE:20190620
DTEND;VALUE=DATE:20190621
DTSTAMP:20210406T113240
CREATED:20190617T105341Z
LAST-MODIFIED:20190617T110148Z
UID:164965-1560988800-1561075199@www.patriotguard.org
SUMMARY:Troy David Jenkins Memorial Repair
DESCRIPTION:HOTH Mission\nSgt. Troy David Jenkins Memorial Repair\, KIA\nUSA USMC – WoT\nStapleton\, Alabama – 06-20-19\n\n\n\n\nABOUT THE MISSION: \nArmy Sgt. Troy David Jenkins (served as a Marine prior to his Army service) was KIA on April 24\, 2003 during Operation Iraqi Freedom.  Sgt. Jenkins was critically wounded when an Iraqi child approached a group of soldiers with a cluster bomb. As the bomb went off\, Jenkins threw himself over it. His memorial in Repton\, AL is in need of cleanup\, repair\, and flag replacement. We will be honored to do this work with the assistance of the Southern Pine Electric Co-op who will provide lift trucks and help to replace the flag lines. Our local PGR members and other bikers have graciously donated the money for the flags and lines\, which have already been purchased. All equipment necessary to do the job is in place. Please come and be a part of this great honor. We will ride to the location in Repton\, AL – Approximately 1 hour each way to do the work.\n\n\nPRIMARY STAGING DETAILS: 06-20-19 \nStaging Time: 6:45 am  \nTom Thumb\nUS 31 at AL 59\nStapleton\, Alabama\n\n\nRide Captain: \nEd “Juju” Lessard\, (251) 978-6215\, chromedome43@hotmail.com\n\n\nSpecial Instructions: \n\n\nFlags & Water:\nFlags will not be provided\nLarge Bike Flags will NOT be needed.\nWater will be provided.\n\nSTAGING #2 DETAILS: 06-20-19 \nStaging Time: 7:00 am  \nMarathon\nExit 37\, I-65 @ Hwy 287 (Rabun Rd)\nBay Minette\, Alabama\n\n\nRide Captain: \nEd “Juju” Lessard\, (251) 978-6215\, chromedome43@hotmail.com\n\n\nSpecial Instructions: \n\n\nFlags & Water:\nFlags will not be provided\nLarge Bike Flags will NOT be needed.\nWater will be provided.\n\n\nSubmitted By: Richard Ullo \nPosition: Alabama Ride Captain \n\nNote: You do not have to own/ride a motorcycle or be a veteran to join\, and membership is Free. The only requirement is RESPECT! To subscribe to receive mission notices\, log into the National Site and click on the Members tab at the top. Select the Subscribe to PGR Missions option.\n Print This Page
URL:https://www.patriotguard.org/mission/06-20-19-sgt-troy-david-jenkins-memorial-repair/
CATEGORIES:HOTH Mission
END:VEVENT
END:VCALENDAR