BEGIN:VCALENDAR
VERSION:2.0
PRODID:-//Patriot Guard Riders - ECPv5.3.2.1//NONSGML v1.0//EN
CALSCALE:GREGORIAN
METHOD:PUBLISH
X-WR-CALNAME:Patriot Guard Riders
X-ORIGINAL-URL:https://www.patriotguard.org
X-WR-CALDESC:Events for Patriot Guard Riders
BEGIN:VTIMEZONE
TZID:America/New_York
BEGIN:DAYLIGHT
TZOFFSETFROM:-0500
TZOFFSETTO:-0400
TZNAME:EDT
DTSTART:20190310T070000
END:DAYLIGHT
BEGIN:STANDARD
TZOFFSETFROM:-0400
TZOFFSETTO:-0500
TZNAME:EST
DTSTART:20191103T060000
END:STANDARD
END:VTIMEZONE
BEGIN:VEVENT
DTSTART;VALUE=DATE:20190610
DTEND;VALUE=DATE:20190611
DTSTAMP:20210406T113215
CREATED:20190610T001316Z
LAST-MODIFIED:20190610T001316Z
UID:164158-1560124800-1560211199@www.patriotguard.org
SUMMARY:Forever Young Veterans
DESCRIPTION:HOTH Mission\nForever Young Veterans\, Veteran\nUSA USMC USN – WW II\nHuntsville\, Alabama – 06-10-19\n\n\n\n\nABOUT THE MISSION: \nThe Forever Young Senior Veterans Organization has asked the Patriot Guard to stand a flag line and welcome back Senior Veterans from WW II from their visit to the Memorial at Normandy\, France for the 75th anniversary of the Allied Landing. We are honored to do so\n\n\nPRIMARY STAGING DETAILS: 06-10-19 \nStaging Time: 10:00 pm\n \nHuntsville International Airport\n1000 Glen Hearn Blvd\nHuntsville\, Alabama 35824\n\n\nRide Captain: \n Jeff Tennyson\njeff.tennyson6897@gmail.com\n256-221-1921\n\n\n\nSpecial Instructions: \nBikes in front. Cages in short term.\nPlace flags\, set flag line upstairs at arrival exit.\nHeroes arrive at 10:45 pm.\nFlag Captain: Myricks\, levon57@gmail.com\, 256-658-4514\n\n\n\n\nSubmitted By: John Cooper \nPosition: Alabama Ride Captain \n\nNote: You do not have to own/ride a motorcycle or be a veteran to join\, and membership is Free. The only requirement is RESPECT! To subscribe to receive mission notices\, log into the National Site and click on the Members tab at the top. Select the Subscribe to PGR Missions option.\n Print This Page
URL:https://www.patriotguard.org/mission/forever-young-veterans-2/
CATEGORIES:HOTH Mission
END:VEVENT
END:VCALENDAR