BEGIN:VCALENDAR
VERSION:2.0
PRODID:-//Patriot Guard Riders - ECPv5.3.2.1//NONSGML v1.0//EN
CALSCALE:GREGORIAN
METHOD:PUBLISH
X-WR-CALNAME:Patriot Guard Riders
X-ORIGINAL-URL:https://www.patriotguard.org
X-WR-CALDESC:Events for Patriot Guard Riders
BEGIN:VTIMEZONE
TZID:America/New_York
BEGIN:DAYLIGHT
TZOFFSETFROM:-0500
TZOFFSETTO:-0400
TZNAME:EDT
DTSTART:20190310T070000
END:DAYLIGHT
BEGIN:STANDARD
TZOFFSETFROM:-0400
TZOFFSETTO:-0500
TZNAME:EST
DTSTART:20191103T060000
END:STANDARD
END:VTIMEZONE
BEGIN:VEVENT
DTSTART;VALUE=DATE:20190526
DTEND;VALUE=DATE:20190527
DTSTAMP:20210406T113401
CREATED:20190517T100316Z
LAST-MODIFIED:20190517T100316Z
UID:161506-1558828800-1558915199@www.patriotguard.org
SUMMARY:Flags for Fallen Vets
DESCRIPTION:HOTH Mission\n\nFlags for Fallen Vets\n\nLake Worth\, Florida  05-26-19\n\n\n \n\nABOUT THE MISSION: \nThe Patriot Guard Riders have been invited to participate in a Flags for Fallen Vets Ceremony at South Florida National Cemetery. This mission will consist of assisting in placing an American flag at every hero’s grave site. The Flags for Fallen Vets origination’s goal is to ensure every hero’s grave site receives an American flag on Memorial Day\, educate younger generations to never forget those who served and sacrificed throughout the history of our country\, so we can enjoy the freedoms and way of life we all cherish today.\n\n\nPRIMARY STAGING DETAILS: 05-26-19 \nStaging Time: 8:30 AM  \nSouth Florida National Cemetery\n6501 SR7\nLake Worth\, Florida 33449\n\n\nRide Captain: \nJames “Rabbi” King\n561-902-8869\nking.james2@yahoo.com\n\n\nSpecial Instructions: \n8:45 AM – Brief\nInstructions will be given on the placement of the flags. Please bring a phillips screwdriver\, a 12” ruler and hammer.This event is rain or shine. No flags\, except those placed by family members are to be placed before 9:00 AM or prior to the playing of taps.\n\n\nFlags & Water:\nFlags will not be provided\nLarge Bike Flags will NOT be needed.\nWater WILL NOT be provided\, please bring your own.\n\n\n\n\nSubmitted By: David Shelton \nPosition: Florida State Captain \n\nNote: You do not have to own/ride a motorcycle or be a veteran to join\, and membership is Free. The only requirement is RESPECT! To subscribe to receive mission notices\, log into the National Site and click on the Members tab at the top. Select the Subscribe to PGR Missions option.\n Print This Page
URL:https://www.patriotguard.org/mission/flags-for-fallen-vets/
CATEGORIES:HOTH Mission
END:VEVENT
BEGIN:VEVENT
DTSTART;VALUE=DATE:20190526
DTEND;VALUE=DATE:20190527
DTSTAMP:20210406T113401
CREATED:20190520T200738Z
LAST-MODIFIED:20190520T200738Z
UID:161823-1558828800-1558915199@www.patriotguard.org
SUMMARY:Memorial Day Ceremony
DESCRIPTION:HOTH Mission\nMemorial Day Ceremony\n\nTallahassee\, Florida – 05-26-19\n\n\n\nABOUT THE MISSION: \nThe Patriot Guard Riders have been requested to join in the Memorial Day Ceremony to be hosted by the Tallahassee National Cemetery. This Memorial Day Program is to honor those who paid the ultimate sacrifice in service to our nation. The Patriot Guard Riders will stand a flag line at the Tallahassee National Cemetery during the program.\n\n\nPRIMARY STAGING DETAILS: 05-26-19 \nStaging Time: 2:00 PM  \nWalmart Super Center\n3535 Apalachee Parkway\nTallahassee\, Florida 32311\n\n\nRide Captain: \nDon Reeder\n850-933-0886\nFloridaSailor@comcast.net\n\n\nSpecial Instructions: \nBriefing: 2:15  PM\nKSU:       2:20 PM\n\n\nFlags & Water:\nFlags will be provided.\nLarge Bike Flags will NOT be needed.\nWater WILL NOT be provided\, please bring your own. \n\n\n\nSubmitted By: Don Reeder \nPosition: Florida Assistant State Captain \n\nNote: You do not have to own/ride a motorcycle or be a veteran to join\, and membership is Free. The only requirement is RESPECT! To subscribe to receive mission notices\, log into the National Site and click on the Members tab at the top. Select the Subscribe to PGR Missions option.\n Print This Page
URL:https://www.patriotguard.org/mission/memorial-day-ceremony-26/
CATEGORIES:HOTH Mission
END:VEVENT
BEGIN:VEVENT
DTSTART;TZID=America/New_York:20190526T000000
DTEND;TZID=America/New_York:20190526T000000
DTSTAMP:20210406T113401
CREATED:20190525T231922Z
LAST-MODIFIED:20190525T231922Z
UID:162374-1558828800-1558828800@www.patriotguard.org
SUMMARY:West Jordan’s Annual Memorial Day Program
DESCRIPTION:HOTH Mission\nWest Jordan’s Annual Memorial Day Program\nW Jordan\, Utah – 05-27-19\n\n\n\n\nABOUT THE MISSION: \nThe city of West Jordan has once again invited the Patriot Guard Riders to participate in their annual Memorial Day Program being held at the West Jordan Veterans Memorial Park\, 1985 W. 7800 S.\, West Jordan.  As in years past\, the Patriot Guard will encircle the Military Services Monument and audience during the entire program holding our flags proudly.  After the ceremony we will stand a flag line to the pavilion where a breakfast will be served.  The PGR is invited to join in.  Anyone attending in a cage and willing to transport flags please contact Ken Hurst at 801-300-9805.\n\n\nPRIMARY STAGING DETAILS: 05-27-19 \nStaging Time: 8:00 p.m.  \nCAL Ranch\n2735 W 7800 S\nW. Jordan\, Utah\n\n\nRide Captain: \nKen Hurst\, 801-300-9805\n\n\nSpecial Instructions: \nKSU: 8:30 am\nWeather: Cloudy with a 50% chance of showers and a high of 57.\nPlease dress accordingly and keep yourself hydrated.\n\n\nFlags & Water:\nFlags will be provided\nLarge Bike Flags will NOT be needed.\nWater WILL NOT be provided\, please bring your own.\n\n\nSubmitted By: Dave Richardson \nPosition: Utah State Captain \n\nNote: You do not have to own/ride a motorcycle or be a veteran to join\, and membership is Free. The only requirement is RESPECT! To subscribe to receive mission notices\, log into the National Site and click on the Members tab at the top. Select the Subscribe to PGR Missions option.\n Print This Page
URL:https://www.patriotguard.org/mission/west-jordans-annual-memorial-day-program/
CATEGORIES:HOTH Mission
END:VEVENT
BEGIN:VEVENT
DTSTART;TZID=America/New_York:20190526T000000
DTEND;TZID=America/New_York:20190526T000000
DTSTAMP:20210406T113401
CREATED:20190526T201917Z
LAST-MODIFIED:20190526T201917Z
UID:161880-1558828800-1558828800@www.patriotguard.org
SUMMARY:Memorial Day Ceremony
DESCRIPTION:HOTH Mission\nMemorial Day Ceremony\nHuntsville\, Alabama – 05-27-19\n\n\n\n\nABOUT THE MISSION: \nThe City of Huntsville\, NAVFOC and the AUSA has asked the Patriot Guard to stand a flag line and place the PGR wreath at the Ceremony.\n\n\nPRIMARY STAGING DETAILS: 05-27-19 \nStaging Time: 12:00 p.m. \nHuntsville Madison Co. Veterans Memorial Park\n200 Monroe St\nHuntsville\, Alabama 35801\n\n\nRide Captain: \nTama Morgan\ntmorgan@mdmechanical.com\n256-503-0818\n\n\nSpecial Instructions: \nPlace flagsPGR wreath in placement line by 12:30\nCeremony begins at 1:00 pm\nFlag Captain: Myricksriisec@gmail.com\, 256-658-4514\n\n\nFlags & Water:\nFlags will be provided\nLarge Bike Flags will NOT be needed.\nWater will be provided.\n\n\n\nSubmitted By: John Cooper \nPosition: Alabama Ride Captain \n\nNote: You do not have to own/ride a motorcycle or be a veteran to join\, and membership is Free. The only requirement is RESPECT! To subscribe to receive mission notices\, log into the National Site and click on the Members tab at the top. Select the Subscribe to PGR Missions option.\n Print This Page
URL:https://www.patriotguard.org/mission/memorial-day-ceremony-42/
CATEGORIES:HOTH Mission
END:VEVENT
END:VCALENDAR