BEGIN:VCALENDAR
VERSION:2.0
PRODID:-//Patriot Guard Riders - ECPv5.3.2.1//NONSGML v1.0//EN
CALSCALE:GREGORIAN
METHOD:PUBLISH
X-WR-CALNAME:Patriot Guard Riders
X-ORIGINAL-URL:https://www.patriotguard.org
X-WR-CALDESC:Events for Patriot Guard Riders
BEGIN:VTIMEZONE
TZID:America/New_York
BEGIN:DAYLIGHT
TZOFFSETFROM:-0500
TZOFFSETTO:-0400
TZNAME:EDT
DTSTART:20210314T070000
END:DAYLIGHT
BEGIN:STANDARD
TZOFFSETFROM:-0400
TZOFFSETTO:-0500
TZNAME:EST
DTSTART:20211107T060000
END:STANDARD
END:VTIMEZONE
BEGIN:VEVENT
DTSTART;VALUE=DATE:20210321
DTEND;VALUE=DATE:20210322
DTSTAMP:20210402T052200
CREATED:20210316T204130Z
LAST-MODIFIED:20210316T204130Z
UID:571959-1616284800-1616371199@www.patriotguard.org
SUMMARY:Dedication PGR\, ALR and CVMA
DESCRIPTION:Dedication\nPatriot Guard Riders\, Veteran\, PGR\nUSA USMC USN USAF USCG –\nSierra Vista\, Arizona – 03-21-21\n\n\n\nABOUT THE MISSION: \nAll riders from PGR\, ALR and CVMA plus their families are welcome to attend the dedication of this memorial placed at Southern Arizona Veteran’s Memorial Cemetery. This memorial is placed to honor our team of PGR\, ALR and CVMA who have tirelessly volunteered to stand in honor and reverence for our Veterans and Law Enforcement Officers as they are laid to rest.\n\n\nPRIMARY STAGING DETAILS: 03-21-21 \nStaging Time: 12:45  \nAmerican Legion Post #5212 Theater Dr (1\,176.94 mi)\nSierra Vista\, Arizona 85635\n\n\nRide Captain: \nSteve and Dawna Stewart\n(602)639-0933\npgrstevestewart@gmail.com\n\n\nSpecial Instructions: \nStaging: 12:45 pm\nKSU: 1:00 pm\n\nFollowing CDC/Government guidelines/mandates and directives from our State Captain\, the following precautions are to be followed:· All members are required to wear a face mask/cloth covering at all times during the mission. If you are unable to wear a mask\, we ask that you stand down and stay home. There are no exceptions.· No handshakes\, elbow bumps\, or hugs for greetings and goodbyes.· If you feel ill or have a temperature\, please stay home until you improve.· If you have a medical condition(s) that make you at high risk we ask that you please stand down until conditions improve.· Maintain a minimum of six-foot distance from other members when standing the flag line. Maintain at least 15 feet separation from all family members\, cemetery personnel\, Honor Guard\, funeral home staff\, clergy\, etc.· Wash your hands before\, during (as practical)\, and after the mission.· Water will be provided by the flag support person and passed out only by that person. No snacks will be provided by flag support and members should not bring any to share either.\n\n\nFlags & Water:\nFlags will not be provided\nIf you have large bike flags\, please bring them.\nWater WILL NOT be provided\, please bring your own.\n\n\nSubmitted By: Bill Wooster \nPosition: Arizona State Captain \n\nNote: You do not have to own/ride a motorcycle or be a veteran to join\, and membership is Free. The only requirement is RESPECT! To subscribe to receive mission notices\, log into the National Site and click on the Members tab at the top. Select the Subscribe to PGR Missions option.\n Print This Page
URL:https://www.patriotguard.org/mission/dedication-pgr-alr-and-cvma/
CATEGORIES:Dedication
END:VEVENT
END:VCALENDAR