BEGIN:VCALENDAR
VERSION:2.0
PRODID:-//Patriot Guard Riders - ECPv5.3.2.1//NONSGML v1.0//EN
CALSCALE:GREGORIAN
METHOD:PUBLISH
X-WR-CALNAME:Patriot Guard Riders
X-ORIGINAL-URL:https://www.patriotguard.org
X-WR-CALDESC:Events for Patriot Guard Riders
BEGIN:VTIMEZONE
TZID:America/New_York
BEGIN:DAYLIGHT
TZOFFSETFROM:-0500
TZOFFSETTO:-0400
TZNAME:EDT
DTSTART:20190310T070000
END:DAYLIGHT
BEGIN:STANDARD
TZOFFSETFROM:-0400
TZOFFSETTO:-0500
TZNAME:EST
DTSTART:20191103T060000
END:STANDARD
END:VTIMEZONE
BEGIN:VEVENT
DTSTART;VALUE=DATE:20190809
DTEND;VALUE=DATE:20190810
DTSTAMP:20210403T130419
CREATED:20190802T153322Z
LAST-MODIFIED:20190802T154126Z
UID:169597-1565308800-1565395199@www.patriotguard.org
SUMMARY:Dedication Ceremony SO2 Navy SEAL Adam Olin Smith
DESCRIPTION:Dedication\nDedication Ceremony\, SO2 Navy SEAL Adam Olin Smith\, KIA\nUSN – WoT\nBevier\, Missouri – 08-09-19\n\n\n\n\nABOUT THE MISSION: \nThe family\, Congressman Graves and the United States Postal Service has cordially invited the Patriot Guard Riders to stand in a flag line during the dedication ceremony for the Bevier Post Office Building in honor of United States Navy SO2 Navy SEAL Adam Olin Smith.  Adam was killed in action on 09/21/2010 in Kabul province\, Afghanistan.  He received awards and commendations too numerous to list.  Also participating will be American Legion 360\, Gateway District Manager Chuck Scuirba\, Ret. Lt. Commander of Warfare Development\, Navy SEAL Kelsey Peterson\, and sister Amber Smith Pikey.\n\n\nPRIMARY STAGING DETAILS: 08-09-19 \nStaging Time: 10:00 am\n \nBevier City Park\nBevier\, Missouri 63532\n\n\nRide Captain: \nJan Watts\n660-349-9134\nliltyke.2355@gmail.com\n\n\nSpecial Instructions: \nCeremony will begin at 11:00 AM.\nThere will be a reception immediately following ceremony. (*In case of inclement weather\, will be held at the First Baptist Church new hall*).\n\nFlags & Water:\nFlags will be provided\nIf you have large bike flags\, please bring them.\nWater will be provided.\n\n\n\nSubmitted By: Jan Watts \nPosition: Missouri Ride Captain \n\nNote: You do not have to own/ride a motorcycle or be a veteran to join\, and membership is Free. The only requirement is RESPECT! To subscribe to receive mission notices\, log into the National Site and click on the Members tab at the top. Select the Subscribe to PGR Missions option.\n Print This Page
URL:https://www.patriotguard.org/mission/dedication-ceremony-so2-navy-seal-adam-olin-smith/
CATEGORIES:Dedication
END:VEVENT
END:VCALENDAR