BEGIN:VCALENDAR
VERSION:2.0
PRODID:-//Patriot Guard Riders - ECPv5.3.2.1//NONSGML v1.0//EN
CALSCALE:GREGORIAN
METHOD:PUBLISH
X-WR-CALNAME:Patriot Guard Riders
X-ORIGINAL-URL:https://www.patriotguard.org
X-WR-CALDESC:Events for Patriot Guard Riders
BEGIN:VTIMEZONE
TZID:America/New_York
BEGIN:DAYLIGHT
TZOFFSETFROM:-0500
TZOFFSETTO:-0400
TZNAME:EDT
DTSTART:20190310T070000
END:DAYLIGHT
BEGIN:STANDARD
TZOFFSETFROM:-0400
TZOFFSETTO:-0500
TZNAME:EST
DTSTART:20191103T060000
END:STANDARD
END:VTIMEZONE
BEGIN:VEVENT
DTSTART;VALUE=DATE:20190930
DTEND;VALUE=DATE:20191001
DTSTAMP:20210401T152200
CREATED:20190924T210004Z
LAST-MODIFIED:20190924T210028Z
UID:176437-1569801600-1569887999@www.patriotguard.org
SUMMARY:Elis A. Barreto Ortiz
DESCRIPTION:Arlington National Cemetery\nElis A. Barreto Ortiz\, Active Duty\, KIA\nUSA – WoT\nAlexandria\, Virginia – 09-30-19\n\n\n\nABOUT THE MISSION: \nSFC Elis A. Barreto Ortiz\, 34\, US Army (KIA)\, from Morovis\, Puerto Rico\, was killed on 5 Sep 2019\, in Kabul\, Afghanistan\, when a vehicle borne IED detonated in a suicide attack.  SFC Barreto Ortiz was a paratrooper and Maintenance Control Sergeant with Co H\, 82nd Brigade Support Battalion\, 3rd Brigade Combat Team\, 82nd Airborne Division\, out of Ft. Bragg\, NC.  He is to be interred on the hallowed grounds of Arlington National Cemetery on 30 September 2019 at approximately 3:00 PM from the Memorial Gate.  PGR has been invited to attend the services by his family and we will be there to stand tall\, silent and proud in honor of this US Army Combat Veteran\, his family\, friends and comrades at arms.\n\n\nPRIMARY STAGING DETAILS: 09-30-19 \nStaging: 1:15 PM\n \nCunningham Turch FH\n811 Cameron Street\nAlexandria\, Virginia 22314\n\n\nRide Captain: \nRoland Lataille\n703-398-7839\nhd.triker@yahoo.com\n\n\nSpecial Instructions: \nService: 30 September 2019\nStage: 1:15 PM\nBrief: 1:30 PM\nKSU: 1:45 PM\, LEO conducted escort departs for ANC.\nHonors: 3:00 PM\, Graveside ANC (time approx.)\nLarge 3×5 flags are not permitted in ANC\, but can be used during escort\, furled upon arrival @ ANC\nDress & hydrate accordingly – Check the weather @ http://tinyurl.com/Arlington-Weather Concealed/carry permits are NOT recognized on military installations and federal reservations. Therefore do not bring weapons or hazardous materials to this mission.\n\n\nFlags & Water:\nFlags will not be provided\nIf you have large bike flags\, please bring them.\nWater WILL NOT be provided\, please bring your own.\n\nSubmitted By: Bruce Gentile \nPosition: Maryland State Captain \n\nNote: You do not have to own/ride a motorcycle or be a veteran to join\, and membership is Free. The only requirement is RESPECT! To subscribe to receive mission notices\, log into the National Site and click on the Members tab at the top. Select the Subscribe to PGR Missions option.\n Print This Page
URL:https://www.patriotguard.org/mission/elis-a-barreto-ortiz-2/
CATEGORIES:Arlington National Cemetery
END:VEVENT
END:VCALENDAR