BEGIN:VCALENDAR
VERSION:2.0
PRODID:-//Patriot Guard Riders - ECPv5.3.2.1//NONSGML v1.0//EN
CALSCALE:GREGORIAN
METHOD:PUBLISH
X-WR-CALNAME:Patriot Guard Riders
X-ORIGINAL-URL:https://www.patriotguard.org
X-WR-CALDESC:Events for Patriot Guard Riders
BEGIN:VTIMEZONE
TZID:America/New_York
BEGIN:DAYLIGHT
TZOFFSETFROM:-0500
TZOFFSETTO:-0400
TZNAME:EDT
DTSTART:20190310T070000
END:DAYLIGHT
BEGIN:STANDARD
TZOFFSETFROM:-0400
TZOFFSETTO:-0500
TZNAME:EST
DTSTART:20191103T060000
END:STANDARD
END:VTIMEZONE
BEGIN:VEVENT
DTSTART;VALUE=DATE:20190902
DTEND;VALUE=DATE:20190903
DTSTAMP:20210401T100220
CREATED:20190821T013418Z
LAST-MODIFIED:20190821T013418Z
UID:171480-1567382400-1567468799@www.patriotguard.org
SUMMARY:Roger Ford Barnes Tompkins
DESCRIPTION:Honor Mission\nRoger Ford Barnes Tompkins \, Veteran\nUSA –\nCanton\, Georgia – 09-02-19\n\n\n\n\nABOUT THE MISSION: \nIt is my sad duty to inform of the passing of another U.S. Army Veteran. The family of Mr. Roger Ford Barnes Tompkins has asked we stand a silent flag line to honor the life and service of their hero. It will be our Honor and privilege to do so.\nSPEC-4 (T) Tompkins served Stateside from Aug 1965 -1967 . Mr. Tompkins Loved riding his motorcycles (owning several over the years); enjoyed camping\, kayaking and sailing. Of late\, his daughter asked him; ‘what do think about having been in the Army’ and his response was- “Best thing I ever did”.\n          This mission is on Labor Day but early morning so please come honor this veteran and then there will be time to enjoy your holiday.\n\n\nPRIMARY STAGING DETAILS: 09-02-19 \nStaging Time: 08:17 AM \nGeorgia National Cemetery\n1080 Scott Hudgens Drive\nCanton\, Georgia 30114\n\n\nRide Captain: \nPeter ‘Sidehack’ Hefele\nsidehack@aol.com\n404-791-6151\n\n\nSpecial Instructions: \nStage at the flag pole area between PIC building and Shelter 1 where we will have a short Briefing before heading to the assigned shelter. We will stand a silent flag line at his interment scheduled for 9:00 AM.\n\nFlags & Water:\nFlags will be provided\nLarge Bike Flags will NOT be needed.\nWater will be provided.\n\n\n\nSubmitted By: Peter Hefele \nPosition: Georgia Ride Captain \n\nNote: You do not have to own/ride a motorcycle or be a veteran to join\, and membership is Free. The only requirement is RESPECT! To subscribe to receive mission notices\, log into the National Site and click on the Members tab at the top. Select the Subscribe to PGR Missions option.\n Print This Page
URL:https://www.patriotguard.org/mission/roger-ford-barnes-tompkins/
CATEGORIES:Honor Mission
END:VEVENT
BEGIN:VEVENT
DTSTART;VALUE=DATE:20190902
DTEND;VALUE=DATE:20190903
DTSTAMP:20210401T100220
CREATED:20190822T203820Z
LAST-MODIFIED:20190829T203324Z
UID:171675-1567382400-1567468799@www.patriotguard.org
SUMMARY:Kenneth Lee Anderson
DESCRIPTION:  \n\nSTAND DOWN\n//UPDATE// Honor Mission\nKenneth Lee Anderson\, Veteran\nUSMC – Vietnam\nJacksonville\, Florida  09-02-19\n\n\n \n\nABOUT THE MISSION: \nThe family of Sgt Kenneth Lee Anderson (71) requested the Patriot Guard Riders’ presence to escort his cremains from Lannie Road Baptist Church to the Jacksonville National Cemetery and stand a flag line for his service as the family shows their final respects to their hero. Sgt Anderson served his country honorably for 7 years after enlisting in the U.S. Marine Corps. During his time of service\, he completed 2 tours in Vietnam. Following his service in the Marine Corps\, he attended the University of North Florida earning a degree in Computer Science. Military Awards include; National Defense Service Medal\, Presidential Unit Citation\, Republic of Vietnam Service Medal w/Star\, Vietnam Campaign Medal w/Device\, Purple Heart Medal\, Good Conduct (2 awards) and Combat Action Ribbon. Please join us in the flag line as the family pays their final respects to their loved one.\n\n\nPRIMARY STAGING DETAILS: 09-02-19 \nStaging Time: 10:00 AM  \nLannie Road Baptist Church\n5998 Lannie Road\nJacksonville\, Florida 32218\nMap\n\n\nRide Captain: \nRichard Vernon\nrichvernon2370@yahoo.com\n(904) 254-9269\n\n\nSpecial Instructions: \n          Staging:    9:00 AM\n          Brief:          9:15 AM\n          Dignified Transfer of remains:  9:25 AM\n          KSU:  9:30 AM\nThe family will meet us at Lannie Road Baptist Church to transfer the Cremains to a motorcycle. We will then escort them to JNC for final honors.\n\n\nFlags & Water:\nFlags will be provided.\nIf you have large bike flags\, please bring them.\nWater WILL NOT be provided\, please bring your own.\n\n\nSubmitted By: Richard Vernon \nPosition: Florida Assistant State Captain \n\nNote: You do not have to own/ride a motorcycle or be a veteran to join\, and membership is Free. The only requirement is RESPECT! To subscribe to receive mission notices\, log into the National Site and click on the Members tab at the top. Select the Subscribe to PGR Missions option.\n Print This Page
URL:https://www.patriotguard.org/mission/kenneth-lee-anderson/
CATEGORIES:Honor Mission
END:VEVENT
BEGIN:VEVENT
DTSTART;VALUE=DATE:20190902
DTEND;VALUE=DATE:20190903
DTSTAMP:20210401T100220
CREATED:20190831T102955Z
LAST-MODIFIED:20191127T163356Z
UID:172378-1567382400-1567468799@www.patriotguard.org
SUMMARY:Kevin Wayne Cotter
DESCRIPTION:Honor Mission\nA1C Kevin Wayne Cotter\, Veteran\nUSAF –\nMountain Home\, Arkansas – 09-02-19\n\n\n\nABOUT THE MISSION: \nKevin Cotter\, 47\, served his country honorably in the U.S. Air Force from 1995 until 2001\, attaining the rate of Airman 1st Class.\n\n\nPRIMARY STAGING DETAILS: 09-02-19 \nStaging Time: 2:00 PM\n \nReal Life Church\n1326 Rossi Rd.\nMountain Home\, Arkansas 72653\nMap\n\n\nRide Captain: \nJay Lanning\n(870)421-4627\nbird1559@suddenlink.net\n\n\nSpecial Instructions: \nStaging & briefing at 2:00 p.m.\nStand a flag line from 2:15 until 3:00.\nAt the conclusion of the memorial service provide escort to Kirby Tucker Cemetery\, 920 Kirby Tucker Rd.\, and stand a flag line during military honors.\nWeather forecast 87 deg. mostly sunny.\n\n\nFlags & Water:\nFlags will be provided\nIf you have large bike flags\, please bring them.\nWater will be provided.\n\n\n\nSubmitted By: Jay Lanning \nPosition: Arkansas Ride Captain \n\nNote: You do not have to own/ride a motorcycle or be a veteran to join\, and membership is Free. The only requirement is RESPECT! To subscribe to receive mission notices\, log into the National Site and click on the Members tab at the top. Select the Subscribe to PGR Missions option.\n Print This Page
URL:https://www.patriotguard.org/mission/kevin-wayne-cotter/
CATEGORIES:Honor Mission
END:VEVENT
BEGIN:VEVENT
DTSTART;VALUE=DATE:20190902
DTEND;VALUE=DATE:20190903
DTSTAMP:20210401T100220
CREATED:20190831T175654Z
LAST-MODIFIED:20190831T175736Z
UID:172291-1567382400-1567468799@www.patriotguard.org
SUMMARY:James Kittrell
DESCRIPTION:Honor Mission\nJames Kittrell\, Veteran\nUSN\nValliant\, Oklahoma – 09-02-19\n\n\n\nABOUT THE MISSION: \nThe family of James Kittrell USN Veteran\, has requested the Patriot Guard Riders to stand a flag-line at his funeral service\, to be held on Monday\, 2 Sep 2019\, in Valliant\,OK.  Services will be held at the Miller and Miller Funeral Home in Valliant\,OK\, at 10:00 AM.  The Navy Honor Guard will perform Military Honors.  Flag-line only.\n\n\nPRIMARY STAGING DETAILS: 09-02-19 \nStaging: 9:00 AM\n \nMiller-Miller Funeral Home\n201 E Wilson\nValliant\, Oklahoma 74764\n\n\nRide Captain: \nDale “Doc” Young\nDale11@classicnet.net\n580-286-1615\n\n\nSpecial Instructions: \nMandatory briefing: 9:15 AM\nFlag-line: 9:30 AM\nWeather: Temp Low 69\, High 94\, Partly cloudy.\n\n\nFlags & Water:\nFlags will be provided\nLarge Bike Flags will NOT be needed.\nWater WILL NOT be provided\, please bring your own.\n\nSubmitted By: Ronnie Smith \nPosition: Oklahoma Ride Captain \n\nNote: You do not have to own/ride a motorcycle or be a veteran to join\, and membership is Free. The only requirement is RESPECT! To subscribe to receive mission notices\, log into the National Site and click on the Members tab at the top. Select the Subscribe to PGR Missions option.\n Print This Page
URL:https://www.patriotguard.org/mission/james-kittrell/
CATEGORIES:Honor Mission
END:VEVENT
BEGIN:VEVENT
DTSTART;VALUE=DATE:20190902
DTEND;VALUE=DATE:20190904
DTSTAMP:20210401T100220
CREATED:20190831T191938Z
LAST-MODIFIED:20190831T192303Z
UID:172318-1567382400-1567555199@www.patriotguard.org
SUMMARY:Luis F. Deleon-Figueroa
DESCRIPTION:Honor Mission\nLuis F. Deleon-Figueroa\, KIA\nUSA – WoT\nWest Springfield\, Massachusetts – 09-02-19\n\n\n\nABOUT THE MISSION: \nThe family of US Army KIA Master Sergeant Luis F. DeLeon-Figueroa\, has requested our presence at the Wake\, Funeral and Interment of their beloved American Hero.  Master Sergeant DeLeon-Figueroa served in the US Army and was assigned to 1st Battalion\, 7th Special Forces Group (Airborne)\, Eglin Air Force Base\, Florida.  Master Sergeant DeLeon-Figueroa\, along with a Brother in Arms from California\, died August 21\, 2019 in Faryab Province\, Afghanistan as a result of wounds sustained from small arms fire while engaged in combat operations.  Master Sergeant DeLeon-Figueroa is survived by his fiancé\, two young daughters\, a step-daughter\, a sister\, his grandmother and his foster family.\n\n\nPRIMARY STAGING DETAILS: 09-02-19 \nStaging: 2:00 PM\n \nPintus Indian Place Restaurant\, Parking Lot\n25 Park Avenue\nWest Springfield\, Massachusetts 01089\n\n\nRide Captains: \nLarry Drum\nledrum56@yahoo.com\n\nSteve Joyce\npopsteve1@comcast.net\n\n\nSpecial Instructions: \nBrief: 2:30 PM\nKSU: 2:40 PM\, The PGR has been requested to be present for the wake.\nWake: from 3:00 PM – 7:00 PM\, Attend for as long as you are able to\, flags will be provided.\nWake at: Curran-Jones Funeral Home 109 Main Street West Springfield\, MA 01089\nOverflow Parking: American Legion\, Post 207 83 Park Avenue West Springfield\, MA 01089\n\n\nFlags & Water:\nFlags will be provided\nLarge Bike Flags will NOT be needed.\nWater WILL NOT be provided\, please bring your own.\n\nSTAGING #2 DETAILS: 09-03-19 \nStaging: 8:00 AM\n \nBethany Assembly of God Church\n580 Main Street\, Southeast parking lot (near maintenance shed)\nAgawam\, Massachusetts 01001\n\n\nRide Captains: \nLarry Drum\nledrum56@yahoo.com\n\nSteve Joyce\npopsteve1@comcast.net\n\n\nSpecial Instructions: \nBrief: 8:30 AM\nKSU: 8:45 AM\nInterment: Immediately following\, At: Massachusetts Veterans Memorial Cemetery\, 1390 Main Street\, Agawam\, MA 01001\nPLEASE NOTE: NO vehicles (other than our Flag Truck) will be allowed in the cemetery\, we will park in a designated spot outside the cemetery gates and walk in.\n\n\nFlags & Water:\nFlags will be provided\nIf you have large bike flags\, please bring them.\nWater WILL NOT be provided\, please bring your own.\n\nSubmitted By: Larry Drum \nPosition: Massachusetts Assistant State Captain \n\nNote: You do not have to own/ride a motorcycle or be a veteran to join\, and membership is Free. The only requirement is RESPECT! To subscribe to receive mission notices\, log into the National Site and click on the Members tab at the top. Select the Subscribe to PGR Missions option.\n Print This Page
URL:https://www.patriotguard.org/mission/luis-f-deleon-figueroa/
CATEGORIES:Honor Mission
END:VEVENT
BEGIN:VEVENT
DTSTART;VALUE=DATE:20190902
DTEND;VALUE=DATE:20190903
DTSTAMP:20210401T100220
CREATED:20190831T201323Z
LAST-MODIFIED:20190831T201323Z
UID:172420-1567382400-1567468799@www.patriotguard.org
SUMMARY:Kenneth Andrew Collins
DESCRIPTION:Memorial\nKenneth Andrew Collins\, Retired\nUSN – Vietnam\nGarden City\, Georgia – 09-02-19\n\n\nABOUT THE MISSION:\n\n\nThe family of Chief Kenneth Andrew Collins has asked the Patriot Guard Riders to stand for their fallen hero and we are honored to do so. Chief Collins served 28 years with the U.S. Navy as a radioman. Chief Collins is survived by a wife of 57 years and four daughters.\n\n\nPRIMARY STAGING DETAILS: 09-02-19 \nStaging Time: 10:00  \nWoodlawn Baptist Church\n407 Talmadge Ave\nGarden City\, Georgia 31408\n\n\nRide Captain: \nGreg “LT” Ernst\n912-856-0507\ngernst1856@gmail.com\n\n\nSpecial Instructions: \nWe will brief at 10:00 am and stand a flag-line from 10:30 to 11:30 am.\n\n\nFlags & Water:\n\nFlags will be provided\nLarge Bike Flags will NOT be needed.\nWater will be provided.\n\n\n\nSubmitted By: Gregory Ernst \nPosition: Georgia Ride Captain \n\nNote: You do not have to own/ride a motorcycle or be a veteran to join\, and membership is Free. The only requirement is RESPECT! To subscribe to receive mission notices\, log into the National Site and click on the Members tab at the top. Select the Subscribe to PGR Missions option.\n Print This Page
URL:https://www.patriotguard.org/mission/kenneth-andrew-collins/
CATEGORIES:Memorial
END:VEVENT
BEGIN:VEVENT
DTSTART;VALUE=DATE:20190902
DTEND;VALUE=DATE:20190903
DTSTAMP:20210401T100220
CREATED:20190902T141523Z
LAST-MODIFIED:20190902T141523Z
UID:172436-1567382400-1567468799@www.patriotguard.org
SUMMARY:Curtis Leon McAdoo
DESCRIPTION:Honor Mission\nCurtis Leon McAdoo\, Retired\nUSA – Vietnam\nCopperas Cove\, Texas – 09-02-19\n\n\n\nABOUT THE MISSION: \nSergeant First Class Curtis Leon McAdoo joined the Army in 1956 where he became a medic. Duty took him and his family to Berlin\, Germany and Izmir\, Turkey. He was also in Korea and Vietnam. Curtis retired from the Army in 1977.\nObituary\n\n\nPRIMARY STAGING DETAILS: 09-02-19 \nStaging Time: 1:05 PM\n \nCrawford-Bowers Funeral Home\n211 West Avenue B\nCopperas Cove\, Texas 76522\nMap\n\n\nRide Captain: \nHolly “Holler” Melendez\n254.931.0127\nInVamous_Kai@yahoo.com\n\n\nSpecial Instructions: \nStaging Time: 0105 P.M.\nBriefing: 01:15 P.M.\nFlagline Establishment: 01:25 +/-\nOnce the Funeral Service begins\, we will strike the flagline and depart quietly.\n\n\nFlags & Water:\nFlags will be provided\nLarge Bike Flags will NOT be needed.\nWater will be provided.\n\n\n\nSubmitted By: Holly Melendez \nPosition: Texas Ride Captain \n\nNote: You do not have to own/ride a motorcycle or be a veteran to join\, and membership is Free. The only requirement is RESPECT! To subscribe to receive mission notices\, log into the National Site and click on the Members tab at the top. Select the Subscribe to PGR Missions option.\n Print This Page
URL:https://www.patriotguard.org/mission/curtis-leon-mcadoo/
CATEGORIES:Honor Mission
END:VEVENT
END:VCALENDAR