BEGIN:VCALENDAR
VERSION:2.0
PRODID:-//Patriot Guard Riders - ECPv5.3.2.1//NONSGML v1.0//EN
CALSCALE:GREGORIAN
METHOD:PUBLISH
X-WR-CALNAME:Patriot Guard Riders
X-ORIGINAL-URL:https://www.patriotguard.org
X-WR-CALDESC:Events for Patriot Guard Riders
BEGIN:VTIMEZONE
TZID:America/New_York
BEGIN:DAYLIGHT
TZOFFSETFROM:-0500
TZOFFSETTO:-0400
TZNAME:EDT
DTSTART:20190310T070000
END:DAYLIGHT
BEGIN:STANDARD
TZOFFSETFROM:-0400
TZOFFSETTO:-0500
TZNAME:EST
DTSTART:20191103T060000
END:STANDARD
END:VTIMEZONE
BEGIN:VEVENT
DTSTART;VALUE=DATE:20190705
DTEND;VALUE=DATE:20190710
DTSTAMP:20210404T023613
CREATED:20190705T192426Z
LAST-MODIFIED:20190705T192426Z
UID:166710-1562284800-1562716799@www.patriotguard.org
SUMMARY:Carl Ferguson
DESCRIPTION:Honor Mission\nCarl Ferguson\, Veteran\nUSAF –\nLake Havasu City\, Arizona – 07-09-19\n\n\n\n\nABOUT THE MISSION: \nThe family of Carl Ferguson\, 85 years young\, has requested the Patriot Guard Riders for a Memorial Flag Line and Military Honors. It is with great honor to do so! Carl served in the Air Force from 1958 – 1962.\n\n\nPRIMARY STAGING DETAILS: 07-09-19 \nStaging Time: 09:10 am \nVFW POST 9401\n266 London Bridge Road\nLake Havasu City\, Arizona 86403\n\n\nRide Captain: \nJed ‘Muther Hen’ Kohler  717-880-7745\njedsky@live.com\n\n\nSpecial Instructions: \nBriefing Time: 9:20 A.M.\nFlag Line: 9:30 A.M.\nMilitary Honors: 10:00 A.M\n\n\nFlags & Water:\nFlags will be provided\nLarge Bike Flags will NOT be needed.\nWater will be provided.\n\nSubmitted By: Jed Kohler \nPosition: Arizona Assistant State Captain \n\nNote: You do not have to own/ride a motorcycle or be a veteran to join\, and membership is Free. The only requirement is RESPECT! To subscribe to receive mission notices\, log into the National Site and click on the Members tab at the top. Select the Subscribe to PGR Missions option.\n Print This Page
URL:https://www.patriotguard.org/mission/carl-ferguson/
CATEGORIES:Honor Mission
END:VEVENT
BEGIN:VEVENT
DTSTART;VALUE=DATE:20190707
DTEND;VALUE=DATE:20190709
DTSTAMP:20210404T023613
CREATED:20190703T222533Z
LAST-MODIFIED:20190703T222533Z
UID:166586-1562457600-1562630399@www.patriotguard.org
SUMMARY:Robert Posey Bridges
DESCRIPTION:Honor Mission\nRobert Posey Bridges\, Veteran\nUSA \, Vietnam\nWoodstock\, Georgia – 07-07-19\n\n\n\n\nABOUT THE MISSION: \nThe family of Robert Bridges has asked us to stand for their Hero and it will be our honor to do so. SP4 Bridges was a native of Atlanta and served a meritorious tour in Vietnam in the late 60’s. He received several medals for his gallantry. After his military service he joined the US Postal Service as a letter carrier. This is a two day mission with flag line visitation\, then funeral home service and escort the following day.\n\n\nPRIMARY STAGING DETAILS: 07-07-19 \nStaging Time: 16:45  \nWoodstock Funeral Home\n8855 Main St.\nWoodstock\, Georgia 30188\n\n\nRide Captain: \nRaymond Myers\nhorseplay2@AOL.com\n770-312-3386\n\n\nSpecial Instructions: \nMeet at the rear parking lot for a briefing before standing the two hour flag line.\n\n\nFlags & Water:\n\nFlags will be provided\nLarge Bike Flags will NOT be needed.\nWater will be provided.\n\nSTAGING #2 DETAILS: 07-08-19 \nStaging Time: 11:45  \nWoodstock Funeral Home\n8855 Main St.\nWoodstock\, Georgia 30188\n\n\nRide Captain: \nClete Simpson\ncsimps15@comcast.net\n770-364-6266\n\n\nSpecial Instructions: \nArrive quietly as the funeral home service will be taking place at 11:30 AM. Meet in the rear parking lot for a briefing. We will then line up for the LEO escort to the Georgia National Cemetery. KSU apporx. 12:30 PM for the 1:30 service at GNC.\n\n\nFlags & Water:\n\nFlags will not be provided\nIf you have large bike flags\, please bring them.\nWater will be provided.\n\nSTAGING #3 DETAILS: 07-08-19 \nStaging Time: 12:45  \nGeorgia National Cemetery\n1080 Veterans Cemetery Rd.\nCanton\, Georgia 30114\n\n\nRide Captain: \nClete Simpson\ncsimps15@comcast.net\n770-364-6266\n\n\nSpecial Instructions: \nMeet at the flag pole area at the top of the hill toward shelter one. Bikes park on the sidewalk and cages park along side the road. Leave room for vehicles to pass.After a short briefing we will move to the assigned shelter for the 1:30 service.NOTICE: There is another PGR mission directly after this one at 2:00 PM. We will try to get the same shelter assigned for both. Plan to stay for both missions if possible.\n\n\nFlags & Water:\n\nFlags will be provided\nLarge Bike Flags will NOT be needed.\nWater will be provided.\n\n\n\n\nSubmitted By: Clete Simpson \nPosition: Georgia Ride Captain \n\nNote: You do not have to own/ride a motorcycle or be a veteran to join\, and membership is Free. The only requirement is RESPECT! To subscribe to receive mission notices\, log into the National Site and click on the Members tab at the top. Select the Subscribe to PGR Missions option.\n Print This Page
URL:https://www.patriotguard.org/mission/robert-posey-bridges/
CATEGORIES:Honor Mission
END:VEVENT
BEGIN:VEVENT
DTSTART;VALUE=DATE:20190707
DTEND;VALUE=DATE:20190708
DTSTAMP:20210404T023613
CREATED:20190704T190909Z
LAST-MODIFIED:20190704T191153Z
UID:166623-1562457600-1562543999@www.patriotguard.org
SUMMARY:Carrol Desmond Engler
DESCRIPTION:Honor Mission\nCarrol Desmond Engler \, Veteran\nUSA \, WWII\nShepherdsville\, Kentucky – 07-07-19\n\n\n\n\nABOUT THE MISSION: \nMr. Engler proudly served in the U.S. Army with the 81st Infantry Division in the Pacific during WWII.\n\n\nPRIMARY STAGING DETAILS: 07-07-19 \nStaging Time: 2:30 pm  \nSchoppenhorst\, Underwood and Brooks\n4895 North Preston Hwy\nShepherdsville\, Kentucky 40165\n\n\nRide Captain: \nDavid Ballard\n502 249 0011\n\n\nSpecial Instructions:Please come dressed for the weather and hydrated Visitation only will be Sunday\, July 7th from 3 pm to 7 pm at Schoppenhorst\, Underwood & Brooks – 4895 North Preston Hwy; Shepherdsville\, KY 40165Escort only will be on Monday\, July 8th following the funeral service at Schoppenhorst which begins at 10 am. — Mr. Engler will be escorted to Louisville Memorial Gardens West which is located at 4400 Dixie Hwy Louisville\, KY 40216 \n\nFlags & Water:\nFlags will be provided\nLarge Bike Flags will NOT be needed.\nWater WILL NOT be provided\, please bring your own.\n\nSTAGING #2 DETAILS: 07-08-19 \nStaging Time: 9:00 am  \nSchoppenhorst\, Underwood and Brooks\n4895 North Preston Hwy\nShepherdsville\, Kentucky 40165\n\n\nRide Captain: \nDavid Ballard\n502 249 0011\n\n\nSpecial Instructions: \nService begins at 10 am and the escort will be immediately following the service. Escort will be to Louisville\, Memorial Gardesn West 4400 Dixie Hwy Louisville\, KY 40216\n\nFlags & Water:\nFlags will not be provided\nIf you have large bike flags\, please bring them.\nWater WILL NOT be provided\, please bring your own.\n\n\n\nSubmitted By: Thomas Baker \nPosition: Kentucky Ride Captain \n\nNote: You do not have to own/ride a motorcycle or be a veteran to join\, and membership is Free. The only requirement is RESPECT! To subscribe to receive mission notices\, log into the National Site and click on the Members tab at the top. Select the Subscribe to PGR Missions option.\n Print This Page
URL:https://www.patriotguard.org/mission/07-07-19-carrol-desmond-engler/
CATEGORIES:Honor Mission
END:VEVENT
BEGIN:VEVENT
DTSTART;VALUE=DATE:20190707
DTEND;VALUE=DATE:20190708
DTSTAMP:20210404T023613
CREATED:20190704T201314Z
LAST-MODIFIED:20190704T201314Z
UID:166543-1562457600-1562543999@www.patriotguard.org
SUMMARY:Troop Send Off
DESCRIPTION:Send-off\nTroop Send Off\nARNG –\nW. Columbia\, South Carolina – 07-07-19\n\n\n\nABOUT THE MISSION: \nWe have troops departing for missions elsewhere and it is time to stand to wish them well.\n\n\nPRIMARY STAGING DETAILS: 07-07-19 \nStaging Time: 05:30 AM\n \nColumbia Metro Airport Lobby\n3250 Airport Blvd\nW. Columbia\, South Carolina 29170\nMap\n\n\nRide Captain: \nL.Z. Harrison\, Jr.\n(803) 360-3830\n\n\nSpecial Instructions: \nBriefing: 5:45 AM\nAfter briefing\, establish flag line for their arrival.\nStand down and prepare to stand flag line for their departure.\nNOTE: Park in the parking garage. We are working on parking validation\, but it is not confirmed so be prepared to pay for parking.\nFlags: Richard “Two Pack” Hartzog\n\n\nFlags & Water:\nFlags will be provided\nLarge Bike Flags will NOT be needed.\nWater WILL NOT be provided\, please bring your own.\n\n\n\nSubmitted By: L.Z. Harrison\, Jr. \nPosition: South Carolina Assistant State Captain \n\nNote: You do not have to own/ride a motorcycle or be a veteran to join\, and membership is Free. The only requirement is RESPECT! To subscribe to receive mission notices\, log into the National Site and click on the Members tab at the top. Select the Subscribe to PGR Missions option.\n Print This Page
URL:https://www.patriotguard.org/mission/troop-send-off-2/
CATEGORIES:Send-off
END:VEVENT
BEGIN:VEVENT
DTSTART;VALUE=DATE:20190707
DTEND;VALUE=DATE:20190708
DTSTAMP:20210404T023613
CREATED:20190705T154456Z
LAST-MODIFIED:20190705T154456Z
UID:166679-1562457600-1562543999@www.patriotguard.org
SUMMARY:Nation of Patriots
DESCRIPTION:HOTH Mission\nNation of Patriots\, Veteran\nUSA USMC USN USAF USCG –\nScottsdale\, Arizona – 07-07-19\n\n\n\nABOUT THE MISSION: \nOne flag is traveling nearly 15-thousand miles with 150-thousand riders\, over 110 days. The Arizona Patriot Guard Riders have been invited to stand a flag line for the arriving riders and the tour flag. The ninth annual Patriot Tour launched from Beaver Dam Saturday morning on Armed Forces Day. During the tour\, bikers carry the flag city-to-city through all 48 continental states to raise money for disabled veterans and their families.\n\n\nPRIMARY STAGING DETAILS: 07-07-19 \nStaging Time: 08:15 AM\n \nHarley-Davidson of Scottsdale\n15656 N Hayden Rd\nScottsdale\, Arizona 85260\n\n\nRide Captain: \nDan Lazear\n480-223-8628\nazpgrdan@gmail.com\n\nFlag Support: Karen\n\n\nSpecial Instructions: \nCircle of Honor. TBA\nFlag Line Set: 8:30 A.M.\nArrival of Nation of Patriots Tour Flag: 9:00 A.M.\n\n\nFlags & Water:\nFlags will be provided\nLarge Bike Flags will NOT be needed.\nWater will be provided.\n\n\n\nSubmitted By: Bill Wooster \nPosition: Arizona Assistant State Captain \n\nNote: You do not have to own/ride a motorcycle or be a veteran to join\, and membership is Free. The only requirement is RESPECT! To subscribe to receive mission notices\, log into the National Site and click on the Members tab at the top. Select the Subscribe to PGR Missions option.\n Print This Page
URL:https://www.patriotguard.org/mission/nation-of-patriots-2/
CATEGORIES:HOTH Mission
END:VEVENT
BEGIN:VEVENT
DTSTART;VALUE=DATE:20190707
DTEND;VALUE=DATE:20190708
DTSTAMP:20210404T023613
CREATED:20190705T162453Z
LAST-MODIFIED:20191127T073403Z
UID:166700-1562457600-1562543999@www.patriotguard.org
SUMMARY:Lawrence Leon Watson
DESCRIPTION:Honor Mission\nSgt Lawrence Leon Watson\, Veteran\nUSMC – Vietnam\nMountain Home\, Arkansas – 07-07-19\n\n\n\nABOUT THE MISSION: \nThe Patriot Guard has been requested by the family of Lawrence Leon Watson\, 73\, to honor their hero at his funeral. Leon Watson served in the United States Marines from 1965 to 1971 when he was honorably discharged as a Sergeant. He earned several commendations while serving his country in VietNam.\nObituary\n\n\nPRIMARY STAGING DETAILS: 07-07-19 \nStaging Time: 10:15 AM\n \nRoller Funeral Home\n25 County Road 27\nMountain Home\, Arkansas 72653\nMap\n\n\nRide Captain: \nJay Lanning\nMountain Home\n(870)421-4627\nbird1559@suddenlink.net\n\n\nSpecial Instructions: \nBriefing and staging: 10:15 a.m.\nStanding flag line until commencement of service at 11:00 a.m.\nFlag line following service at Baxter Memorial Gardens\, adjacent to the funeral home\, during military honors by the Marine Honor Guard and American Legion.\nThere will not be an escort.\nCages welcome.\n\n\nFlags & Water:\nFlags will be provided\nLarge Bike Flags will NOT be needed.\nWater will be provided.\n\n\n\nSubmitted By: Jay Lanning \nPosition: Arkansas Ride Captain \n\nNote: You do not have to own/ride a motorcycle or be a veteran to join\, and membership is Free. The only requirement is RESPECT! To subscribe to receive mission notices\, log into the National Site and click on the Members tab at the top. Select the Subscribe to PGR Missions option.\n Print This Page
URL:https://www.patriotguard.org/mission/lawrence-leon-watson/
CATEGORIES:Honor Mission
END:VEVENT
BEGIN:VEVENT
DTSTART;VALUE=DATE:20190707
DTEND;VALUE=DATE:20190708
DTSTAMP:20210404T023613
CREATED:20190705T181708Z
LAST-MODIFIED:20190705T181709Z
UID:166704-1562457600-1562543999@www.patriotguard.org
SUMMARY:Robert Prater
DESCRIPTION:Honor Mission\nRobert Prater\, Veteran\nUSMC – Vietnam\nHope\, Arkansas – 07-07-19\n\n\n\nABOUT THE MISSION: \nThe family requests the Patriot Guard Riders to help give honor and respect to their Hero\, Robert Prater\, who honorably served in the Marine Corp from May\, 1967 until March\, 1970. During his tour of Vietnam\, our hero received 3 Purple Hearts from his dedication to this country. Mr. Prater also served Arkansas Governor Mike Huckabee as an appointee to the Independent Living Council. He was Post Commander for the American Legion Post #58. He was President of VVA Chapter 836\, and was President of the Giles Cemetery Association. He was also a leader in his local church. Survivors Include his wife of 48 years\, one daughter\, 5 sons\, 5 sisters\, grandchildren and great-grandchildren. Interment will be at Giles Cemetery following services.\n\n\nPRIMARY STAGING DETAILS: 07-07-19 \nStaging Time: 1:00 PM\n \nProvidence Baptist Church\n3576 US-278\nHope\, Arkansas 71801\nMap\n\n\nRide Captain: \nTim Estes\n870-722-8080\nestes.tim.55@gmail.com\n\n\nSpecial Instructions: \nSTAGING #1:1:00 PM\nBRIEFING: 1:15 PM (Required to ride in Escort).\nFLAG LINE: 1:30 PM – 2:00 PM\nRESPECT LINE and ESCORT: At conclusion of service to Giles Cemetery\, 4711 Hempstead 3\, Hope\, AR 71801.\nMap\nFLAG LINE: For interment service.\nBig Bike Flags Encouraged.\nCages Welcome.\nAt time of posting\, Weather forecast to be Sunny and 95 degrees.\nPlease come well hydrated. Water will be provided.\nSnacks are encouraged between Church Flag line and end of service.\n\n\nFlags & Water:\nFlags will be provided\nIf you have large bike flags\, please bring them.\nWater will be provided.\n\n\n\nSubmitted By: Tim Estes \nPosition: Arkansas Ride Captain \n\nNote: You do not have to own/ride a motorcycle or be a veteran to join\, and membership is Free. The only requirement is RESPECT! To subscribe to receive mission notices\, log into the National Site and click on the Members tab at the top. Select the Subscribe to PGR Missions option.\n Print This Page
URL:https://www.patriotguard.org/mission/robert-prater/
CATEGORIES:Honor Mission
END:VEVENT
BEGIN:VEVENT
DTSTART;VALUE=DATE:20190707
DTEND;VALUE=DATE:20190708
DTSTAMP:20210404T023613
CREATED:20190706T103844Z
LAST-MODIFIED:20190706T103844Z
UID:166737-1562457600-1562543999@www.patriotguard.org
SUMMARY:Roger Dale “Hunky” Hall
DESCRIPTION:Honor Mission\nRoger Dale “Hunky” Hall\, Veteran\, PGR\nUSAF – Vietnam\nJenkins\, Kentucky – 07-07-19\n\n\n\nABOUT THE MISSION: \nHe was a United States Air Force veteran of the Vietnam War. He served as Constable for twenty-six years and served as a law enforcement officer for over thirty years. He was a member of the following groups: Patriot Guard Riders\, American Legion\, Jenkins Masonic Lodge #856\n\n\nPRIMARY STAGING DETAILS: 07-07-19 \nStaging Time: 2:00 PM\n \nBurdine Freewill Baptist Church\n11549 Highway 805\nJenkins\, Kentucky 41537\n\n\nRide Captain: \nMarion Rogers\n606-794-6277\n\n\nSpecial Instructions: \n\n\nFlags & Water:\nFlags will be provided\nLarge Bike Flags will NOT be needed.\nWater WILL NOT be provided\, please bring your own.\n\n\n\nSubmitted By: Tom Folsom \nPosition: Kentucky State Captain \n\nNote: You do not have to own/ride a motorcycle or be a veteran to join\, and membership is Free. The only requirement is RESPECT! To subscribe to receive mission notices\, log into the National Site and click on the Members tab at the top. Select the Subscribe to PGR Missions option.\n Print This Page
URL:https://www.patriotguard.org/mission/roger-dale-hunky-hall/
CATEGORIES:Honor Mission
END:VEVENT
BEGIN:VEVENT
DTSTART;VALUE=DATE:20190707
DTEND;VALUE=DATE:20190708
DTSTAMP:20210404T023613
CREATED:20190706T105148Z
LAST-MODIFIED:20190706T105148Z
UID:166749-1562457600-1562543999@www.patriotguard.org
SUMMARY:C.O.P.S. Outward Bound Adventure
DESCRIPTION:HOTH Mission\nC.O.P.S. Outward Bound Adventure\n–\nMULTI-CITY\, Utah – 07-07-19\n\n\n\nABOUT THE MISSION: \nThe Patriot Guard Riders have been requested to provide an escort for C.O.P.S. Outward Bound Adventure. C.O.P.S. Outward Bound Adventure is an adventure-based program planned for teenagers and young adults (15-20 years of age) who are children of law enforcement officers who died in the line of duty. This will be a HOTH format.\nThe escort will begin at Crescent Junction on I-70 and US Hwy 191 near Green River at 08:30 AM. We will escort the children to Bluff\, UT.\n\n\nPRIMARY STAGING DETAILS: 07-07-19 \nStaging Time: 04:45 AM\n \nMaverik\n13962 S Redwood Rd\nRiverton\, Utah\n\n\nRide Captain: \nDave Richardson\n801-641-6009\n\n\nSpecial Instructions: \nKSU: 5:00 AM\nFor those in the SLC and North Area: Weather: Mostly cloudy with a 10% chance of showers and a high of 98. Temperatures in the low 70s in the early AM.\nPlease dress accordingly and keep yourself hydrated.\n\n\nFlags & Water:\nFlags will not be provided\nLarge Bike Flags will NOT be needed.\nWater WILL NOT be provided\, please bring your own.\n\nSTAGING #2 DETAILS: 07-07-19 \nStaging Time: 07:45 AM\n \nPapa Joe’s Stop & Go\nI-70 and US Hwy 191 Thompson Springs\nCrescent Junction\, Utah\n\n\nRide Captain: \nDave Richardson\n801-641-6009\n\n\nSpecial Instructions: \nKSU: 8:15 AM\nFor those in the Green River and South area: the gas prices here are extremely high so please plan on fueling up in Moab or Monticello.\nWeather: Mostly cloudy with a 10% chance of showers and a high of 98. Temperatures in the low 70s in the early AM.\nPlease dress accordingly and keep yourself hydrated.\n\n\nFlags & Water:\nFlags will not be provided\nLarge Bike Flags will NOT be needed.\nWater WILL NOT be provided\, please bring your own.\n\n\n\nSubmitted By: Dave Richardson \nPosition: Utah State Captain \n\nNote: You do not have to own/ride a motorcycle or be a veteran to join\, and membership is Free. The only requirement is RESPECT! To subscribe to receive mission notices\, log into the National Site and click on the Members tab at the top. Select the Subscribe to PGR Missions option.\n Print This Page
URL:https://www.patriotguard.org/mission/c-o-p-s-outward-bound-adventure/
CATEGORIES:HOTH Mission
END:VEVENT
BEGIN:VEVENT
DTSTART;TZID=America/New_York:20190707T000000
DTEND;TZID=America/New_York:20190707T000000
DTSTAMP:20210404T023613
CREATED:20190706T174341Z
LAST-MODIFIED:20190706T174341Z
UID:166804-1562457600-1562457600@www.patriotguard.org
SUMMARY:Roy Lee Bates
DESCRIPTION:Honor Mission\nRoy Lee Bates\nUSMC\, Korea\nWinchester\, Kentucky – 07-07-19\n\n\n Source: https://www.scobeefuneralhome.com/obituaries/Roy-Dickie-Lee-Bates?obId=4827828#/obituaryInfo \n\nABOUT THE MISSION: \n Mr. Roy “Dickie” Lee Bates\, 86 of Winchester. For this combat wounded Marine\, there could not have been a more fitting day for him to take his final journey to freedom than on Independence Day. Roy was honored to serve his country as a Marine. In early 1950\, this Kentucky boy found himself on a ship headed for combat zones in Korea. On September 1\, 1950\, just 3 days before his 19th birthday\, while on patrol there was an ambush and his group began taking heavy fire. As he began crawling on his belly\, he heard the dreaded click of a land mine beneath him. Before losing consciousness\, he realized that his left leg had been blown away. The Marines leave no man behind. One of them was killed in combat just a few days later. A highlight in Roy’s life and for his family\, many years later\, was getting to meet and to thank the other Marine for saving his life that day.\n\n\nPRIMARY STAGING DETAILS: 07-07-19 \nStaging Time: 15:30 PM \nScobee Funeral Home\n219 W Lexington Ave\nWinchester\, Kentucky 40391\n\n\nRide Captain: \nJohn Babcock\n859-771-2140\n\n\nSpecial Instructions: \nVisitation is 4:00 PM  to 8:00 PM\n\nFlags & Water:\nFlags will be provided\nLarge Bike Flags will NOT be needed.\nWater will be provided.\n\nSTAGING #2 DETAILS: 07-08-19 \nStaging Time: 10:30  \nLiberty Bible Church of God\n6615 Veteran’s Memorial Parkway\nWinchester\, Kentucky 40391\n\n\nRide Captain: \nJohn Babcock859-771-2140\n\n\nSpecial Instructions: \nFuneral Services begin at 11:00 AM.\nThere will not be an escort. Mr. Bates will be laid to rest in Arlington Cemetery\n\nFlags & Water:\nFlags will be provided\nLarge Bike Flags will NOT be needed.\nWater will be provided.\n\n\n\n\nSubmitted By: Kelli Oakley \nPosition: Kentucky Ride Captain \n\nNote: You do not have to own/ride a motorcycle or be a veteran to join\, and membership is Free. The only requirement is RESPECT! To subscribe to receive mission notices\, log into the National Site and click on the Members tab at the top. Select the Subscribe to PGR Missions option.\n Print This Page
URL:https://www.patriotguard.org/mission/roy-lee-bates/
CATEGORIES:Honor Mission
END:VEVENT
BEGIN:VEVENT
DTSTART;VALUE=DATE:20190707
DTEND;VALUE=DATE:20190708
DTSTAMP:20210404T023613
CREATED:20190706T181116Z
LAST-MODIFIED:20190706T181116Z
UID:166806-1562457600-1562543999@www.patriotguard.org
SUMMARY:Dallas S. Bunton
DESCRIPTION:Honor Mission\nDallas S. Bunton \, Veteran\nUSA –\nHixson\, Tennessee – 07-07-19\n\n\n\n\nABOUT THE MISSION: \nThe family of Staff Sgt. Dallas S. Bunton\, 69\, US Army(69-75)\, Korea \, of Chattanooga has invited the Patriot Guard Riders to Honor their loved one with a Silent flagline and escort to his final place of rest. It WILL be Our Honor to do so.Mr Bunton\, 1/3/50 to 7/3/19\, served his country honorably during very tense times in the Korean Peninsula.Mr\, Bunton stood for us and now it Our time to stand for him.\n\n\nPRIMARY STAGING DETAILS: 07-07-19 \nStaging Time: 2:30  \nChattanooga Funeral Home North\n5401 Hwy. 153\nHixson\, Tennessee 37343\n\n\nRide Captain: \n Mike Suggs\n 423-595-8684\n\n\nSpecial Instructions: \nPrimary Staging/Visitation Sunday 3:00-8:00 PM\n\nFlags & Water:\nFlags will be provided\nLarge Bike Flags will NOT be needed.\nWater WILL NOT be provided\, please bring your own.\n\nSTAGING #2 DETAILS: 07-08-19 \nStaging Time: 12:30  \nCollegedale Church of Seventh-Day Adventist\n4829 College Drive\nCollegedale\, Tennessee 37315\n\n\nRide Captain: \n Dustin Shankles\n423-710-4224\n\n\nSpecial Instructions: \nVisitation/Escort 1:00-2:00 (funeral)\n\nFlags & Water:\nFlags will be provided\nIf you have large bike flags\, please bring them.\nWater WILL NOT be provided\, please bring your own.\n\nSTAGING #3 DETAILS: 07-08-19 \nStaging Time: 14:30  \nHamilton Memorial Gardens\n5351 Hwy 153\nHixon\, Tennessee 37343\n\n\nRide Captain: \n Scott Hall\n706-463-1247\n\n\nSpecial Instructions: \nGraveside 3:00-4:00 PM\n\nFlags & Water:\nFlags will be provided\nIf you have large bike flags\, please bring them.\nWater WILL NOT be provided\, please bring your own.\n\n\n\nSubmitted By: Thonda Farmer \nPosition: Tennessee Assistant State Captain \n\nNote: You do not have to own/ride a motorcycle or be a veteran to join\, and membership is Free. The only requirement is RESPECT! To subscribe to receive mission notices\, log into the National Site and click on the Members tab at the top. Select the Subscribe to PGR Missions option.\n Print This Page
URL:https://www.patriotguard.org/mission/dallas-s-bunton/
CATEGORIES:Honor Mission
END:VEVENT
BEGIN:VEVENT
DTSTART;VALUE=DATE:20190707
DTEND;VALUE=DATE:20190708
DTSTAMP:20210404T023613
CREATED:20190706T233641Z
LAST-MODIFIED:20190706T233641Z
UID:166803-1562457600-1562543999@www.patriotguard.org
SUMMARY:Harold Alan Spencer
DESCRIPTION:Honor Mission\nHarold Alan Spencer\, Retired\nUSN – Korea\, Vietnam\nFulton\, Missouri – 07-07-19\n\n\n\nABOUT THE MISSION: \nThe Patriot Guard Riders have been honored with a request by the family of Harold Alan Spencer to stand tall and silent in honor of their loved one. Hero Spencer served his nation with honor in the U.S. Navy\, retiring after 22 years of honorable service. Hero Spencer served his state with the Mo Dept of Corrections and retired from there as well. While in the Navy\, Hero Spencer received the National Defense Service Medal\, Vietnam Service Medal with three bronze stars\, Republic of Vietnam Campaign Service Medal with device\, Armed Forces Expeditionary Medal (Korea)\, Meritorious Unit Commendation Ribbon\, Sea Service Deployment Ribbon\, and 2nd Good Conduct Medal.\n\n\nPRIMARY STAGING DETAILS: 07-07-19 \nStaging Time: 11:30 AM\n \nVFW Post 2657\n505 Collier Ln.\nFulton\, Missouri 65251\n\n\nRide Captain: \nMark Cobra\nBirminghamamd6193@embarqmail.com\n573-230-5611\n\n\nSpecial Instructions: \nBriefing at 11:30 am\nCelebration of Life is from Noon – 4:00 pm\n\n\nFlags & Water:\nFlags will be provided\nLarge Bike Flags will NOT be needed.\nWater WILL NOT be provided\, please bring your own.\n\n\n\nSubmitted By: David Bledsoe \nPosition: Missouri Ride Captain \n\nNote: You do not have to own/ride a motorcycle or be a veteran to join\, and membership is Free. The only requirement is RESPECT! To subscribe to receive mission notices\, log into the National Site and click on the Members tab at the top. Select the Subscribe to PGR Missions option.\n Print This Page
URL:https://www.patriotguard.org/mission/harold-alan-spencer/
CATEGORIES:Honor Mission
END:VEVENT
END:VCALENDAR