BEGIN:VCALENDAR
VERSION:2.0
PRODID:-//Patriot Guard Riders - ECPv5.6.0//NONSGML v1.0//EN
CALSCALE:GREGORIAN
METHOD:PUBLISH
X-WR-CALNAME:Patriot Guard Riders
X-ORIGINAL-URL:https://www.patriotguard.org
X-WR-CALDESC:Events for Patriot Guard Riders
BEGIN:VTIMEZONE
TZID:America/New_York
BEGIN:DAYLIGHT
TZOFFSETFROM:-0500
TZOFFSETTO:-0400
TZNAME:EDT
DTSTART:20160313T070000
END:DAYLIGHT
BEGIN:STANDARD
TZOFFSETFROM:-0400
TZOFFSETTO:-0500
TZNAME:EST
DTSTART:20161106T060000
END:STANDARD
END:VTIMEZONE
BEGIN:VEVENT
DTSTART;TZID=America/New_York:20160803T090000
DTEND;TZID=America/New_York:20160803T110000
DTSTAMP:20210512T044058
CREATED:20160803T130000Z
LAST-MODIFIED:20191201T143858Z
UID:410177-1470214800-1470222000@www.patriotguard.org
SUMMARY:Ancil A. King\, USA
DESCRIPTION:Patriot’s Name:    SP4 Ancil A. King\nMilitary Branch:  United States Army\nClassification:  Veteran\nAdditional Military Info:  Korean War Veteran \nLink To Obituary:\nhttp://www.edwards-funeral-homes.com/obituaries/Ancil-King/#!/Obituary \nMission Ride Captain:\nRusty McNab\, rustymcnab@sbcglobal.net\, (817) 228-7845 \nMission Summary:\nThe Family of SP4 Ancil A. King has invited the Patriot Guard Riders to stand Honors at his Interment Service. \nPART 1:  Interment Service\nMission Date:  Aug 03\, 2016 – Wednesday\nStaging Time:  10:15\nBriefing Time: 10:30\nIn Position Time Or KSU: 10:45\nService Start Time:  11:00 \nDetails Of Part 1:\nThe Patriot Guard Riders will stage adjacent to the interment site.  Following the mission briefing\, riders will stand the Flag Line for the\nInterment Service of SP4 King. At the conclusion of the service\, flags will be furled and riders dismissed. \nName Of Staging Point:\nFlatwood Cemetery\n602 FM 2563\nEastland\, Texas 76448
URL:https://www.patriotguard.org/mission/ancil-a-king-usa/
CATEGORIES:Archive
END:VEVENT
BEGIN:VEVENT
DTSTART;TZID=America/New_York:20160803T090000
DTEND;TZID=America/New_York:20160803T110000
DTSTAMP:20210512T044058
CREATED:20160803T130000Z
LAST-MODIFIED:20191201T143859Z
UID:410178-1470214800-1470222000@www.patriotguard.org
SUMMARY:John Kirby
DESCRIPTION:Honor Mission\nJohn Kirby\nUnited States Navy\nTallahassee\, FL\nWednesday\, 3 August 2016\n\n\nBevis Funeral Home has invited The Patriot Guard Riders to stand in silent respect for this hero.  John Kirby stood for us and now we will stand for him.\n\nJohn Kirby served in the United States Navy.  His service will be at the Tallahassee National Cemetery beginning at 1000 hours.  John Kirby has no family so we will stand in his honor with a flag line during his service.\n\nStaging: \n3 August 2016: \nStaging: 0900 hours\, Walmart\, 3535 Apalachee Parkway Tallahassee\nBriefing: 0920 hours\nKSU: 0930 \nExtra Flags will be available. \nRide Captain: Don Reeder\nfloridasailor@comcast.net\nHome 850-877-4859\nCell 850-933-0886
URL:https://www.patriotguard.org/mission/john-kirby/
CATEGORIES:Archive
END:VEVENT
BEGIN:VEVENT
DTSTART;TZID=America/New_York:20160803T090000
DTEND;TZID=America/New_York:20160803T110000
DTSTAMP:20210512T044058
CREATED:20160803T130000Z
LAST-MODIFIED:20191201T143903Z
UID:410185-1470214800-1470222000@www.patriotguard.org
SUMMARY:Ruel Turner
DESCRIPTION:The family of Ruel Turner has requested that the Patriot Guard provide an escort for their loved one in honor of his service to this Great Nation.  Ruel served with the US Navy from July\, 1955 until his honorable separation from active service in Sept of 1958.  Ruel served aboard the USS Huse during that time.  We will stand a silent flag line just prior to his funeral service and then provide an escort to St. John’s Cemetery for his interment. \nFUNERAL SERVICE \nDate:  Wed\, 3 Aug 16\nTime:  1300 hrs (1 pm) \nPlace:  Irwin Chapel\n3960 Maryville Rd\nGranite City\, IL \nStaging:  1130 hrs (11:30 am) at the funeral home.\nLine up for escort per RC instructions. \nFollowing the funeral service we will escort family and friends to St John’s Cemetery (about a mile) for Ruel’s interment. \nTemperatures remain very warm and humid so\, HYDRATE!! \nRC  Ed Futch (618-973-7359)\nRC  Dave “Yukon” Kirkwood\n(w/flag support and water)
URL:https://www.patriotguard.org/mission/ruel-turner/
CATEGORIES:Archive
END:VEVENT
BEGIN:VEVENT
DTSTART;TZID=America/New_York:20160803T090000
DTEND;TZID=America/New_York:20160803T110000
DTSTAMP:20210512T044058
CREATED:20160803T130000Z
LAST-MODIFIED:20191201T143904Z
UID:410186-1470214800-1470222000@www.patriotguard.org
SUMMARY:Craig Roebuck
DESCRIPTION:Craig Roebuck\, Private First Class\nUnited States Army\n3 August 2016\nPomona\, Kansas\n\n\n\nThe family of Craig Roebuck has requested that the Patriot Guard Riders man a flag line at his graveside services on 3 August 2016 at Woodlawn Cemetery in Pomona\, Kansas.  Mr. Roebuck was in the United States Army 1974 – 1976.  This will be a graveside service only with no escort. \nStaging: 3 Aug 16\, Pomona\, Kansas\n0915 hrs. (9:15 am) – Stage at Woodlawn Cemetery\, 551 West K-68\, Pomona\, KS\n0930 hrs. (9:30 am) – Set and Man Flags \nRide Captains for this mission will be:\nNancy (Pee Wee) & Bill (Kayak) Cassity\nnjcassi@embarqmail.com\n785-766-7247
URL:https://www.patriotguard.org/mission/craig-roebuck/
CATEGORIES:Archive
END:VEVENT
BEGIN:VEVENT
DTSTART;TZID=America/New_York:20160803T090000
DTEND;TZID=America/New_York:20160803T110000
DTSTAMP:20210512T044058
CREATED:20160803T130000Z
LAST-MODIFIED:20191201T143905Z
UID:410188-1470214800-1470222000@www.patriotguard.org
SUMMARY:Danial A. Gorman\, USA
DESCRIPTION:Honor Mission\nDanial A Gorman\nUS Army Medic\, Vietnam Veteran\nElwood\, IL\n3 August 2016\n\nThe family of Danial A. Gorman US Army Medic\, has asked the PGR to stand a flag line in his honor at ALNC.  Please come out and show your respect for this Veteran that he so well deserves.\n\nLocation :\nAbraham Lincoln National Cemetery\n20953 W. Hoff Rd\nElwood\, IL \nStage and Briefing : 2:00 PM \nALNC Service : 2:30 PM \nSRC : Rodney Swinson\nrodswinson1021@yahoo.com\n708-205-2151   Cell
URL:https://www.patriotguard.org/mission/danial-a-gorman-usa/
CATEGORIES:Archive
END:VEVENT
BEGIN:VEVENT
DTSTART;TZID=America/New_York:20160803T090000
DTEND;TZID=America/New_York:20160803T110000
DTSTAMP:20210512T044058
CREATED:20160803T130000Z
LAST-MODIFIED:20191201T143906Z
UID:410190-1470214800-1470222000@www.patriotguard.org
SUMMARY:Archie D. Lee\, 83\,  USAF
DESCRIPTION:The family of Archie Doyle Lee\, 83\, has requested the Patriot Guard Riders to stand for their loved one’s final formation. \nArchie Lee was a Korean War Veteran of the U.S. Air Force. We don’t have much information about his service because like so many others of his era\, he came home\, hung up his uniform and went about making a living for his family and contributing to the community. \nWe\, the PGR will gladly accept this invitation to show honor and respect for his service. \nMr. Lee formerly worked for the Timkin Bearing and the Pacolet Manufacturing Companies. He was a member of Pacolet Mills Church of GOD. \nObituary Link:  http://www.floydmortuary.com/obituaries/Archie-Lee/#!/Obituary \nMission Details:  Wednesday\, 3 August 2016 \nStaging:          Floyd’s Pacolet Chapel\n141 Memorial Dr. Pacolet\, SC \nMap:            https://goo.gl/maps/9WauTAnE27T2 \nAssemble:        1045/10:45 AM\n\nBrief:            1100/11:00 AM\n\nFlagline:        1115/11:15 AM\n\nExecution:  We will stand up the flag line for visitation immediately after the mission brief\, and maintain it until 1245/12:45 pm.  We will then stand down while the service is conducted (1300/1:00 PM) and then re-assemble upon it’s completion\, to render honors when Mr. Lee is placed in the coach.  Burial will be a private ceremony with only the family attending. \nIt will be my humble honor to act as Ride Captain in charge of this mission. \nTom Comshaw\, RCIC\ntomcomshaw@yahoo.com\n864-384-6287
URL:https://www.patriotguard.org/mission/archie-d-lee-83-usaf/
CATEGORIES:Archive
END:VEVENT
BEGIN:VEVENT
DTSTART;TZID=America/New_York:20160803T090000
DTEND;TZID=America/New_York:20160803T110000
DTSTAMP:20210512T044058
CREATED:20160803T130000Z
LAST-MODIFIED:20191201T143911Z
UID:410197-1470214800-1470222000@www.patriotguard.org
SUMMARY:Francis J. Plati\, Sr\, USA
DESCRIPTION:SGT Francis J. Plati\, Sr\nUS Army WWII Veteran\nWest Hartford\, CT\n3 AUG 16\n\n\n\nPatriot Guard and Associates\, \nWe have been asked to stand in Honor during the interment of Francis J. Plati\, SGT\, US Army\, who served as a Clerk-Typist with the 974th Air Engineer Squadron in WWII during the Air Offensive- Europe Rome Arno and North Appenines from 1943 to 1945. He was awarded the Good Conduct Medal\, the European African Middle Eastern Theater Campaign Ribbon\, and the WWII Victory Medal. \nWe will stand a Flag Line for the Interment Service and Military Honors. \nAssistant State Captain Jack Casey will be RCIC and Flags and water will be on site. \nSTAGE: 1200 hrs (12:00 pm)\, Wednesday\, 3 August 2016 \nFairview Cemetery\n200 Whitman Ave.\nWest Hartford\, CT 06107 \nGod Bless America\, Our Troops and First Responders. \nContact:\nMac McArthur\, SC\nhaddamac@gmail.com\nCell:860-682-7625
URL:https://www.patriotguard.org/mission/francis-j-plati-sr-usa/
CATEGORIES:Archive
END:VEVENT
BEGIN:VEVENT
DTSTART;TZID=America/New_York:20160803T090000
DTEND;TZID=America/New_York:20160803T110000
DTSTAMP:20210512T044058
CREATED:20160803T130000Z
LAST-MODIFIED:20191201T143920Z
UID:410212-1470214800-1470222000@www.patriotguard.org
SUMMARY:Kalmer Thompson\, USA
DESCRIPTION:The family of Kalmer Thompson has requested the PGR to stand in honor of his service to our country. \nKalmer served in the Army during WW II with the 509th Parachute Infantry Regiment. Kalmer was captured at Anzio Italy on 29 February 1944. He was liberated by the Russians in May 1945. \nServices will be held on August 3rd at Aspelund Lutheran Church County Highway 38 Flom\, MN. The church is about ½ mile south of Flom on the west side of the highway. Burial service will be at the church cemetery.\n\n9:40 – Stage/briefing\n10:00 – Post Flagline \nDismissal at RCIC discretion\n\nRCIC – Greg Syverson\, 218-849-4065\n\n[FONT=&amp]This is a rain or shine mission. Please bring your 3 x 5 American Flag and anything else you may need for the duration of this mission.[/FONT]
URL:https://www.patriotguard.org/mission/kalmer-thompson-usa/
CATEGORIES:Archive
END:VEVENT
BEGIN:VEVENT
DTSTART;TZID=America/New_York:20160803T090000
DTEND;TZID=America/New_York:20160803T110000
DTSTAMP:20210512T044058
CREATED:20160803T130000Z
LAST-MODIFIED:20191201T143927Z
UID:410224-1470214800-1470222000@www.patriotguard.org
SUMMARY:Ernest Westcott Jr\, 55
DESCRIPTION:updated 30 JUL 16@1735est ArmySSG\n \n\n\nErnest Westcott Jr\, 55\nUS Marine Corps Veteran\nAgawam\, MA\n3 AUG 16\n\n\n\nThe family of US Marine Corps veteran Ernest Westcott\, including his cousin and fellow Maine PGR member Karen\, have requested our presence at the interment service for their loved one. \nErnest served our country proudly in the US Marine Corps from 1977 through 1979 to include 6 months on Okinawa. \nINTERMENT SERVICE:\nDATE: Wednesday\, 3 August 2016 \nAt: Massachusetts Veterans’ Memorial Cemetery\n1390 Main St\nAgawam\, MA 01001 \nSTAGING LOCATION: \nDunkin Donuts\n389 Main St  (Rte 159)\nAgawam\, MA  01001 \nSTAGING TIME: 8:30 AM – 9:25 AM \nBRIEFING: 9:25 AM \nKSU: 9:30 AM \nRide Captain:\nRolly Gratton\nregratton@verizon.net \n——Flags will be provided———
URL:https://www.patriotguard.org/mission/ernest-westcott-jr-55/
CATEGORIES:Archive
END:VEVENT
BEGIN:VEVENT
DTSTART;TZID=America/New_York:20160803T090000
DTEND;TZID=America/New_York:20160803T110000
DTSTAMP:20210512T044058
CREATED:20160803T130000Z
LAST-MODIFIED:20191201T143929Z
UID:410226-1470214800-1470222000@www.patriotguard.org
SUMMARY:Dustin Wayne Long
DESCRIPTION:CPL Dustin Wayne Long\nUS Army Veteran\nMannford\, OK\n03 Aug 16\n\n\n\nThe family of US Army Veteran CPL Dustin Wayne Long\, has asked the PGR to stand a Flag Line at his Memorial Services to be held on Wednesday\, 03 Aug 19 at Mannford\, OK. \nServices will be held at Freedom Hill Baptist Church\, 9914 South Highway 48\, Mannford\, OK at 1100.  (Church is located 7.2 miles South of Hwy 51 and 48 intersection or 1.2 miles North of  Hwy 33 and 48 intersection). \nFull Military Honors well be provided. There will be no escort for this mission. \nDATE:  Wednesday\, 03 August 2016 \nSTAGING:  0945 \nFreedom Hill Baptist Church\n9914 South Highway 48\nMannford\, OK \nMANDATORY BRIEFING:  1000 \nFLAG LINE:  1030 \nWEATHER:  Forecast high of 96 and sunny—HYDRATE-HYDRATE-HYDRATE!!! \nRCIC:\nSteven “Retread” Craig\nshcraig1225@gmail.com\n918-312-1769
URL:https://www.patriotguard.org/mission/dustin-wayne-long/
CATEGORIES:Archive
END:VEVENT
BEGIN:VEVENT
DTSTART;TZID=America/New_York:20160803T090000
DTEND;TZID=America/New_York:20160803T110000
DTSTAMP:20210512T044058
CREATED:20160803T130000Z
LAST-MODIFIED:20191201T143945Z
UID:410252-1470214800-1470222000@www.patriotguard.org
SUMMARY:Jewett Williams\, USA
DESCRIPTION:Jewett Williams was born in Maine in 1844 and was the oldest of at least 9 children.  On October 12 1864 Jewett enlisted  in H Company 20th Maine Volunteer Infantry Regiment\, led by Col. Joshua Chamberlain and Maj. Ellis Spear.  The 20tyh main were in several decisive actions that helped the Union Army secure the major areas in the later battles of the war.  These included the Battle of Oak Road\, Battle of Hatcher’s Run\, Battle of Five Forks\, and the 20th Maine was part of the union forces that accepted Gen. Robert E. Lee’s surrender at Appomattox Court House on April 9\,1865. \nIn 1914\, 1915 and 1919 he was among the Civil War Veterans to speak at the Portland\, Oregon area public schools for Memorial Day events.  On April 14\, 1922 he was admitted to the Oregon State Hospital in poor health and suffering from progressive senile dementia.  He died 3 months later on July 17\, 1922 of arterial sclerosis.  He was 78. \nIt is not known what became of Jewett’s wife and family\, but his remains were never claimed and he has no known relatives still living\, and now after 94 years he will be laid to rest at the Togus National Veterans Cemetery in Maine.  The cemetery has been closed since 1961\, but will reopen for his interment  and Military Honors Service. \nWyoming Escort Itinerary: \nWednesday Aug. 3\, 2016 \nRally at the Exxon Station at I-25 and Poplar Ave.\n632 N Poplar St\, Casper\, WY\nKSU :  11:00 am \nLunch and Fuel Stop:  Sheridan  149 miles / 2 hr  7 min\nFuel at Maverick Adventure First Stop  arrive 1:15 pm\nFuel 15 minutes\nLunch 1:30 pm till 2:30 pm at Perkins\, 1373 Coffeen Ave Sheridan\, WY\nKSU:  2:30 pm \nNorth bound on I-90 to Aberdeen road\, cross over and back south to Wyoming State line 32 miles / 30 min  to wait for Montana Riders arrival at 3:30 pm transfer 15 min\, KSU 3:45 I-90 to Beulah  Stop at  State Line Store exit 205 212 miles / 3 hours for transfer to South Dakota Riders  Arrival at 7:00 pm  August 3\, 2016 \nLeave Beulah for Casper 7:15 pm   263 miles / 3  hours 30 min  arrive back home 11:00 pm. \nPOC:  Richard Parks\ncoyote_cds@yahoo.com
URL:https://www.patriotguard.org/mission/jewett-williams-usa-8/
CATEGORIES:Archive
END:VEVENT
END:VCALENDAR