BEGIN:VCALENDAR
VERSION:2.0
PRODID:-//Patriot Guard Riders - ECPv5.6.0//NONSGML v1.0//EN
CALSCALE:GREGORIAN
METHOD:PUBLISH
X-WR-CALNAME:Patriot Guard Riders
X-ORIGINAL-URL:https://www.patriotguard.org
X-WR-CALDESC:Events for Patriot Guard Riders
BEGIN:VTIMEZONE
TZID:America/New_York
BEGIN:DAYLIGHT
TZOFFSETFROM:-0500
TZOFFSETTO:-0400
TZNAME:EDT
DTSTART:20160313T070000
END:DAYLIGHT
BEGIN:STANDARD
TZOFFSETFROM:-0400
TZOFFSETTO:-0500
TZNAME:EST
DTSTART:20161106T060000
END:STANDARD
END:VTIMEZONE
BEGIN:VEVENT
DTSTART;TZID=America/New_York:20160726T090000
DTEND;TZID=America/New_York:20160726T110000
DTSTAMP:20210512T130830
CREATED:20160726T130000Z
LAST-MODIFIED:20191201T144103Z
UID:410370-1469523600-1469530800@www.patriotguard.org
SUMMARY:Roy D. Kilpatrick\, 83\, USA\, Korea / Cleveland
DESCRIPTION:Roy Denson “Big Bear” Kilpatrick –             83\nUS             Army Korean War Veteran\nTuesday 26 July 2016\nCleveland and Indianola\, Mississippi\n\n\n\nThe family               of Mr. Roy Denson “Big Bear” Kilpatrick has requested the               PATRIOT GUARD RIDERS honor and pay tribute to him for his               service to our country. Mr. Kilpatrick proudly and               honorably served in the US Army during the Korean War. \nSTAGING:  Tuesday 26 July 2016 at 12:30 PM at RAY               FUNERAL HOME\, 206 Bishop Rd.\, Cleveland\, MS 38732.  The PGR               will provide a silent Flag line for visitation from               1:00 PM until 2:00 PM. \nESCORT:  Immediately following visitation.  The PGR               will escort Mr. Kilpatrick to CITY CEMETERY located on               Main Street in Indianola 38751 and provide a silent Flag line for the graveside service beginning at 3:00 PM. \nNOTE:  The family has requested the PGR provide military               honors at the graveside service\, if you are available to               help\, please contact Kim and let him know. \nThe escort distance is approximately 30 miles\, large               motorcycle mounted US Flags are encouraged\nPlease join us as we STAND FOR ONE WHO STOOD FOR US !\n\nRC\nKim Showers\nSr Ride Captain\n662.588.8130
URL:https://www.patriotguard.org/mission/roy-d-kilpatrick-83-usa-korea-cleveland/
CATEGORIES:Archive
END:VEVENT
BEGIN:VEVENT
DTSTART;TZID=America/New_York:20160726T090000
DTEND;TZID=America/New_York:20160726T110000
DTSTAMP:20210512T130830
CREATED:20160726T130000Z
LAST-MODIFIED:20191201T144105Z
UID:410372-1469523600-1469530800@www.patriotguard.org
SUMMARY:John Wesley Hughes
DESCRIPTION:CONFIRMED MISSION\n\n\n\nTuesday\, July 26\, 2016\n3:00 pm\nJohn Wesley Hughes “JW”\nU.S. Marine Corp\n\nWard Wilson Funeral Home\, 2414 Hartford Hwy. /  Hwy. 52 Dothan\, AL  36305\nBurial will follow in Memory Hill Cemetery @ Ward Wilson Funeral Home \nIt is our privilege to be invited to pay our respects to our fallen hero who honorably served our country\, and to stand in silent honor of their beloved family member \nEnterprise staging: Kangaroo station\, 84 east and BWC: 1:00 pm\nKSU: 1:15 pm\nDothan will stage at Ward Wilson Funeral Home at 1:45 pm \nRCIC: Dee Roby  334-470-4807\nFlags and Support: Jon P.
URL:https://www.patriotguard.org/mission/john-wesley-hughes/
CATEGORIES:Archive
END:VEVENT
BEGIN:VEVENT
DTSTART;TZID=America/New_York:20160726T090000
DTEND;TZID=America/New_York:20160726T110000
DTSTAMP:20210512T130830
CREATED:20160726T130000Z
LAST-MODIFIED:20191201T144105Z
UID:410373-1469523600-1469530800@www.patriotguard.org
SUMMARY:TSgt Agustin Garibay\, 63\, USAF\, Vietnam\, USAFR(RET)
DESCRIPTION:The family of TSgt Agustin Garibay\, 63\, has invited the PGR to attend his service and military honors\, it would be our honor to do so. \nTSgt Agustin Garibay enlisted in the USAF in March\, 1974\, he served active duty until January\, 1975 when he transferred into the USAF Reserves where he served a total of 31 years and retired March\, 2004.  He served in Vietnam and also in Desert Storm during periods his unit was activated to deployment. \nHe worked in his civilian life for Los Angeles Mission College from which he retired.  He enjoyed riding his motorcycle and traveling with his family.  He also loved helping people\, especially other veterans. \nTSgt Garibay is survived by his wife Esperanza\, 3 sons\, 1 step-son and 2 step-daughters. \nNOTE: This mission posting is to facilitate your voluntary participation in honoring this Military Veteran. \nTime table for Tuesday\, 26 JUL 16: \n1300 – Stage at Riverside National Cemetery\, 22495 Van Buren Blvd.\, Riverside\, CA 92518 (just North of Staging area #8) \nhttps://goo.gl/maps/zZxbgvtr7AC2 \n1315 – Mission briefing \n1345 – KSU to assigned shelter for Flag Line\, Service and Military Honors \nRC Vern Grimshaw\nvgrimshaw@aol.com\n562-236-3140 \nYou do not have to be a Veteran or a motorcycle rider to attend this mission. Everyone is welcome. We encourage those who do not ride to attend in your car. If this will be your first mission go to the initial staging area and you will be briefed there by the R/C (Ride Captain).  Dress for motorcycle riding or dress casually if you are driving a cage (car).  Please feel free to attend any portion of this mission you can.  Please ride/drive safely.
URL:https://www.patriotguard.org/mission/tsgt-agustin-garibay-63-usaf-vietnam-usafrret/
CATEGORIES:Archive
END:VEVENT
BEGIN:VEVENT
DTSTART;TZID=America/New_York:20160726T090000
DTEND;TZID=America/New_York:20160726T110000
DTSTAMP:20210512T130830
CREATED:20160726T130000Z
LAST-MODIFIED:20191201T144108Z
UID:410377-1469523600-1469530800@www.patriotguard.org
SUMMARY:SPC Ellis Weems
DESCRIPTION:Fellow Patriots\, \nThe family of US Army SPC Ellis Weems (AD) has requested our presence as he arrives at RDU Airport on Tuesday\, July 26\, 2016. As this hero stood for us\, so shall we stand for him. This will be a flag line only mission. \nItinerary is as follows: \nDate\, Tuesday\, July 26\, 2016 \nStaging: Sheetz – 3:30PM\n1600 Aviation Parkway\nMorrisville\, NC 27560 \nhttp://goo.gl/qfw5to \nMission brief: 3:45 PM \nFollowing the briefing\, we will leave for the short drive over to Airport Authority to set flag line. \n**************SPECIAL WEATHER NOTE*************\nThe forecasts call for temperatures to be in the upper 90s with high humidity. Please dress accordingly\, hydrate well\, bring a hat with a brim on it and sunscreen. Water will be provided. \nRCIC:  Randy Bright\n919-616-4603\n\nSPECIAL NOTE: Safety is of our utmost priority. Every effort possible is made in planning and executing the PGR Mission statement in a manner that minimizes the inherit dangers of riding a motorcycle\, including riding in groups of all sizes and any situation. While the NCPG and its riders have a remarkable safety record in the execution of our missions\, infrequently members have been injured in unforeseen accidents. In an effort to mitigate the risk of preventable accidents\, all attendees who wish to ride in a Patriot Guard motorcycle escort or ride are asked to attend the pre-mission briefing. It will include a safety briefing\, and any unique ride information known to our RCIC that may be specific to the mission. Member safety and well-being is always a principal ongoing concern. Our RCIC’s are asked to stand-down from any mission that cannot be accomplished in relative safety or present unreasonable risk. This includes both rides and flag lines in inclement weather and conditions. It remains each individual PGR member’s responsibility to ride within their own comfort zone and be cognizant of their surroundings and skill limitations as well as any physical needs or limitations. If the ride and/or mission conditions present challenges beyond your skill\, comfort\, or needs you are expected to exercise good judgment in foregoing any planned participation.
URL:https://www.patriotguard.org/mission/spc-ellis-weems/
CATEGORIES:Archive
END:VEVENT
BEGIN:VEVENT
DTSTART;TZID=America/New_York:20160726T090000
DTEND;TZID=America/New_York:20160726T110000
DTSTAMP:20210512T130830
CREATED:20160726T130000Z
LAST-MODIFIED:20191201T144112Z
UID:410384-1469523600-1469530800@www.patriotguard.org
SUMMARY:Leslie D Bendickson\, USA
DESCRIPTION:We have been invited to attend the funeral of Leslie D Bendickson\, Veteran U.S. Army\, WW II \nInterment 1500(3pm) 26 Jul at Veterans Memorial Cemetery\n                                                   2830 Riverside Parkway\n                                                   Grand Junction\, CO\n\nStage 14:15(2:15pm) at Shelter Area\n\nRide Captain: Art Edwards\nharleyroadk@yahoo.com
URL:https://www.patriotguard.org/mission/leslie-d-bendickson-usa/
CATEGORIES:Archive
END:VEVENT
BEGIN:VEVENT
DTSTART;TZID=America/New_York:20160726T090000
DTEND;TZID=America/New_York:20160726T110000
DTSTAMP:20210512T130830
CREATED:20160726T130000Z
LAST-MODIFIED:20191201T144113Z
UID:410385-1469523600-1469530800@www.patriotguard.org
SUMMARY:SSG Raheem R. Terry
DESCRIPTION:SFC Porter\, NCOIC Sleep and Pulmonary Clinic\, Dwight D. Eisenhower Army Medical Center\, Ft Gordon\, GA has invited the Patriot Guard Riders to participate in a memorial ceremony and releasing of balloons at Lake Olmstead\, Augusta\, GA in recognition of SSG Raheem R. Terry who was killed in a motorcycle accident in Honolulu Hawaii on July 2\, 2016. SSG Terry was the previous NCOIC of the clinic. \nThe Patriot Guard Riders will stand a Flag Line during the Ceremony in honor of SSG Terry. \nStaging:  1700 hrs. (5:15pm) Tuesday 26 July 2016 at\nLake Olmstead Park\n2200 Broad Street\nAugusta\, GA 30904 \nRCIC:\nLeon “River Rat” McLamb\n706 836-6104\nmcla549@bellsouth.net
URL:https://www.patriotguard.org/mission/ssg-raheem-r-terry/
CATEGORIES:Archive
END:VEVENT
BEGIN:VEVENT
DTSTART;TZID=America/New_York:20160726T090000
DTEND;TZID=America/New_York:20160726T110000
DTSTAMP:20210512T130830
CREATED:20160726T130000Z
LAST-MODIFIED:20191201T153851Z
UID:415509-1469523600-1469530800@www.patriotguard.org
SUMMARY:Send Off
DESCRIPTION:Please note that due to ongoing OPSEC/PERSEC concerns\, mission details are not shown in this posting. All relevant details about the local troops will be given at the mission briefing. \n\nPatriots\, \nWe have been invited to attend a Deployment ceremony for troops who will be departing for missions abroad\, Tuesday\, July 26\, 2016. We will stage NLT 11:15 PM at the Pax Shed #2 at Green Ramp\, Pope Army Air Field\, which is located on New Hurst Drive\, Pope AAF\, North Carolina. \nhttp://tinyurl.com/pjy6pn7  \nPlease be flexible with regards to these missions as aircraft arrival and departure times and location change frequently. \nSTAGING:           11:15 PM\nFLAG LINE:        11:45 PM \nWe will establish a flag line and show our support for our departing Heroes and their families. \nAnyone who does not hold a DOD ID card must access post from the All American Freeway Visitor Control Center and obtain a pass. Remember to allow extra time for check in and that vehicle and persons are subject to search. You will be entering a US military installation so anything that could be considered a weapon should be left at home. If you are riding\, please keep in mind the requirements for documentation and proper PPE; license\, insurance\, registration\, and DOT approved helmet\, eye protection\, long sleeves\, full fingered gloves\, long pants\, over the ankle boots. \n\nPOC and RCIC:  E. Glenn (DocB) Butlergbutret@aol.com\n301-275-6676\n\nFlags will be available. \nSPECIAL NOTE: Safety is of our utmost priority.  Every effort possible is made in planning and executing the PGR Mission statement in a manner that minimizes the inherit dangers of riding a motorcycle\, including riding in groups of all sizes and any situation.  While the NCPG and its riders have a remarkable safety record in the execution of our missions\, infrequently members have been injured in unforeseen accidents.  In an effort to mitigate the risk of preventable accidents\, all attendees who wish to ride in a Patriot Guard motorcycle escort or ride are asked to attend the pre-mission briefing.  It will include a safety briefing\, and any unique ride information known to our RCIC that may be specific to the mission.  Member safety and well-being is always a principal ongoing concern\, our RCIC’s are asked to stand-down from any mission that cannot be accomplished in relative safety or unreasonable risk.  This includes both rides and flag lines in inclement weather and conditions.  It remains each individual PGR member’s responsibility to ride within their own comfort zone and be cognizant of their surroundings and skill limitations as well as any physical needs or limitations.  If the ride and/or mission conditions present challenges beyond your skill\, comfort\, or needs you are expected to exercise good judgment in foregoing any planned participation.
URL:https://www.patriotguard.org/mission/send-off-170/
CATEGORIES:Archive
END:VEVENT
BEGIN:VEVENT
DTSTART;TZID=America/New_York:20160726T090000
DTEND;TZID=America/New_York:20160726T110000
DTSTAMP:20210512T130830
CREATED:20160726T130000Z
LAST-MODIFIED:20191201T144116Z
UID:410390-1469523600-1469530800@www.patriotguard.org
SUMMARY:Harvey Jackson\, USMC
DESCRIPTION:The Patriot Guard Riders have been invited to stand in honor of  Harvey “Jack” Jachson\, USMC Vietnam Veteran\, for his funeral service  scheduled on Tuesday\, 26 July at 2:00PM at The Sanctuary\, 14587 Hwy 34  Ft. Morgan 80701. \nMr. Jackson served in the Marine Corps from 1962 until his Honorable Discharge in 1968 and is a Veteran of the Vietnam War. \n1:00PM Stage at The Sanctuary\n1:15PM Mission Briefing\n1:30PM Set Flag Line at entrance to the church \nJay ‘Preacherman’ Weisgerber will serve as Ride Captain and will bring Flags. \n—\nKathy ‘Rat’ Goldstein\n720-244-0594\nstatecaptain@coloradopgr.org
URL:https://www.patriotguard.org/mission/harvey-jackson-usmc/
CATEGORIES:Archive
END:VEVENT
BEGIN:VEVENT
DTSTART;TZID=America/New_York:20160726T090000
DTEND;TZID=America/New_York:20160726T110000
DTSTAMP:20210512T130830
CREATED:20160726T130000Z
LAST-MODIFIED:20191201T144129Z
UID:410412-1469523600-1469530800@www.patriotguard.org
SUMMARY:Steven Maxwell
DESCRIPTION:Please note that due to ongoing OPSEC concerns\, mission details are not shown in this posting. All specific details and updates have been sent to members directly via their e-mail address on file. \n\nMembers: \nWe have been asked by Catholic War Veterans of America to stand for Steven Maxwell who served in the US Army from 1968 to 1970. \nWhen/Where:\nTuesday July 26\, 2016\nWoodside\, NY 11377 \nThe Catholic War Veterans of America\, Department of New York is scheduled to conduct a funeral service for a fellow veteran\, Steven Maxwell\, a resident of the Woodside Queens\, NY neighborhood. Mr. Maxwell is listed as a Roman Catholic on his DD214 and other more recent VA paperwork. \nFather Kevin Abel\, Pastor of St Sebastian’s Parish and Chaplain of St Sebastian’s CWV Post 870\, has graciously offered to officiate at the Funeral Mass. The members of Post 870 along with other CWV members\, will provide a color guard and pall bearers. \nThe funeral arrangements are being handled by the Joseph A. Lucchese Funeral Home on Morris Park Avenue in the Bronx. \nThe burial service at Calverton National Cemetery will follow.\nAfter Mass\, our comrade veteran will be brought to Calverton National Cemetery. \n\n\nAt the present time we have no RC for escort to Calverton. \nRC’s Sue & Gene Frohnhoefer\nGene’s Cell: [URL=”tel:631-379-9788″]631-379-9788[/URL]
URL:https://www.patriotguard.org/mission/steven-maxwell/
CATEGORIES:Archive
END:VEVENT
BEGIN:VEVENT
DTSTART;TZID=America/New_York:20160726T090000
DTEND;TZID=America/New_York:20160726T110000
DTSTAMP:20210512T130830
CREATED:20160726T130000Z
LAST-MODIFIED:20191201T025923Z
UID:302163-1469523600-1469530800@www.patriotguard.org
SUMMARY:Honor Mission:  LTC Robert Daniel Frazier\, 77\, USA(RET)
DESCRIPTION:LTC Robert Daniel Frazier\, 77\, USA(RET)\, Vietnam / Canton\, GA\, 26 JUL 16\nIt is my sad duty to report that America has lost another dedicated and highly decorated Vietnam Veteran. The family of LTC Robert Daniel “Dan” Frazier has requested that The Patriot Guard Riders stand for their Hero and it will be our honor to do so. \nLTC Frazier lost his battle with Alzheimer’s disease on 20 July 16. His service was last Saturday in Fayetteville and he will be interred at the Georgia National Cemetery on 26 July 16. \nLTC Frazier was born in Georgia\, graduated from U of GA\, and served 22 years in the US Army with two tours in Vietnam. He was highly decorated\, including the Silver Star and two Purple Hearts. He was badly wounded in combat as was documented in a video entitled\, “Shootout!: Tet Offensive” that aired on the History Channel. \nHe also obtained a Master’s Degree from Central Michigan and served as a Master Gardner and Tree Expert. \nStaging: Tuesday\, 26 July 16 @ 12:15 PM – Georgia National Cemetery PIC for the 1:00 PM Service. \nGeorgia National Cemetery\n1080 Veterans Cemetery Rd\,\nCanton\, GA 30114 \nWeather forecast – Temp 95 and Clear skies. \nPlease post condolences here:  https://www.patriotguard.org/showthread.php?420595 \nRCIC\nClete Simpson\nCsimps15@comcast.net\n770-364-6266
URL:https://www.patriotguard.org/mission/honor-mission-ltc-robert-daniel-frazier-77-usaret/
END:VEVENT
BEGIN:VEVENT
DTSTART;TZID=America/New_York:20160726T090000
DTEND;TZID=America/New_York:20160726T110000
DTSTAMP:20210512T130830
CREATED:20160726T130000Z
LAST-MODIFIED:20191201T025923Z
UID:302165-1469523600-1469530800@www.patriotguard.org
SUMMARY:Memorial - SSG Raheem R. Tyler
DESCRIPTION:SSG Raheem R. Tyler\, Augusta\, GA\, 26 July 2016 \nSFC Porter\, NCOIC Sleep and Pulmonary Clinic\, Dwight D. Eisenhower Army Medical Center\, Ft Gordon\, GA has invited the Patriot Guard Riders to participate in a memorial ceremony and releasing of balloons at Lake Olmstead\, Augusta\, GA in recognition of SSG Raheem R. Terry who was killed in a motorcycle accident in Honolulu Hawaii on July 2\, 2016. SSG Terry was the previous NCOIC of the clinic. \nThe Patriot Guard Riders will stand a Flag Line during the Ceremony in honor of SSG Terry. \nStaging: 1700 hrs. (5:15pm) Tuesday 26 July 2016 at\nLake Olmstead Park\n2200 Broad Street\nAugusta\, GA 30904. \nRCIC:\nLeon “River Rat” McLamb\n706 836-6104\nmcla549@bellsouth.net
URL:https://www.patriotguard.org/mission/memorial-ssg-raheem-r-tyler/
END:VEVENT
BEGIN:VEVENT
DTSTART;TZID=America/New_York:20160726T090000
DTEND;TZID=America/New_York:20160726T110000
DTSTAMP:20210512T130830
CREATED:20160726T130000Z
LAST-MODIFIED:20191201T153951Z
UID:415597-1469523600-1469530800@www.patriotguard.org
SUMMARY:Welcome Home
DESCRIPTION:Please note that due to ongoing OPSEC/PERSEC concerns\, mission details are not shown in this posting. All relevant details about the local troops will be given at the mission briefing. \n \n\nWELCOME HOME\nJACKSONVILLE INTERNATIONAL AIRPORT\nTUESDAY\, 26 JULY\, 2016\n\n\nThe Patriot Guard has been invited by military leadership to welcome home several members from deployment. We have a great working relationship with this unit and have participated in many send-offs and welcome homes for these heroes. \nWe will stage at the Cole Flyer gate parking lot and ride into the airport together. More details will be given at the briefing. \nDue to recent changes involving airport security\, all personnel entering the employee parking lot must be admitted by name at the security checkpoint. If you are planning to attend this mission\, you MUST forward your name to the ride captain listed below via e-mail or phone call. You will not be admitted if your name is not on the security admissions list. This list must be submitted 24 hours prior to scheduled time to ensure that they are posted with the security guard. Submit names to R/C no later than 12:00 PM (Noon)\, Monday\, July 25\, 2016. \nBring you 3X5 American flag as we stand the flag line for their departure. \nStaging will be at the Cole Flyer Rd. Guard Shack\,\n2000 Cole Flyer Rd. Jacksonville\, FL \nMap: http://mapq.st/1ue4T7N\nStaging: 1815  (6:15 PM)\nKSU:      1830  (6:30 PM)\nFlag Line: As directed by R/C \nRide Captain: Ron Robbs\ncstarfire@comcast.net\n(904) 710-0349 Cell
URL:https://www.patriotguard.org/mission/welcome-home-452/
CATEGORIES:Archive
END:VEVENT
BEGIN:VEVENT
DTSTART;TZID=America/New_York:20160726T090000
DTEND;TZID=America/New_York:20160726T110000
DTSTAMP:20210512T130830
CREATED:20160726T130000Z
LAST-MODIFIED:20191201T154554Z
UID:416168-1469523600-1469530800@www.patriotguard.org
SUMMARY:HOTH
DESCRIPTION:The Greater St. Louis Honor Flight Organization has asked the Patriot Guard Riders to welcome home the Heroes from WWII and the Korean Wars who have spent the day in our nation’s capitol visiting their memorials. \nThese guys and gals sacrificed so much to preserve our freedom. Let’s give them a heroes’ welcome when they return. \nStage:    6:45 pm\, Tuesday 26 JUL 16\nEast Cell Phone Lot\nLambert Field\nSt. Louis\, MO \nWe will ride over to Terminal 2 as a group. \nIn case of inclement weather\, please car pool because parking is limited. \nRide Captain:\nMark Schroeder \nStanding in:\nRick Kroeger\nrickkroeger@hotmail.com \nFlag Support:\nJim “Tinker” Jarzenbeck
URL:https://www.patriotguard.org/mission/hoth-1392/
CATEGORIES:Archive
END:VEVENT
BEGIN:VEVENT
DTSTART;TZID=America/New_York:20160726T090000
DTEND;TZID=America/New_York:20160726T110000
DTSTAMP:20210512T130830
CREATED:20160726T130000Z
LAST-MODIFIED:20191201T144050Z
UID:410348-1469523600-1469530800@www.patriotguard.org
SUMMARY:Terry A Bernard
DESCRIPTION:Terry A Bernard\nUS Army Veteran\nSt Martinville\, LA 70582\n07-26-2016\n\n\n\nThe PGR has been asked to stand for Mr. Terry Bernard. \nHe served in the Army for 2 years. he was a avid motor cycle lover. He will be greatly Missed. \nPRIMARY STAGING INFO – 07-26-2016:\nLocation:\nPellerin Funeral Home\n112 New Market Street\nSt Martinville\, La 70582\n\nStaging Time:\n6:45 A.M.\n\nSpecial Instructions:\nPlace flags on rebar at Funeral Home. flag line from 7:00am till time of service at 11:00am. Burial will follow at St Michael Mausoleum. \nRCIC:\nRobert Lebon\n1stofficer@cox.net \nFlags will be provided.\nLarge bike flags will be needed. \nWeather:\nLows 75 highs 85 chance of rain 60%. stay dry.
URL:https://www.patriotguard.org/mission/terry-a-bernard/
CATEGORIES:Archive
END:VEVENT
BEGIN:VEVENT
DTSTART;TZID=America/New_York:20160726T090000
DTEND;TZID=America/New_York:20160726T110000
DTSTAMP:20210512T130830
CREATED:20160726T130000Z
LAST-MODIFIED:20191201T144052Z
UID:410352-1469523600-1469530800@www.patriotguard.org
SUMMARY:Robert R Smith\, USMCR Veteran / Erie
DESCRIPTION:Robert R Smith\nU.S. Marine Veteran\nErie\, PA\n26 Jul 16\n\n\n\nThe Patriot Guard Riders have been invited by the family of Robert R Smith to stand and escort in silent honor of their American Hero. \n3 September 1934- 22 July 2016 \nRobert R Smith was a proud U.S. Veteran who served in the United States Marine Corps Reserves. \nTuesday\, 26 July 2016 \nStaging: 1215\nRussell C. Schmidt & Son Funeral Home\, Inc.\n5000 Wattsburg Rd\, Erie\, PA 16504\nhttps://goo.gl/maps/eX1kp5chZtG2 \nBriefing: 123\nFlag Line: 1245\nService at 1330 \nEscort & Interment following service:\nPhillipsville Union Cemetery\n7500 Turner Rd\nVenango\, PA 16440 \nDress Accordingly. Please Bring Your 3 X 5 Flag. HYDRATE \n\nRide Captain: Dale Mallory\ntazmall@hotmail.com\n(724) 992-9186
URL:https://www.patriotguard.org/mission/robert-r-smith-usmcr-veteran-erie/
CATEGORIES:Archive
END:VEVENT
BEGIN:VEVENT
DTSTART;TZID=America/New_York:20160726T090000
DTEND;TZID=America/New_York:20160726T110000
DTSTAMP:20210512T130830
CREATED:20160726T130000Z
LAST-MODIFIED:20191201T144058Z
UID:410361-1469523600-1469530800@www.patriotguard.org
SUMMARY:LTC Robert Daniel Frazier\, 77\, USA(RET)
DESCRIPTION:It is my sad duty to report that America has lost another dedicated and highly decorated Vietnam Veteran.  The family of LTC Robert Daniel “Dan” Frazier has requested that The Patriot Guard Riders stand for their Hero and it will be our honor to do so. \nLTC Frazier lost his battle with Alzheimer’s disease on 20 July 16.  His service was last Saturday in Fayetteville and he will be interred at the Georgia National Cemetery on 26 July 16. \nLTC Frazier was born in Georgia\, graduated from U of GA\, and served 22 years in the US Army with two tours in Vietnam.  He was highly decorated\, including the Silver Star and two Purple Hearts.  He was badly wounded in combat as was documented in a video entitled\, “Shootout!:  Tet Offensive” that aired on the History Channel. \nHe also obtained a Master’s Degree from Central Michigan and served as a Master Gardner and Tree Expert. \nStaging:  Tuesday\, 26 July 16 @ 12:15 PM – Georgia National Cemetery PIC for the 1:00 PM Service. \nGeorgia National Cemetery\n1080 Veterans Cemetery Rd\,\nCanton\, GA 30114 \nWeather forecast – Temp 95 and Clear skies. \nRCIC\nClete Simpson\nCsimps15@comcast.net\n770-364-6266
URL:https://www.patriotguard.org/mission/ltc-robert-daniel-frazier-77-usaret/
END:VEVENT
BEGIN:VEVENT
DTSTART;TZID=America/New_York:20160726T090000
DTEND;TZID=America/New_York:20160726T110000
DTSTAMP:20210512T130830
CREATED:20160726T130000Z
LAST-MODIFIED:20191201T144100Z
UID:410364-1469523600-1469530800@www.patriotguard.org
SUMMARY:American Heroes / Miramar
DESCRIPTION:The  PGR will honor Veterans Without Family by being at and participating  in the Veteran’s Full Military Honors funeral ceremonies. We will  stand in for the families who can’t be there. A Flag Line will honor the  Veterans as we show our appreciation and respect for their military  service.\n\nMay the souls of these veterans rest in peace beneath the green carpet of grass in a Nation they helped to keep free. \nNOTE:  This mission posting is to facilitate your voluntary participation in  honoring these Military Veterans.   For those interested\, and alla re  welcome\, please see time table below.  \nTime Table for Tuesday\, 26 July 2016: \n0800 – Stage at Miramar National Cemetery\, 5795 Nobel Dr.\, San Diego\, CA – Shelter A    http://goo.gl/maps/rAfUs\n0815 – Mission briefing\n0830 – Form Flag Line at Shelter A\n0845 – Funeral Ceremony with Military Honors \nR/C  Bill “Smokestack” Foerschler\n619 733 0745\nBFoerschle@aol.com    \nYou  do not have to be a Veteran or a motorcycle rider to attend this  mission.  Everyone is welcome.  We encourage those who do not ride to  attend in your car.  If this will be your first mission go to the  initial staging area and you will be briefed there by the R/C (Ride  Captain).  Dress for motorcycle riding or dress casually if you are  driving a cage (car).
URL:https://www.patriotguard.org/mission/american-heroes-miramar/
CATEGORIES:Archive
END:VEVENT
END:VCALENDAR