BEGIN:VCALENDAR
VERSION:2.0
PRODID:-//Patriot Guard Riders - ECPv5.6.0//NONSGML v1.0//EN
CALSCALE:GREGORIAN
METHOD:PUBLISH
X-WR-CALNAME:Patriot Guard Riders
X-ORIGINAL-URL:https://www.patriotguard.org
X-WR-CALDESC:Events for Patriot Guard Riders
BEGIN:VTIMEZONE
TZID:America/New_York
BEGIN:DAYLIGHT
TZOFFSETFROM:-0500
TZOFFSETTO:-0400
TZNAME:EDT
DTSTART:20160313T070000
END:DAYLIGHT
BEGIN:STANDARD
TZOFFSETFROM:-0400
TZOFFSETTO:-0500
TZNAME:EST
DTSTART:20161106T060000
END:STANDARD
END:VTIMEZONE
BEGIN:VEVENT
DTSTART;TZID=America/New_York:20160717T090000
DTEND;TZID=America/New_York:20160717T110000
DTSTAMP:20210512T155223
CREATED:20160717T130000Z
LAST-MODIFIED:20191201T144255Z
UID:410542-1468746000-1468753200@www.patriotguard.org
SUMMARY:Marvin Mizell\, 71\,  USA\, Vietnam / Perry
DESCRIPTION:The  family of Marvin “M.L.” Mizell (71) has asked the Patriot Guard to  stand in honor of his service to this nation. We are pleased to do so. \nOur hero served in Vietnam as a Sergeant with the 173rd Airborne Division in Vietnam 1966-1967. \nHe was a member of a large family and loved to ride motorcycles. \nWe  will stand a two-hour flag line from 1:00 PM – 3:00 PM for visitation  prior to the funeral service. \nFollowing the service\, we will then  participate in the escort to Magnolia Park Cemetery in Warner Robins for  interment services with military honors. \nLEO support will be provided. \nSee obituary>http://www.watsonhunt.com/memsol.cgi?user_id=1828400 \nStaging:\n12:30 PM\, Sunday\, 17 July 2016\nWatson-Hunt Funeral Home\n1208 Main Street\nPerry\, GA 21069 \nRCIC:\nGeorge “General” Patton\ngeorgepattonjr44@att.net\n(478) 719-7396
URL:https://www.patriotguard.org/mission/marvin-mizell-71-usa-vietnam-perry/
CATEGORIES:Archive
END:VEVENT
BEGIN:VEVENT
DTSTART;TZID=America/New_York:20160717T090000
DTEND;TZID=America/New_York:20160717T110000
DTSTAMP:20210512T155223
CREATED:20160717T130000Z
LAST-MODIFIED:20191201T144257Z
UID:410544-1468746000-1468753200@www.patriotguard.org
SUMMARY:Carl E. Riechman\, USN
DESCRIPTION:The family of Carl E Riechman\, US Navy Vietnam veteran\, has invited  the Patriot Guard to accompany them as they commit this honorable  Veteran to eternal rest.\n\nRide plan as follows:\n\nStaging location:\nShell Station\n14813 Dodd Rd\nWallula WA   \nSchedule:\n0930 – Staging and sign in\n1000 – Briefing\n1015 – KSU\n1030 – Flag line in place\n1115 – Aprox dismissal time\n\nRide Captain:\nJ. “Blackout” Harpe\n360-643-1720\ntexts preferred
URL:https://www.patriotguard.org/mission/carl-e-riechman-usn/
CATEGORIES:Archive
END:VEVENT
BEGIN:VEVENT
DTSTART;TZID=America/New_York:20160717T090000
DTEND;TZID=America/New_York:20160717T110000
DTSTAMP:20210512T155223
CREATED:20160717T130000Z
LAST-MODIFIED:20191201T144257Z
UID:410545-1468746000-1468753200@www.patriotguard.org
SUMMARY:John Jewell\, 56
DESCRIPTION:We are sad to report the death of U.S. Navy SeaBee John Jewell\, 56\, of Macon\, MS. \nThe family has requested the Patriot Guard Riders to assist in honoring him on Sunday the 17th of July at Salem United Methodist Church\, Hwy 14 West\, Macon\, MS. \nServices will begin at 4pm at the church. \nThe PGR will escort from Cockrell Funeral Home to the church\, escort will leave the funeral home at 3:30pm.  A escort to the cemetery will follow at the end of the services. \nStaging for Sunday the 17th:  3pm at Cockrell Funeral Home\, 310 Jefferson St.\, Macon\, MS. for the escort to the church starting at 3:30pm. \nRC will be Jim Henley @ 662-275-0901\njghenley@bellsouth.net
URL:https://www.patriotguard.org/mission/john-jewell-56/
CATEGORIES:Archive
END:VEVENT
BEGIN:VEVENT
DTSTART;TZID=America/New_York:20160717T090000
DTEND;TZID=America/New_York:20160717T110000
DTSTAMP:20210512T155223
CREATED:20160717T130000Z
LAST-MODIFIED:20191201T144259Z
UID:410547-1468746000-1468753200@www.patriotguard.org
SUMMARY:Charles Frank Lloyd\, 63\, USA Veteran
DESCRIPTION:Charles Frank Lloyd\, 63\nVeteran U.S. Army and Army National Guard\nNashville\, TN\nJuly 17\, 2016\n\n\n\n\nThe  Patriot Guard Riders have been invited to participate in celebrating  the life and service of Charles Lloyd and it will be our honor to do so. \nCharles served 4 years in the Army and 4 years in the National Guard. \nFuneral arrangements are being handled by Eastland Funeral Home.  \nVisitation: 1 pm Sunday July 17\n\nService: 2 pm following visitation\n\nStaging: 1200 pm at the funeral home\, 904 Gallatin Road\, Nashville TN\n\nRide Captain: Aldo Calabrese\, (615) 430-4756
URL:https://www.patriotguard.org/mission/charles-frank-lloyd-63-usa-veteran/
CATEGORIES:Archive
END:VEVENT
BEGIN:VEVENT
DTSTART;TZID=America/New_York:20160717T090000
DTEND;TZID=America/New_York:20160717T110000
DTSTAMP:20210512T155223
CREATED:20160717T130000Z
LAST-MODIFIED:20191201T144302Z
UID:410553-1468746000-1468753200@www.patriotguard.org
SUMMARY:Robert E. Smith
DESCRIPTION:Robert Eugene Smith was  a US Army Veteran that serviced his Country proudly. A life long  patriot and loved his country to the point he was willing to give his  life in battle. It is now our honor to stand a flag line & escort  our Hero. The following arrangements have been made. \nSunday July 17 2016\nHouse-Rawlings Funeral Home\n510 East 4th Street\nLondon\, KY 40741 \nVisitation 12:00 – 14:00\nFuneral at 14:00\nStage at 11:30\nFlag line and escort\n\nRide Captains:\nJR Pearce [URL=”tel:606-312-1929″]606-312-1929[/URL]\nMelva Pearce [URL=”tel:606-312-1928″]606-312-1928[/URL] \nSRC: Jay Thomas
URL:https://www.patriotguard.org/mission/robert-e-smith/
CATEGORIES:Archive
END:VEVENT
END:VCALENDAR