BEGIN:VCALENDAR
VERSION:2.0
PRODID:-//Patriot Guard Riders - ECPv5.6.0//NONSGML v1.0//EN
CALSCALE:GREGORIAN
METHOD:PUBLISH
X-WR-CALNAME:Patriot Guard Riders
X-ORIGINAL-URL:https://www.patriotguard.org
X-WR-CALDESC:Events for Patriot Guard Riders
BEGIN:VTIMEZONE
TZID:America/New_York
BEGIN:DAYLIGHT
TZOFFSETFROM:-0500
TZOFFSETTO:-0400
TZNAME:EDT
DTSTART:20160313T070000
END:DAYLIGHT
BEGIN:STANDARD
TZOFFSETFROM:-0400
TZOFFSETTO:-0500
TZNAME:EST
DTSTART:20161106T060000
END:STANDARD
END:VTIMEZONE
BEGIN:VEVENT
DTSTART;TZID=America/New_York:20160704T090000
DTEND;TZID=America/New_York:20160704T110000
DTSTAMP:20210512T220715
CREATED:20160704T130000Z
LAST-MODIFIED:20191201T154650Z
UID:416258-1467622800-1467630000@www.patriotguard.org
SUMMARY:HOTH
DESCRIPTION:Once again the Patriot Guard Riders have been invited to participate in the 2016 Greater Centralia Area 4th of July Parade held yearly to honor all veterans past and present\, and to celebrate the independence of our great nation. \nDate: Monday\, 4 July 16 \nTime: 1000 Hours \nPlace:\nChestnut & Broadway Street\nCentralia\, IL \nStaging Time: 0900 Hours at Chestnut and Broadway. \nNote: Stay hydrated as the weather promises to be hot \nRide Captain in charge:\nCharlie Simmons\n618-267-9113
URL:https://www.patriotguard.org/mission/hoth-1467/
CATEGORIES:Archive
END:VEVENT
BEGIN:VEVENT
DTSTART;TZID=America/New_York:20160704T090000
DTEND;TZID=America/New_York:20160704T110000
DTSTAMP:20210512T220715
CREATED:20160704T130000Z
LAST-MODIFIED:20191201T153638Z
UID:415304-1467622800-1467630000@www.patriotguard.org
SUMMARY:Memorial
DESCRIPTION:JEB FORT STORY 100 Year Anniversary Ceremony\n\n\nMission Details:     The Fort Story Base Commander has invited the Patriot Guard Riders to Celebrate their 100th Year Anniversary at the Historic Cape Henry Light House on Monday\, July 4th \nLet’s Show our Appreciation and Gratitude\, and Stand Tall and Proud with Honor and Respect \nStage at Bucketheads Beach Grill\, 3657 Shore Drive\, Virginia Beach\, VA 23455 \nArrive NLT 1100\nBrief —  1130\nKSU –After Brief\nFlag Line Only. \nFor access to the base\, please ensure you are wearing long sleeves\, long pants\, full finger gloves\, DOT helmet\, sturdy shoes with a defined heel\, and eye protection.  NO WEAPONS ARE PERMITTED ON THE BASE \nWe will ride onto the base as a unit and leave the base as a unit. No one will be permitted to leave the group until after we are clear of the base. You should only join the mission if you will be able to do the COMPLETE mission. This Will be about 4 Hrs. \nRide Captain:  Rich “RoadRunnerII” Fredley 757-408-0933 \nCo-Ride Captains:  Roy (Highwinder) Hankinson\nTim (Mitch) Mitchell \nRice:  Open to all candidates\n\nAnyone wishing additional information concerning this Mission Please contact the LISTED Ride Captain ONLY. \nWeather Forecast: Please watch the weather forecast as the mission dates approach and dress accordingly. \nRide Protocol for all Mission Parts:\nBikes and Trikes:\nLarge (3X5) Flags\nSmall(er) Flags\nNo Flags \nAutos:  Same protocol as bikes \nSPECIAL NOTE: Safety is of our utmost priority. Every effort possible is made in planning and executing the PGR MISSION Statement in a manner that minimizes the inherit dangers of riding a motorcycle\, including riding in groups of all sizes and any situation. While the PGR and its riders have a remarkable safety record in the execution of our missions\, infrequently members have been injured in unforeseen accidents. In an effort to mitigate the risk of preventable accidents\, all attendees who wish to ride in a Patriot Guard motorcycle escort or Honor Mission are asked to attend the pre-mission briefing. It will include a safety briefing and any unique ride information known to our Ride Captain(s) that may be specific to the mission.  Member safety and well-being is always a principal ongoing concern. Our Ride Captains are asked to stand down from any mission that cannot be accomplished in relative safety or unreasonable risk. This includes both rides and flag lines in inclement weather and other conditions. It remains each individual PGR member’s responsibility to ride within their own comfort zone and be cognizant of their surroundings and skill limitations as well as any physical needs or limitations. If the ride and/or mission conditions present challenges beyond your skill\, comfort\, or needs\, you are expected to exercise good judgment in foregoing any planned participation.
URL:https://www.patriotguard.org/mission/memorial-478/
CATEGORIES:Archive
END:VEVENT
BEGIN:VEVENT
DTSTART;TZID=America/New_York:20160704T090000
DTEND;TZID=America/New_York:20160704T110000
DTSTAMP:20210512T220715
CREATED:20160704T130000Z
LAST-MODIFIED:20191201T153956Z
UID:415604-1467622800-1467630000@www.patriotguard.org
SUMMARY:Welcome Home
DESCRIPTION:updated  04 JUL  16 @ 8:38 A.M. cdt    ajbuechel \n\n \n\nWelcome Home Mission\nMonday\n04 JULY 2016\n\n\nLocal Troops are coming home!!! We are looking for a nice turn out\, as we laid one of their own to rest last week days after she returned home….These soldiers are coming home heavy hearted at the loss…. \nAfter the members  deplane in Nashville\, they will be on the way to Chattanooga!! \nWe will stand a Flag Line at the TNANG Base in Chattanooga. \nStaging directly at the TN Army National Guard base\, 1801 S. Holtzclaw Ave. Chattanooga TN. 37404.    \nNo later than 4:00 P.M.  EASTERN TIME\, Monday\, 4th of July 2016 \nFlags will be provided. \nRCIC: Scott Hall\nEmail: Pickaxe365@gmail.com\nPhone: [URL=”tel:706-463-1247″]706-463-1247[/URL]\n \n\n***************************** \n \n\n\nWelcome Home Mission\, Sunday\, 03 July 16\n\n\nLocal Troops are coming home!!! We are looking for a nice turn out\, as we laid one of their own to rest last week days after she returned home….These soldiers are coming home heavy-hearted at the loss….\n\nStaging will be directly at the TNANG HQ Parking area in Chattanooga at 2130\, where we will stand a flag line.\n\nFlags will be provided. \nRCIC: Scott Hall\nEmail: Pickaxe365@gmail.com\nPhone: 706-463-1247
URL:https://www.patriotguard.org/mission/welcome-home-458/
CATEGORIES:Archive
END:VEVENT
BEGIN:VEVENT
DTSTART;TZID=America/New_York:20160704T090000
DTEND;TZID=America/New_York:20160704T110000
DTSTAMP:20210512T220715
CREATED:20160704T130000Z
LAST-MODIFIED:20191201T153956Z
UID:415605-1467622800-1467630000@www.patriotguard.org
SUMMARY:Welcome Home
DESCRIPTION:updated 03 JUL 16@2150EST ArmySSG \n \n\nWelcome Home Mission\nTN Army National Guard\n\n\n\nMonday\, 4th July 16 \nLocal troops are coming home!!! We are looking for a nice turn out\, as we laid one of their own to rest last week days after she returned home….These soldiers are coming home heavy hearted at the loss…. \nStaging 12:45pm\, Monday\, 4th July 2016 \nBig K-Mart\n530 Donelson Pike\nNashville\, TN \nKSU may change since this is a charter flight. \nRCIC:\nLen Chappell\n(615) 804-6007 \nFlags will be provided\, come out and Join us as we bring these Heroes home on the 4th!!! \n\n******************************************* \n\nupdated 03 JUL 16@2020EST ArmySSG \nWelcome Home Mission\, Sunday\, 04 July  16 \nLocal Troops are coming home!!! We are looking for a nice turn out\, as we laid one of their own to rest last week days after she returned home….These soldiers are coming home heavy hearted at the loss…. \nStaging 1730:\nBig K-Mart\nDonelson Pike\nNashville\, TN \nKSU may change since this is a charter flight. \nRCIC:\nLen Chappell\n(615) 804-6007\nlencwwon@aol.com \nFLAGS WILL BE PROVIDED \nCome out and join us as we bring in our Heroes! \nContact:\nAnnette Robeck\naka Dreamcatcher\n(615) 974-3046
URL:https://www.patriotguard.org/mission/welcome-home-459/
CATEGORIES:Archive
END:VEVENT
BEGIN:VEVENT
DTSTART;TZID=America/New_York:20160704T090000
DTEND;TZID=America/New_York:20160704T110000
DTSTAMP:20210512T220715
CREATED:20160704T130000Z
LAST-MODIFIED:20191201T154615Z
UID:416202-1467622800-1467630000@www.patriotguard.org
SUMMARY:HOTH
DESCRIPTION:Centerville 4th of July Parade\nCenterville\, UT \n\n\nThe Patriot Guard Riders have been requested to participate in the Centerville 4th of July Parade. \nWe will participate in the Centerville 4th of July Parade on Monday\, July 4\, 2016. Come out to show our pride for this great country we live in. Let’s share who Patriot Guard Riders are with others in Utah. \nThe ride captain for this mission will be Alex Robert and he can be reached at: 801-380-1839. \nStaging: 7:30 AM at LDS church\, 1461 N Main St\, Centerville. Enter from 400 W to 1450 S. East to the LDS church.\nKSU: 8:00 AM \nWeather: Mostly sunny with a high of 94. Please dress accordingly and keep yourself hydrated.
URL:https://www.patriotguard.org/mission/hoth-1418/
CATEGORIES:Archive
END:VEVENT
BEGIN:VEVENT
DTSTART;TZID=America/New_York:20160704T090000
DTEND;TZID=America/New_York:20160704T110000
DTSTAMP:20210512T220715
CREATED:20160704T130000Z
LAST-MODIFIED:20191201T154617Z
UID:416205-1467622800-1467630000@www.patriotguard.org
SUMMARY:HOTH
DESCRIPTION:W Jordan 4th of July Parade\nW Jordan\, UT\n\n\n\nThe Patriot Guard Riders have been requested to participate in the W Jordan 4th of July Parade. \nWe will participate in the W Jordan 4th of July Parade on Monday\, July 4\, 2016. Come out to show our pride for this great country we live in. Let’s share who Patriot Guard Riders are with others in Utah. \nThe ride captain for this mission will be Tom LaRochelle and he can be reached at: 801-879-1359. \nStaging: 9:00 AM\nW Jordan City Hall\nEnter from 7800 S on 1825 W. \nKSU: 9:30 AM \nWeather: Mostly sunny with a high of 94. Please dress accordingly and keep yourself hydrated.
URL:https://www.patriotguard.org/mission/hoth-1421/
END:VEVENT
BEGIN:VEVENT
DTSTART;TZID=America/New_York:20160704T090000
DTEND;TZID=America/New_York:20160704T110000
DTSTAMP:20210512T220715
CREATED:20160704T130000Z
LAST-MODIFIED:20191201T154618Z
UID:416206-1467622800-1467630000@www.patriotguard.org
SUMMARY:HOTH
DESCRIPTION:HOTH MISSION\nJuly 4\, 2016\nVietnam Veterans Welcome Home Ceremony\nMountain Home\, AR\n\n\nVietnam Veterans Welcome Home ceremony and 50th Anniversary of the End of the Vietnam War. \nAll Vietnam Veterans and Patriot Guard Rider members are urged to attend. Event will include pinning ceremony of the Vietnam Service Medal (VSM) not ribbon.  Black balloons will be released for Arkansas POW/MIA\, with extra balloons available to launch for a comrade(s) who served and gave the ultimate sacrifice. \nTIME: 1100 Hours      \nPLACE:  VFW Post 3246\n214 W. 7th Street\nMountain Home\, AR \nNOTE: From 1 to 4 PM there will be a picnic in Hickory Park 2 blocks north of the VFW. \nWEATHER:  A 40 percent chance of showers and thunderstorms. Mostly cloudy\, with a high near 88. \n—\nDavid “Dirty Water” Cone\n479 264-9525
URL:https://www.patriotguard.org/mission/hoth-1422/
CATEGORIES:Archive
END:VEVENT
BEGIN:VEVENT
DTSTART;TZID=America/New_York:20160704T090000
DTEND;TZID=America/New_York:20160704T110000
DTSTAMP:20210512T220715
CREATED:20160704T130000Z
LAST-MODIFIED:20191201T154618Z
UID:416207-1467622800-1467630000@www.patriotguard.org
SUMMARY:HOTH
DESCRIPTION:The Patriot Guard Riders have been invited to participate in the 4th of July Parade\, Galva\, IL as escorts for WWII and Korean War Honor Flights participants. \nRALLY POINT: NW 3rd Ave. & Morgan Rd.\, Galva\, IL  MAP\nRALLY TIME: 1100 hrs.\, Parade KSU 1200 hrs. \nRIDE CAPTAIN:  Jim Cowley  [URL=”tel:309-525-0495″]309-525-0495[/URL]
URL:https://www.patriotguard.org/mission/hoth-1423/
CATEGORIES:Archive
END:VEVENT
BEGIN:VEVENT
DTSTART;TZID=America/New_York:20160704T090000
DTEND;TZID=America/New_York:20160704T110000
DTSTAMP:20210512T220715
CREATED:20160704T130000Z
LAST-MODIFIED:20191201T154619Z
UID:416208-1467622800-1467630000@www.patriotguard.org
SUMMARY:HOTH - 4 On The 4th Run
DESCRIPTION:4 On The 4th Run/Walk\nA  Soldier’s Child Foundation\nMurfreesboro\, TN\nJuly 4\, 2016\n\n\n\nThe PGR has been invited by A Soldier’s Child Foundation to participate in their July 4th event\, a four mile race around Murfreesboro. Children have been treated by the Foundation to a camping experience at Journey Camp in Thompsons Station and will coming to Murfreesboro by bus for the event. PGR will escort the buses to the event site and will lead the race from the starting point. \nStaging for bus escort: 0615 July 4\nBumpus Harley-Davidson\n2250 NW Broad St.\nMurfreesboro\, TN \nKSU for 5 mile escort to event site: 0700 after rendezvous with buses/vehicles from the camp \nRide Captain:\nDavid Westhorp\nredtag@patriotguard.org\n(615) 330-5340
URL:https://www.patriotguard.org/mission/hoth-4-on-the-4th-run/
CATEGORIES:Archive
END:VEVENT
BEGIN:VEVENT
DTSTART;TZID=America/New_York:20160704T090000
DTEND;TZID=America/New_York:20160704T110000
DTSTAMP:20210512T220715
CREATED:20160704T130000Z
LAST-MODIFIED:20191201T144621Z
UID:410858-1467622800-1467630000@www.patriotguard.org
SUMMARY:SGM Louis Colon McKinnie\, 67\, USA(RET)
DESCRIPTION:SGM Louis Colon McKinnie\, 67\nUS Army Retired\nVietnam Veteran\nLillington\, NC\n4 JUL 16\n\n\n\nSGM. Retired Louis Colon “Mac” McKinnie\, US Army\, 67\, of Fuquay-Varina passed away Friday\, July 1\, 2016 at Rex Healthcare in Raleigh. Louis served 5 tours in Vietnam and proudly served the US Army for 22 years. His family has requested that the Patriot Guard Riders attend the funeral services of their loved one.We’ll answer the family’s request and stand silently to honor a Hero’s passing. \nFuneral Service – 4 JUL 16\nO’Quinn Peebles Phillips Funeral Home\n1310 South Main Street\nLillington\, NC\nhttp://tinyurl.com/hk3xfm6 \nStaging: 10:00 AM \nBriefing: 10:15 AM \nFlag line: 10:30 AM \nWe will stand the flag line until the service starts at 11:00 AM. We then prepare to escort our Hero and his family and friends to West View Cemetery for the graveside service. \nI am honored to act as Ride Captain for this mission. \nDean Burgess\ndaburgess@gmail.com\n919-770-4201 \n**SPECIAL NOTE: Safety is of our utmost priority. Every effort possible is made in planning and executing the PGR Mission statement in a manner that minimizes the inherit dangers of riding a motorcycle\, including riding in groups of all sizes and any situation. While the NCPG\, and it’s riders have a remarkable safety record in the execution of our missions\, infrequently members have been injured in unforeseen accidents. In an effort to mitigate the risk of preventable accidents\, all attendees who wish to ride in a Patriot Guard motorcycle escort or ride are asked to attend the pre-mission briefing. It will include a safety briefing\, and any unique ride information known to our RCIC that may be specific to the mission. Member safety and well-being is always a principal ongoing concern\, our RCIC’s are asked to stand-down from any mission that cannot be accomplished in relative safety or unreasonable risk. This includes both rides and flag lines in inclement weather and conditions. It remains each individual PGR member’s responsibility to ride within their own comfort zone and be cognizant of their surroundings and skill limitations as well as any physical needs or limitations. If the ride and/or mission conditions present challenges beyond your skill\, comfort\, or needs you are expected to exercise good judgment in foregoing any planned participation.
URL:https://www.patriotguard.org/mission/sgm-louis-colon-mckinnie-67-usaret/
CATEGORIES:Archive
END:VEVENT
BEGIN:VEVENT
DTSTART;TZID=America/New_York:20160704T090000
DTEND;TZID=America/New_York:20160704T110000
DTSTAMP:20210512T220715
CREATED:20160704T130000Z
LAST-MODIFIED:20191201T144622Z
UID:410859-1467622800-1467630000@www.patriotguard.org
SUMMARY:Greg H Back\, 65\, USMC
DESCRIPTION:GREG H. BACK(65)\nUSMC VIETNAM VETERAN\nMONDAY\, JULY 4\, 2016\n\n\n\n \n\n[ATTACH=CONFIG]4878[/ATTACH]\n\n\nBorn: July 27\, 1950\nDeceased: July 1\, 2016\n\n\nHis family has requested that the PGR attend his services.  The mission is a ‘go’ and all contacts have been made. \nMr. Back served as a member of the Marine Corps in Vietnam\, where he was awarded the Purple Heart\, the National Defense Service Medal\, Vietnam Service and Campaign Medals\, and the Vietnam Cross of Gallantry w/Palm. \n\n\nTHIS WILL BE A GRAVESIDE SERVICE ONLY\n\n\nServices:  10:00 AM Monday\, July 4th at Treadwell Cemetery\, 885-1309 County Road 307\,  Huntington\, TX\, under the direction of Carroway Funeral Home of Lufkin. \nStaging:  at the cemetery\, from 8:10 to 8:40 AM with a riders meeting at 8:45.  All new members are requested to sign a PGR Release of Liability prior to Flag Line.  Please remain flexible as to the requirements of the mission. \nMap link staging area: https://goo.gl/maps/33xLdziqkfk \nRide Captain:  Jeff Smith\n936-652-2355\njeff.b.smith@hotmail.com \nFlag Captain:  Rodney Ray\n936-553-4761\ngoldwing67@yahoo.com \nWeather Report: high temp 95 degrees\, so please hydrate often\, including the night before. \nALL GROUPS\, CLUBS\, INDEPENDENTS\, ETC. ARE WELCOME.  The only prerequisite is RESPECT.  Also remember\, you do not have to ride a motorcycle to join in.  The flag line is open to all who wish to participate. \nStand tall and silent as you honor this fallen veteran and his family.  Please ride/drive safely and defensively.  And thanks again for your participation.
URL:https://www.patriotguard.org/mission/greg-h-back-65-usmc/
CATEGORIES:Archive
END:VEVENT
END:VCALENDAR