BEGIN:VCALENDAR
VERSION:2.0
PRODID:-//Patriot Guard Riders - ECPv5.6.0//NONSGML v1.0//EN
CALSCALE:GREGORIAN
METHOD:PUBLISH
X-WR-CALNAME:Patriot Guard Riders
X-ORIGINAL-URL:https://www.patriotguard.org
X-WR-CALDESC:Events for Patriot Guard Riders
BEGIN:VTIMEZONE
TZID:America/New_York
BEGIN:DAYLIGHT
TZOFFSETFROM:-0500
TZOFFSETTO:-0400
TZNAME:EDT
DTSTART:20160313T070000
END:DAYLIGHT
BEGIN:STANDARD
TZOFFSETFROM:-0400
TZOFFSETTO:-0500
TZNAME:EST
DTSTART:20161106T060000
END:STANDARD
END:VTIMEZONE
BEGIN:VEVENT
DTSTART;TZID=America/New_York:20160702T090000
DTEND;TZID=America/New_York:20160702T110000
DTSTAMP:20210512T154027
CREATED:20160702T130000Z
LAST-MODIFIED:20191201T144638Z
UID:410882-1467450000-1467457200@www.patriotguard.org
SUMMARY:Julio C Ramirez
DESCRIPTION:Julio C Ramirez\nUS Army Retired\nFort Bragg\, NC\n2 JUL 2016\n\n\n\nPatriots we been called upon to stand for one that stood for us.  Julio C. Ramirez\, of Cameron\, NC faithfully served his country for 24 years in the US Army and 6 years within Civil Service.  He is survived by his wife Coco Ramirez of the home; two daughters\, one son\, Mother\,  one grandson\, five sisters\, and one brother. \nObituary and Article on Mr. Ramirez: \nhttp://tinyurl.com/gtjk8nw \nhttp://tinyurl.com/jfnbrso \nThis will be a FLAG LINE ONLY mission. \nStaging and Flag Line will be at\nJFK Memorial Chapel\, Building D-3116\n(corner of Ardennes and Zabitosky Streets)\nFort Bragg\, NC. \nhttp://tinyurl.com/j323uk6 \nAnyone who does not hold a DOD ID card must access post from the All American Freeway Visitor Control Center and obtain a pass. Remember to allow extra time for check in and that all vehicles and persons are subject to search. You will be entering a US military installation so anything that could be considered a weapon should be left at home. If you are riding\, please keep in mind the requirements for documentation (this now includes an “M” endorsement on your driver’s license) and proper PPE; license\, insurance\, registration\, and DOT approved helmet\, eye protection\, long sleeves\, full fingered gloves\, long pants\, and over the ankle boots. \nStaging time: 11:00 AM \nBriefing: 11:15 AM \nFlag Line: 11:20 AM \n(The Special Forces Brotherhood MC will escort the family to the chapel ETA 11:30) \nStand Down: 12:00 Noon \nAfter the service there will be a celebration of life at Charlie Mike’s Pub: http://tinyurl.com/gwklyg9  PGR members are invited to join the family and friends. \nRC:  Charlie Council\ncharlie.w.council@gmail.com\n910-264-3107
URL:https://www.patriotguard.org/mission/julio-c-ramirez/
CATEGORIES:Archive
END:VEVENT
BEGIN:VEVENT
DTSTART;TZID=America/New_York:20160702T090000
DTEND;TZID=America/New_York:20160702T110000
DTSTAMP:20210512T154027
CREATED:20160702T130000Z
LAST-MODIFIED:20191201T144640Z
UID:410885-1467450000-1467457200@www.patriotguard.org
SUMMARY:Eugene H. Crosser\, USAAC
DESCRIPTION:SSG Eugene H. Crosser\nUSAAC WWII Veteran\nTulsa\, OK\n02 July 16\n\n\n\nThe  family of US Army Air Corps World War II Veteran SSG Eugene Harold  Crosser has asked the Patriot Guard Riders to stand a flag line at his  funeral service scheduled for Saturday\, 02 July 2016 at 1300 hours at  the Memorial Park Cemetery Chapel\, 5111 S Memorial Dr\, Tulsa\, OK.  Interment service to follow at the grave site within Memorial Park  Cemetery. The US Army Honor Detail will conduct Military Honors. \nDate:  Saturday\, 02 July 2016 at 1300 Hours \nStaging:  1145 Hours\nQuikTrip\n9529 E 51st St\n(51st & Mingo)\nTulsa\, OK \nMandatory Briefing:  1200 Hours\nYou MUST attend the briefing to ride in the escort. \nKSU:  1215 Hours for the short ride to the Chapel. \nFlag Line:  1230 Hours \nWeather:  Temperature in the low 90s and partly cloudy during the mission. Remember to Hydrate! Hydrate! Hydrate!!! \nRCIC:\nMike “Riptide” Rohatch\nmjroho@hotmail.com\n918.6505082
URL:https://www.patriotguard.org/mission/eugene-h-crosser-usaac/
CATEGORIES:Archive
END:VEVENT
BEGIN:VEVENT
DTSTART;TZID=America/New_York:20160702T090000
DTEND;TZID=America/New_York:20160702T110000
DTSTAMP:20210512T154027
CREATED:20160702T130000Z
LAST-MODIFIED:20191201T144641Z
UID:410886-1467450000-1467457200@www.patriotguard.org
SUMMARY:Jerry M Fink\, 40
DESCRIPTION:Pvt Jerry M Fink (40)\nUSMCR Veteran\nMarseilles\, IL\n2 JUL 16\n\n\n\nPvt Fink proudly\, honorably served our country in The Marine Corps Reserves. Sadly he lost his life in a motorcycle accident. He is survived by a wife and three children. This family has requested the presence of The Patriot Guard to honor him during his visitation and funeral. Where\, along with a combined VFW/American Legion\, Military and PGR honors will be rendered. \nLOCATION:\nSeals-Campbell Funeral Home\n1009 E. Bluff St.\nMarseilles\, Illinois \nSTAGE and BRIEF:\n0930hrs 9:30am \nASRC:\nLee Young\n708 567-9322 \nSRC:\nbigDave\n312 405-2692
URL:https://www.patriotguard.org/mission/jerry-m-fink-40/
CATEGORIES:Archive
END:VEVENT
BEGIN:VEVENT
DTSTART;TZID=America/New_York:20160702T090000
DTEND;TZID=America/New_York:20160702T110000
DTSTAMP:20210512T154027
CREATED:20160702T130000Z
LAST-MODIFIED:20191201T144645Z
UID:410893-1467450000-1467457200@www.patriotguard.org
SUMMARY:Steven Derrick Raby
DESCRIPTION:The great state of Tennessee has lost another of her Heroes.\n\nThe family of Steven Derrick Raby United States Marine Corps\, have asked the Patriot Guard Riders to escort and stand a silent Flag Line for their loved one\, and it will be our honor to do so.  Mr. Raby Honorably served his country for 9 years in the U.S.M.C. achieving the rank of Staff Sargent.\n\nWe will stage directly at the Funeral Home at 0900.\n\nThe escort is less than 5 miles to the Cemetery\, where there will be Full Military Honors. \nKyker Funeral Home\n113 W. North St.\nSweetwater\, TN  37874 \nEscort to \nSweetwater Memorial Park\n1838 HWY. 11 N.\nSweetwater\, TN. \nRCIC: Tod “Weirdo” Wooldridge\nPhone: 423-920-0861 \nRC: TBD \nFlags will be provided. \nThe weather will be hot so stay hydrated.
URL:https://www.patriotguard.org/mission/steven-derrick-raby/
CATEGORIES:Archive
END:VEVENT
BEGIN:VEVENT
DTSTART;TZID=America/New_York:20160702T090000
DTEND;TZID=America/New_York:20160702T110000
DTSTAMP:20210512T154027
CREATED:20160702T130000Z
LAST-MODIFIED:20191201T144651Z
UID:410902-1467450000-1467457200@www.patriotguard.org
SUMMARY:Paul Sayotovich\, 62\, USAF Veteran
DESCRIPTION:The family of Paul Sayotovich has invited the Patriot Guard to stand a flag line in honor of his life and service to our country. \nPaul passed away at the age of 62 due to an motorcycle accident.  He is survived by his wife Jacque of 36 years\, 3 sons\, his mother\, and 5 siblings\, 3 grandchildren and 7 great grandchildren. He served in the Air Force. He was a Railroad conductor with Union Pacific and a member of the Patriot Guard.   Thank you for your service. \nPlease join us as we stand in silent tribute to Honor his life and service to our country. \nSt Elizabeth Anne Seton\n207 County Road 23 NW\nIsanti\, MN 55040 \n9:05 am –  Stage \n9:35 am. – Brief \n9:45 am  –  Set Flag line \n10:00 am  –  Visitation \n10:30 am  –  Service \n10:40 am. – approximate dismissal \nDismissal at RCIC’s discretion. \nThis is a rain or shine mission.  Please bring your 3×5 American Flag and anything else you may need for the duration of this mission. Please dress accordingly for the weather. \nRCIC –  Jim Wychor \nContact:\nMark Lea\nmark@mnpatriotguard.org
URL:https://www.patriotguard.org/mission/paul-sayotovich-62-usaf-veteran/
CATEGORIES:Archive
END:VEVENT
BEGIN:VEVENT
DTSTART;TZID=America/New_York:20160702T090000
DTEND;TZID=America/New_York:20160702T110000
DTSTAMP:20210512T154027
CREATED:20160702T130000Z
LAST-MODIFIED:20191201T144701Z
UID:410918-1467450000-1467457200@www.patriotguard.org
SUMMARY:Horace W. Atherton\, USA\, WWII / Calhoun
DESCRIPTION:Horace W. “Toad” Atherton\nTech 5\, US Army\nWWII Veteran\n\n\n\nMr. Atherton served with the 88th Calvary Recon  Squad\, was a Purple Heart recipient\, along with being awarded a Victory  Medal and 5 Bronze Stars.  He will be interred on July 2\, 2016 with  military honors.\n\nWe have been asked by the family and will stand in his  honor at Buck Creek Baptist Church and at his final resting place at the  Utica Baptist Church Cemetery.\n\nSATURDAY 2 JULY 2016\nBuck Creek Baptist Church\n3788 US Highway 431 North\nCalhoun\, KY 42327\n\n8:30 AM Stage and Stake Flags\n9:00 AM Public Visitation/Flag Line\n11:00 AM Service Begins with Final Salute \nFollowing the service\, we will escort Mr. Atherton to  the Utica Baptist Church Cemetery in Utica\, KY and stand in honor with a  flag line.   \nUtica Baptist Church Cemetery\n520 St. Rt. 140 W (Physical address of house across street)\nUtica\, KY 42376\n(Uphill on right from Utica Baptist Church)\n\nPlease be prepared for the weather conditions and Ride Safely.\n\nRIDE CAPTAIN(S)\nJeff Free jeff.free@bigrivers.com\nSandy Free sfree@audubon-area.com
URL:https://www.patriotguard.org/mission/horace-w-atherton-usa-wwii-calhoun/
CATEGORIES:Archive
END:VEVENT
BEGIN:VEVENT
DTSTART;TZID=America/New_York:20160702T090000
DTEND;TZID=America/New_York:20160702T110000
DTSTAMP:20210512T154027
CREATED:20160702T130000Z
LAST-MODIFIED:20191201T144706Z
UID:410927-1467450000-1467457200@www.patriotguard.org
SUMMARY:Ralph G. Kugler\, USN
DESCRIPTION:Please note that due to ongoing OPSEC concerns\, mission details are not shown in this posting. All specific details and updates have been sent to members directly via their e-mail address on file. \nFellow PGR Members: \nWe have been requested to stand in Honor of the Naval Service of Ralph G. Kugler\, who passed away on January 23rd.\n\nWhen/Where:\nSaturday\, July 2\, 2016\nLockport\, NY\n\nMission Narrative:\n\nMr. Kugler served from 1965-1969 during the Vietnam War\, and was stationed aboard the USS Ranger (CVA 61)\, a Forrestal-class supercarrier.  The USS Ranger earned 13 battle stars during the Vietnam War.  MM3 Kugler served aboard that ship for over 3-1/2 years\, and was Honorably Discharged on 27 June 1969. \nFor his Service to our Nation\, MM3 Kugler was awarded:  National Defense Service Medal; Vietnam Service Medal; Armed Forces Expeditionary Medal;  Republic of Vietnam Campaign Medal; Meritorious Unit Commendation Ribbon; Navy Unit Commendation Ribbon. \nThis is a very short Mission.  Please do whatever you are able to help us Honor the Naval Vietnam Service of Mr. Kugler\, and to support his loving family. \nPlease arrive on time with a clean 3×5 American Flag or a US Navy Flag.  Dress for the weather\, and ensure your bike flags are properly placed and securely attached. \nLRC\nJohn Ben\njjb1946@aol.com \nDon Higgins\, SRC\ngladiator6988@hotmail.com
URL:https://www.patriotguard.org/mission/ralph-g-kugler-usn/
CATEGORIES:Archive
END:VEVENT
BEGIN:VEVENT
DTSTART;TZID=America/New_York:20160702T090000
DTEND;TZID=America/New_York:20160702T110000
DTSTAMP:20210512T154027
CREATED:20160702T130000Z
LAST-MODIFIED:20191201T144708Z
UID:410929-1467450000-1467457200@www.patriotguard.org
SUMMARY:Gregory Earl Kelm\, 49
DESCRIPTION:Ladies and Gentlemen of the Patriot Guard Riders\, we have been requested to stand the line for Gregory Earl Kelm (49) United States Army SPC E-4\, 1987-1991.  His last assignment was with the Maintenance Transport Support Squadron 3rd ACR (FC) Forscom.  During Greg’s service years he received the Army Service Ribbon\, Rifle M-16 Expert Badge\, Hand Grenade Expert Badge\, Overseas Service Ribbon\, Army Achievement Medal\, Army Good Conduct Medal\, Driver & Mechanic Badge-Mechanic\, Driver & Mechanic Badge -Driver Wheel Badge\, National Defense Service Medal.  Your presence is desired to honor Gregory Kelms’ service to our Nation.   Rest in peace soldier.  Your watch is complete. \nMission Date:  Saturday July 2nd\, 2016 \nRide Captain: Rod Runyon 541-993-6413  reckless.1@hotmail.com \nStaging Location:  The Dalles\, Oregon.  Odd Fellows Cemetery 1100 W. 18th.  South on Cherry Heights Road and just past St. Marys Elementary School.  We will initially Stage along the wall at the Office just inside the gate to the Cemetery. \nStaging Time: 8:30 am – 9:00 am\nBriefing: 9:00 am\nFlag Line: 9:15 am\nService: 10:00 am\nGraveside Dismissal:  10:40 am (approximate) \nBring water and flags if you have them.  There will be just a few extra flags available.
URL:https://www.patriotguard.org/mission/gregory-earl-kelm-49/
CATEGORIES:Archive
END:VEVENT
BEGIN:VEVENT
DTSTART;TZID=America/New_York:20160702T090000
DTEND;TZID=America/New_York:20160702T110000
DTSTAMP:20210512T154027
CREATED:20160702T130000Z
LAST-MODIFIED:20191201T144718Z
UID:410945-1467450000-1467457200@www.patriotguard.org
SUMMARY:Frank L. Endebrock III\, USN
DESCRIPTION:The family of Capt Frank L. Endebrock III USN Vietnam Veteran has asked the Patriot Guard Riders to stand a Flag Line at his Funeral Service to be held on Saturday 2 Jul 2016 in Durant\, OK. Services will be held at First United Methodist Church 5400 W. Main St. Durant\, OK at 10:00 am. We will escort the hero to Highland Cemetery for interment. The U S Navy has been requested to conduct Full Military Honors.\n \nDate: Saturday 2 Jul 2016 \n \nStaging: 8:45am\nFirst United Methodist Church\n5400 W. Main St.\nDurant\, Ok\n \nMANDATORY BRIEFING: 9:15 am\nYOU MUST ATTEND THE BRIEFING TO RIDE IN THE ESCORT.\n \nFLAG LINE: 9:30 am \n \nWEATHER: Temp Low 74 High 93 Please dress accordingly Hydrate\n \nRCIC:\nRandy “Judge” Damron\n580-380-7319\nroadreadyrandy@yahoo.com
URL:https://www.patriotguard.org/mission/frank-l-endebrock-iii-usn/
CATEGORIES:Archive
END:VEVENT
BEGIN:VEVENT
DTSTART;TZID=America/New_York:20160702T090000
DTEND;TZID=America/New_York:20160702T110000
DTSTAMP:20210512T154027
CREATED:20160702T130000Z
LAST-MODIFIED:20191201T153640Z
UID:415307-1467450000-1467457200@www.patriotguard.org
SUMMARY:Memorial
DESCRIPTION:The Family of Randall Kanitz have invited the Patriot Guard Riders to stand in his Honor at a Memorial Service to be held in Oakland\, IL as part of the Oakland VFW 4th of July celebration.  Sgt. Kanitz received the Bronze Star Medal with “V” Device\, the Commendation medal and the Purple Heart for heroism in ground combat against a hostile force in the Republic of Vietnam. \nMr. Kanitz passed away in November 2007 and was buried in the Oak Grove Cemetery in Oakland. The Oakland VFW has selected Mr. Kanitz to be honored this day for his service to our Great Nation. Please join us to help pay tribute and show our respect in appreciation for his service to our Great Country at this Memorial Service. \nStaging: 1600 hrs. (4:00 pm) at Miller Park\n509 Reel Street\, Oakland\, IL\nBriefing: 1700 hrs. (5:00 pm) We will establish our flag line following the briefing. \nRide Captains:\nVic Buraglio\n217-369-0484 \nDave Elliott\n217-414-9873
URL:https://www.patriotguard.org/mission/memorial-479/
CATEGORIES:Archive
END:VEVENT
BEGIN:VEVENT
DTSTART;TZID=America/New_York:20160702T090000
DTEND;TZID=America/New_York:20160702T110000
DTSTAMP:20210512T154027
CREATED:20160702T130000Z
LAST-MODIFIED:20191201T145556Z
UID:411725-1467450000-1467457200@www.patriotguard.org
SUMMARY:Donald Woolard
DESCRIPTION:Saturday\, 2 July 2016\nFort Snelling National Cemetery\, Minneapolis\n\n\nThe family of Donald Woolard has invited the Patriot Guard to stand a flag line in honor of his life and service to our country \nDonald served in the US Marines.   Donald passed over a year ago\, and family followed his wishes for his remains to be donated to the University of Minnesota to study the effects of Agent Orange.  \nPlease come out and stand in silent tribute to Honor Donald’s life and service to our country. \n8:30 am – Stage Lane A (along fence on 34th Ave S) at Ft Snelling National Cemetery\n9:00 am – Brief\n9:30 am- Interment \nEstimated release: 10:30 am \nDismissal at RCIC’s discretion. \nThis is a rain\, or shine mission. Please bring your 3 x 5 American Flag and anything else you may need for the duration of this mission. \n“VA regulations 38 CFR 1.218 prohibit the carrying of firearms (either openly or concealed)\, explosives or other dangerous or deadly weapons while on VA property\, except for official purposes\, such as a military funeral honors. Possession of firearms on any property under the charge and control of VA is prohibited. Offenders may be subject to a fine\, removal from the premises or arrest.” \nRCIC – TBD\nFSNC Team \n—\nKarla Richardson\nMinnesota State Captain\nPhone:  (218)-639-8482
URL:https://www.patriotguard.org/mission/donald-woolard/
CATEGORIES:Archive
END:VEVENT
BEGIN:VEVENT
DTSTART;TZID=America/New_York:20160702T090000
DTEND;TZID=America/New_York:20160702T110000
DTSTAMP:20210512T154027
CREATED:20160702T130000Z
LAST-MODIFIED:20191201T025924Z
UID:302175-1467450000-1467457200@www.patriotguard.org
SUMMARY:MSgt Maxcy Lewis\, Jr.
DESCRIPTION:MSgt Maxcy Lewis\, Jr.\, USAF(Ret) / USA Korea / Warner Robins\, GA 2 July 16\n\n\nThe family of MSgt Maxcy Lewis\, Jr. has requested the presence of the Patriot Guard Riders to honor the life and service of their love one to his country.  We have told the family it will be our honor to be present.\n\n\nMr. Lewis enlisted in the United States Army for two years and served in Korea before transferring to the United States Air Force and retiring at the rank of Master Sargent.\n\n\nPlease view obituary here > http://www.heritagememorialfuneralhome.com/memsol.cgi?user_id=1822385\n\n\nWe will stand a flag line during visitation beginning at 10 AM until service starts at 11 AM Saturday\, July 2 at Heritage Memorial Funeral Home.  Following service we will do a very short escort to Parkway Memorial Gardens in Warner Robins where interment will be conducted with full military honors.\n\n\nStaging:\n9:30 AM Saturday\, July 2\nHeritage Memorial Funeral Home\n701 Carl Vinson Pkwy\, \nWarner Robins\, GA 31093\n\n\nRCIC:\nDavid ‘hound” Blanton\nASC\, PGR of GA\njcghound@hotmail.com\n\n\nFlag Support:\nBruce Tamker
URL:https://www.patriotguard.org/mission/msgt-maxcy-lewis-jr/
END:VEVENT
BEGIN:VEVENT
DTSTART;TZID=America/New_York:20160702T090000
DTEND;TZID=America/New_York:20160702T110000
DTSTAMP:20210512T154027
CREATED:20160702T130000Z
LAST-MODIFIED:20191201T144742Z
UID:410985-1467450000-1467457200@www.patriotguard.org
SUMMARY:Peter Warren Kemp
DESCRIPTION:Patriot Guard and Associates:\n\nSadly we have been called to stand for PETER WARREN KEMP DM1(Draftsman) 1965-1972attached to Naval Security Group Command and The Naval Communication Training Center Pensacola\, FL.  \nPeter was a longtime resident of Bethel CT and was a nationally recognized Industrial Arts teacher at Bethel Middle School for over 30 years.  \nPeter entered the Navy at 17 and was assigned to NAVSECGRU and was tasked with Intelligence gathering and denial of intelligence to adversaries. That Special Group has now been decommissioned.  \nWe will stand a flag line at The CT STATE VETERANS CEMETERY 317 Bow La\, Middletown CT on JULY 2 2016 at 11 am (STAGING 10 am). \nASC Jack Casey will be RCIC and flags and water will be on site.
URL:https://www.patriotguard.org/mission/peter-warren-kemp/
CATEGORIES:Archive
END:VEVENT
BEGIN:VEVENT
DTSTART;TZID=America/New_York:20160702T090000
DTEND;TZID=America/New_York:20160702T110000
DTSTAMP:20210512T154027
CREATED:20160702T130000Z
LAST-MODIFIED:20191201T154622Z
UID:416213-1467450000-1467457200@www.patriotguard.org
SUMMARY:HOTH
DESCRIPTION:Independence Day Parade\nAlamogordo NM\, 07-02-2016\n\n\n\nThe PGR has been invited to participate in this years Independence Day Parade. The Parade will start on Oregon Ave and proceed down 10th Street to New York Ave. \nWe will rally at 0845 AM at the Cuba Ave Church of Christ. Safety Briefing at 0900 AM KSU 0905 move to parade staging area. 1000 AM start of parade. \nLarge Bike Flags needed lots of RED WHITE AND BLUE. \nRemember to ride with the PGR all you have to be is a Patriot.  No previous military service is required\, nor do you have to have a motorcycle. \n\nEVENT STAGING INFO – 07-02-2016:\n  Location:\nCuba Ave Church of Christ\n1300 CUBA AVE\nALAMOGORDO\, NM 88310 \n Staging Time:\n8:45A.M. \n  Special Instructions:\nWon’t know parade slot till morning of the parade \nRCIC:\nRich “Mailman” Merrick – RC – masmallworld@aol.com – [URL=”callto:+1575-430-6697″]575-430-6697[/URL] \nLarge bike flags will be needed.
URL:https://www.patriotguard.org/mission/hoth-1427/
CATEGORIES:Archive
END:VEVENT
BEGIN:VEVENT
DTSTART;TZID=America/New_York:20160702T090000
DTEND;TZID=America/New_York:20160702T110000
DTSTAMP:20210512T154027
CREATED:20160702T130000Z
LAST-MODIFIED:20191201T154627Z
UID:416221-1467450000-1467457200@www.patriotguard.org
SUMMARY:HOTH
DESCRIPTION:The Patriot Guard Riders have\, once again\, been invited to participate in the annual Star Spangled Banner Celebration. \nHeld at Cabela’s\, 1 Cabela Dr.\, Triadelphia\, WV (http://tinyurl.com/gpqyyzc) on Saturday\, 02 Jul 16\, beginning at 1000. \nAs has been in the past\, this event is being held to benefit Boatsie’s Boxes in support of our service men and women who are deployed throughout the world. \nPGR member Rick Hickman (rickandonna@aol.com) will be the temporary Ride Captain for this most honorable and happy mission. \nStaging will be at the Cherokee Trading Post\, Exit 11 off I-70 (Dallas Pike Exit) at 0915. \nRide Briefing at 0930. \nKSU at 0945 for the short ride to Cabela’s. \nUpon arrival\, our flag line will be established prior to the start of the ceremony and will be maintained for the duration. \nLong range weather is for temperatures in the upper 80’s with a 90% chance of sunshine.  Please monitor then dress and travel accordingly\, ensuring you keep yourself very well hydrated. \nAs this is a weekend event\, if at all possible\, please put forth the effort to come out in support of our men and women who are away from their families and friends.
URL:https://www.patriotguard.org/mission/hoth-1434/
CATEGORIES:Archive
END:VEVENT
BEGIN:VEVENT
DTSTART;TZID=America/New_York:20160702T090000
DTEND;TZID=America/New_York:20160702T110000
DTSTAMP:20210512T154027
CREATED:20160702T130000Z
LAST-MODIFIED:20191201T144626Z
UID:410865-1467450000-1467457200@www.patriotguard.org
SUMMARY:Kevin Ray Calhoun
DESCRIPTION:We have been invited by the family for Kevin Ray Calhoun. Mr. Calhoun was a US Navy Veteran with more than 20 years service. \nA life long patriot and loved his country to the point he was willing to give his life in battle. It is now our honor to stand a flag line for our Hero. The following arrangements have been made. \nFLAG LINE ONLY:\nDate: Saturday July 2\, 2016\nStage: 0945\nFlag Line: 1000 to 1400\nFinal Salute: 1350\nService: 1400 \nSchoppenhorst\, Underwood & Brooks Funeral Home\n4895 N. Preston Highway\nShepherdsville\, KY. 40165 \nPlease arrive hydrated and dress for the weather conditions. Check your e-mail for any updates before leaving on any portion of this mission. \nRC: Bob Hamilton\ncaptbob757@aol.com
URL:https://www.patriotguard.org/mission/kevin-ray-calhoun/
CATEGORIES:Archive
END:VEVENT
BEGIN:VEVENT
DTSTART;TZID=America/New_York:20160702T090000
DTEND;TZID=America/New_York:20160702T110000
DTSTAMP:20210512T154027
CREATED:20160702T130000Z
LAST-MODIFIED:20191201T144632Z
UID:410874-1467450000-1467457200@www.patriotguard.org
SUMMARY:MSgt Maxcy Lewis\, Jr\, USA-Korea
DESCRIPTION:updated 30 JUN 16@2320EST ArmySSG \nThe family of MSgt Maxcy Lewis\, Jr. has requested the presence of the Patriot Guard Riders to honor the life and service of their love one to his country.  We have told the family it will be our honor to be present. \nMr. Lewis enlisted in the United States Army for two years and served in Korea before transferring to the United States Air Force and retiring at the rank of Master Sergeant. \nPlease view obituary here > http://www.heritagememorialfuneralhome.com/memsol.cgi?user_id=1822385 \nWe will stand a flag line during visitation beginning at 10 AM until service starts at 11 AM Saturday\, July 2 at Heritage Memorial Funeral Home.  Following service we will do a very short escort to Parkway Memorial Gardens in Warner Robins where interment will be conducted with full military honors. \nStaging:\n9:30 AM Saturday\, July 2\nHeritage Memorial Funeral Home\n701 Carl Vinson Pkwy\,\nWarner Robins\, GA 31093 \nRCIC:\nDavid ‘hound” Blanton\nASC\njcghound@hotmail.com \nFlag Support:\nBruce Tamker
URL:https://www.patriotguard.org/mission/msgt-maxcy-lewis-jr-usa-korea/
CATEGORIES:Archive
END:VEVENT
BEGIN:VEVENT
DTSTART;TZID=America/New_York:20160702T090000
DTEND;TZID=America/New_York:20160702T110000
DTSTAMP:20210512T154027
CREATED:20160702T130000Z
LAST-MODIFIED:20191201T144635Z
UID:410878-1467450000-1467457200@www.patriotguard.org
SUMMARY:Eddie Lewis\, Jr.
DESCRIPTION:Eddie Lewis Jr\nArmy\nLake Charles\, LA  70601\, 07-02-2016\n\n\nThe PGR has been requested to honor Mr Eddie Lewis Jr. He served from 1975 to 1978. He received a National Defense Service Medal\, Expert Marksman Rifle. He will be greatly missed. \nPRIMARY STAGING INFO – 07-02-2016: \n  Location:\nKing’s Funeral Home\n1611 Gerstner Memorial Drive\nLake Charles\, LA  70601\n\nStaging Time:\n9:00 A.M. \n  Special Instructions:\nWe will place flags on rebar at 8:30 am. Flag line is from 9:00 am till time of service at 1:00 pm. burial to follow. \nRCIC:\nJohn Webb – jwebb@acuren.com\n\nAssisting RCs: \n    Flags will be provided.\nLarge bike flags will be needed. \nWeather: \nHot and sunny please stay hydrated
URL:https://www.patriotguard.org/mission/eddie-lewis-jr/
CATEGORIES:Archive
END:VEVENT
END:VCALENDAR