BEGIN:VCALENDAR
VERSION:2.0
PRODID:-//Patriot Guard Riders - ECPv5.6.0//NONSGML v1.0//EN
CALSCALE:GREGORIAN
METHOD:PUBLISH
X-WR-CALNAME:Patriot Guard Riders
X-ORIGINAL-URL:https://www.patriotguard.org
X-WR-CALDESC:Events for Patriot Guard Riders
BEGIN:VTIMEZONE
TZID:America/New_York
BEGIN:DAYLIGHT
TZOFFSETFROM:-0500
TZOFFSETTO:-0400
TZNAME:EDT
DTSTART:20160313T070000
END:DAYLIGHT
BEGIN:STANDARD
TZOFFSETFROM:-0400
TZOFFSETTO:-0500
TZNAME:EST
DTSTART:20161106T060000
END:STANDARD
END:VTIMEZONE
BEGIN:VEVENT
DTSTART;TZID=America/New_York:20160808T090000
DTEND;TZID=America/New_York:20160808T110000
DTSTAMP:20210512T043049
CREATED:20160808T130000Z
LAST-MODIFIED:20191201T143820Z
UID:410121-1470646800-1470654000@www.patriotguard.org
SUMMARY:YN1 Larry Vernon Taylor\, 72\, USN(RET)
DESCRIPTION:YN1 LARRY VERNON TAYLOR\, 72\nUNITED STATES NAVY\nVIETNAM VETERAN\nPENSACOLA\, FLORIDA\nMONDAY\, 8 AUGUST 2016\n\n\n\nThe Patriot Guard has been invited by the Family of YN1 (E-6) Larry Vernon Taylor\, U.S. Navy\, to stand in his Honor and escort him to the Barrancas National Cemetery. \nYN1 Taylor entered the U.S. Navy in 1965 and served until he retired in 1988.  During his service he served in Vietnam.  No other information is available on his service. \nPensacola Memorial Gardens and Funeral Home\, 7433 Pine Forest Road\, Pensacola\, FL. is in charge of the arrangements.  Memorial services will be conducted at Pensacola Memorial Gardens at 1:00 pm.\, to be followed with an LEO escort and Military Honors at Barrancas National Cemetery\, Pensacola\, Fl. \nNaval Air Station requires that you ride with long sleeve shirts\, long trousers\, long fingered gloves\, DOT Approved helmets\, leather foot wear covering the ankles and appropriate eye protection\, while riding aboard the base. \nItinerary: \n1145 – Staging at Hardee’s 2500 Wilde Lake Blvd.\, Pensacola\, FL. (S. of I-10 at Pine Forrest Rd.) \n1230 – Briefing \n1245 – KSU to Pensacola Memorial Gardens\, Pensacola\, FL. \n1300 – Arrive at Funeral Home \n1330 – KSU to Barrancas National Cemetery\, Pensacola\, FL. \n1400 – Honors at Barrancas National Cemetery \nRC:  Roy Pippin\n251-979-7241\nsmokey.rp@gmail.com
URL:https://www.patriotguard.org/mission/yn1-larry-vernon-taylor-72-usnret/
CATEGORIES:Archive
END:VEVENT
END:VCALENDAR