BEGIN:VCALENDAR
VERSION:2.0
PRODID:-//Patriot Guard Riders - ECPv5.3.2.1//NONSGML v1.0//EN
CALSCALE:GREGORIAN
METHOD:PUBLISH
X-WR-CALNAME:Patriot Guard Riders
X-ORIGINAL-URL:https://www.patriotguard.org
X-WR-CALDESC:Events for Patriot Guard Riders
BEGIN:VTIMEZONE
TZID:America/New_York
BEGIN:DAYLIGHT
TZOFFSETFROM:-0500
TZOFFSETTO:-0400
TZNAME:EDT
DTSTART:20180311T070000
END:DAYLIGHT
BEGIN:STANDARD
TZOFFSETFROM:-0400
TZOFFSETTO:-0500
TZNAME:EST
DTSTART:20181104T060000
END:STANDARD
END:VTIMEZONE
BEGIN:VEVENT
DTSTART;VALUE=DATE:20181215
DTEND;VALUE=DATE:20181216
DTSTAMP:20210405T191501
CREATED:20181212T150122Z
LAST-MODIFIED:20181212T150122Z
UID:144463-1544832000-1544918399@www.patriotguard.org
SUMMARY:Wreaths Across America 2018
DESCRIPTION:Wreaths Across America\nWreathes Across America 2018\nPocasset\, Massachusetts – 12-15-18\n\n\n\n\nABOUT THE MISSION: \nWe have once again been requested to do a flag line for the ceremony for the wreath laying at the Massachusetts National Cemetery Bourne\, MA.  After the ceremony members are encouraged to join in and lay the wreaths.\n\n\nPRIMARY STAGING DETAILS: 12-15-18 \nStaging Time: 10:30 a.m. \nCape Cod Harley Davidson\n750 MacArthur Blvd. (RT28)\nPocasset\, Massachusetts 02559\n\n\nRide Captain: \nRay L’Heureux\nLheureux_Raymnd@yahoo.com\n\n\nSpecial Instructions: \nBriefing : 11:15 AM.  We will then regroup at the memorial park at the cemetery (Big flag pole)\n\n\nFlags & Water:\nFlags will be provided\nLarge Bike Flags will NOT be needed.\nWater WILL NOT be provided\, please bring your own.\n\n\n\nSubmitted By: Steven Vieira \nPosition: Massachusetts Assistant State Captain \n\nNote: You do not have to own/ride a motorcycle or be a veteran to join\, and membership is Free. The only requirement is RESPECT! To subscribe to receive mission notices\, log into the National Site and click on the Members tab at the top. Select the Subscribe to PGR Missions option.\n Print This Page
URL:https://www.patriotguard.org/mission/wreaths-across-america-2018-78/
CATEGORIES:Wreaths Across America
END:VEVENT
END:VCALENDAR