BEGIN:VCALENDAR
VERSION:2.0
PRODID:-//Patriot Guard Riders - ECPv5.3.2.1//NONSGML v1.0//EN
CALSCALE:GREGORIAN
METHOD:PUBLISH
X-WR-CALNAME:Patriot Guard Riders
X-ORIGINAL-URL:https://www.patriotguard.org
X-WR-CALDESC:Events for Patriot Guard Riders
BEGIN:VTIMEZONE
TZID:America/New_York
BEGIN:DAYLIGHT
TZOFFSETFROM:-0500
TZOFFSETTO:-0400
TZNAME:EDT
DTSTART:20190310T070000
END:DAYLIGHT
BEGIN:STANDARD
TZOFFSETFROM:-0400
TZOFFSETTO:-0500
TZNAME:EST
DTSTART:20191103T060000
END:STANDARD
END:VTIMEZONE
BEGIN:VEVENT
DTSTART;VALUE=DATE:20190927
DTEND;VALUE=DATE:20190928
DTSTAMP:20210401T083059
CREATED:20190920T193540Z
LAST-MODIFIED:20190920T193540Z
UID:174878-1569542400-1569628799@www.patriotguard.org
SUMMARY:Wounded Warrior Bass Tournament
DESCRIPTION:HOTH Mission\nWounded Warrior Bass Tournament\nWesson\, Mississippi – 09-27-19\n\n\n\nABOUT THE MISSION: \nThe Patriot Guard has been asked to escort Wounded Warriors to Copiah Lake for a Bass Tournament.\n\n\nPRIMARY STAGING DETAILS: 09-27-19 \nStaging Time: 4:30 am  \nSylvarena Baptist Church\nSylvarena Road(Exit 51 off of I-55)\nWesson\, Mississippi 39191\n\n\nRide Captain: \nRandy Lackey\n601-953-6920\n\n\nSpecial Instructions: \nStaging 4:30 am\nKSU at 5:00 am for escort to Copiah Lake located at 1039 Lakefront Lane\, Crystal Springs\, MS.\nCoffee and snacks will be provided. Get there early to fellowship with Wounded Warrior fisherman and guides. LEO support by Harold Jones\, Sheriff of Copiah County.PGR will hold a flag line and salute from the dock as they enter the lake.\n\n\nFlags & Water:\nFlags will be provided\nLarge Bike Flags will NOT be needed.\nWater WILL NOT be provided\, please bring your own.\n\n\nSubmitted By: Keith Grantham \nPosition: Mississippi Assistant State Captain \n\nNote: You do not have to own/ride a motorcycle or be a veteran to join\, and membership is Free. The only requirement is RESPECT! To subscribe to receive mission notices\, log into the National Site and click on the Members tab at the top. Select the Subscribe to PGR Missions option.\n Print This Page
URL:https://www.patriotguard.org/mission/wounded-warrior-bass-tournament/
CATEGORIES:HOTH Mission
END:VEVENT
END:VCALENDAR