BEGIN:VCALENDAR
VERSION:2.0
PRODID:-//Patriot Guard Riders - ECPv5.6.0//NONSGML v1.0//EN
CALSCALE:GREGORIAN
METHOD:PUBLISH
X-WR-CALNAME:Patriot Guard Riders
X-ORIGINAL-URL:https://www.patriotguard.org
X-WR-CALDESC:Events for Patriot Guard Riders
BEGIN:VTIMEZONE
TZID:America/New_York
BEGIN:DAYLIGHT
TZOFFSETFROM:-0500
TZOFFSETTO:-0400
TZNAME:EDT
DTSTART:20080309T070000
END:DAYLIGHT
BEGIN:STANDARD
TZOFFSETFROM:-0400
TZOFFSETTO:-0500
TZNAME:EST
DTSTART:20081102T060000
END:STANDARD
END:VTIMEZONE
BEGIN:VEVENT
DTSTART;TZID=America/New_York:20080915T090000
DTEND;TZID=America/New_York:20080915T110000
DTSTAMP:20210512T080810
CREATED:20080915T130000Z
LAST-MODIFIED:20191201T113344Z
UID:380462-1221469200-1221476400@www.patriotguard.org
SUMMARY:Wolf R. Haaga\, 61\, Navy\, Viet Nam Veteran
DESCRIPTION:Updated 13 Sept 08 2003 edt S Sturgis\n \nFINAL ITINERARY – Wolf R. Haaga\, US Navy Veteran\, 61\, West Springfield\, MA 15SEP MON \nSTAGING:   Friendly’s Restaurant \n1261 Westfield Street ( Route 20) \nWest Springfield\, MA \nMAP LINK:   \nhttp://www.mapquest.com/maps?city=West+Springfield&state=MA&address=1261+Westfield+Street \nThe Big E is taking place this week and please plan accordingly as it is close to where we are staging.  Approach from Rt 5 (Riverdale Rd) and Elm st to Westfield St. For those arriving via rt 91\, take exit 13 and follow rt 5 south to Elm st (veers off to the right from rt 5). Follow Elm approx 1.5 miles to Westfield St (signs for rt 20 Westfield). Right onto Westfield and then follow approx 2-3 miles to the Friendsly’s on the left. There is a Dunkin Donuts nearby. \nSTAGING TIME:  0815 Monday\, September 15th \nBRIEFING:  0830 \nKSU:  0840 \nWe have been requested by the family to send a small contingent (as many as want to go in) into the funeral home to render honors during the calling hours. The family has also requested we provide 2 people to serve as pall bearers for Mr Haaga as they do not have enough \nRIDE CAPTAIN:  Bix Belden c.belden@comcast.net \nJim Boland \nState Captain \nMassachusetts \n_____________________________________________________________________ \nThe family of Wolf R. Haaga has requested our presence at his services to be held in West Springfield\, MA on Monday\, September 15th.  Wolf served in the Navy from 1968 through 1972. \nFor planning purposes visiting hours will be at Toomey-O’Brien Funeral Home located on Westfield Street in West Springfield\, MA with internment at the Agawam Veteran’s Cemetery.  The visiting hours and a service will be from 1000 – 1200; internment is scheduled at 1300 on Monday\, September 15th. \nWe will be forming a flag line at the funeral home and escorting Wolf to Agawam. \nStaging and times will be posted when they are finalized. \nRIDE CAPTAIN:  Kevin Seymour  uglytroll@comcast.net \nJim Boland \nState Captain \nMassachusetts
URL:https://www.patriotguard.org/mission/wolf-r-haaga-61-navy-viet-nam-veteran/
CATEGORIES:Archive
END:VEVENT
END:VCALENDAR