BEGIN:VCALENDAR
VERSION:2.0
PRODID:-//Patriot Guard Riders - ECPv5.3.2.1//NONSGML v1.0//EN
CALSCALE:GREGORIAN
METHOD:PUBLISH
X-WR-CALNAME:Patriot Guard Riders
X-ORIGINAL-URL:https://www.patriotguard.org
X-WR-CALDESC:Events for Patriot Guard Riders
BEGIN:VTIMEZONE
TZID:America/New_York
BEGIN:DAYLIGHT
TZOFFSETFROM:-0500
TZOFFSETTO:-0400
TZNAME:EDT
DTSTART:20190310T070000
END:DAYLIGHT
BEGIN:STANDARD
TZOFFSETFROM:-0400
TZOFFSETTO:-0500
TZNAME:EST
DTSTART:20191103T060000
END:STANDARD
END:VTIMEZONE
BEGIN:VEVENT
DTSTART;VALUE=DATE:20190823
DTEND;VALUE=DATE:20190824
DTSTAMP:20210402T142726
CREATED:20190821T180400Z
LAST-MODIFIED:20190821T180400Z
UID:171525-1566518400-1566604799@www.patriotguard.org
SUMMARY:Wilson Neville Ohler
DESCRIPTION:Honor Mission\nWilson Neville Ohler\, Veteran\nUSN – WWII\nClaremore\, Oklahoma – 08-23-19\n\n\n\nABOUT THE MISSION: \nThe family of Gunners Mate 3rd Class\, Wilson Ohlr\, WWII Navy Veteran has asked the PGR to stand a Flag Line and accompany their hero from Eastern Hills Baptist Church to Oakhaven Memorial Gardens in Claremore. US Navy Honor Guard will do Honors with the PGR to follow.\n\n\nPRIMARY STAGING DETAILS: 08-23-19 \nStaging Time: 09:30 AM\n \nEastern Hills Baptist Church\n16912 E 480 RD (One mile north of the Claremore Racetrack Casino)\nClaremore\, Oklahoma 74017\n\n\nRide Captain: \nMike (Scout) Smith\nscout74017@gmail.com\n918-639-6192\n\n\nSpecial Instructions: \nPRESTAGING: 08:30am\, Hugo’s Restaurant\, 1217 Archer Dr.\, Claremore OK.\nBRIEFING: 10:00am. Must attend to ride escort\, 5 mile accompaniment.\nHydrate\, Hydrate\, Hydrate the day before.\nINTERMENT: Oakhaven Memorial Gardens\, 801 S. Normal\, Claremore\, OK.\n\n\nFlags & Water:\nFlags will be provided\nIf you have large bike flags\, please bring them.\nWater WILL NOT be provided\, please bring your own.\n\n\n\nSubmitted By: Richard Fawcett \nPosition: Oklahoma Assistant State Captain \n\nNote: You do not have to own/ride a motorcycle or be a veteran to join\, and membership is Free. The only requirement is RESPECT! To subscribe to receive mission notices\, log into the National Site and click on the Members tab at the top. Select the Subscribe to PGR Missions option.\n Print This Page
URL:https://www.patriotguard.org/mission/wilson-neville-ohler/
CATEGORIES:Honor Mission
END:VEVENT
END:VCALENDAR