BEGIN:VCALENDAR
VERSION:2.0
PRODID:-//Patriot Guard Riders - ECPv5.3.2.1//NONSGML v1.0//EN
CALSCALE:GREGORIAN
METHOD:PUBLISH
X-WR-CALNAME:Patriot Guard Riders
X-ORIGINAL-URL:https://www.patriotguard.org
X-WR-CALDESC:Events for Patriot Guard Riders
BEGIN:VTIMEZONE
TZID:America/New_York
BEGIN:DAYLIGHT
TZOFFSETFROM:-0500
TZOFFSETTO:-0400
TZNAME:EDT
DTSTART:20190310T070000
END:DAYLIGHT
BEGIN:STANDARD
TZOFFSETFROM:-0400
TZOFFSETTO:-0500
TZNAME:EST
DTSTART:20191103T060000
END:STANDARD
END:VTIMEZONE
BEGIN:VEVENT
DTSTART;VALUE=DATE:20190607
DTEND;VALUE=DATE:20190608
DTSTAMP:20210405T132754
CREATED:20190603T234429Z
LAST-MODIFIED:20190603T234429Z
UID:163507-1559865600-1559951999@www.patriotguard.org
SUMMARY:Wilson Leslie Dean
DESCRIPTION:Honor Mission\nWilson Leslie Dean\, Veteran\nUSA – Korea\nButler\, Missouri – 06-07-19\n\n\n\n\nABOUT THE MISSION: \nHero Wilson served from 08 Nov 1950 to 08 Aug 1952 with 1 year 4 months in Korea with Svc Co 160th Inf Regt. He earned the Korean Service Medal with 1 bronze service star\, UN Service Medal\, Combat Infantryman’s Badge and the Army Occupation Medal\n\n\nPRIMARY STAGING DETAILS: 06-07-19 \nStaging Time: 10:00 am\n \nSchowowengerdt’s Funeral Chapel\n1301 North Orange\nButler\, Missouri 64730\n\n\nRide Captain: \nGary Boots Hoover\n660-679-7961\nboots39216@gmail.com\n\n\nSpecial Instructions: \nWe will place flags and have a ride meeting and be on flag line at 10:20 am.\nThe forcast is for 77* and chance of rain.\nThis is a flag line only.\nFlag Support: Tom Bones Swarnes\n\n\nFlags & Water:\nFlags will be provided\nLarge Bike Flags will NOT be needed.\nWater will be provided.\n\n\n\nSubmitted By: Gary Hoover \nPosition: Missouri Ride Captain \n\nNote: You do not have to own/ride a motorcycle or be a veteran to join\, and membership is Free. The only requirement is RESPECT! To subscribe to receive mission notices\, log into the National Site and click on the Members tab at the top. Select the Subscribe to PGR Missions option.\n Print This Page
URL:https://www.patriotguard.org/mission/wilson-leslie-dean/
CATEGORIES:Honor Mission
END:VEVENT
END:VCALENDAR