BEGIN:VCALENDAR
VERSION:2.0
PRODID:-//Patriot Guard Riders - ECPv5.6.0//NONSGML v1.0//EN
CALSCALE:GREGORIAN
METHOD:PUBLISH
X-WR-CALNAME:Patriot Guard Riders
X-ORIGINAL-URL:https://www.patriotguard.org
X-WR-CALDESC:Events for Patriot Guard Riders
BEGIN:VTIMEZONE
TZID:America/New_York
BEGIN:DAYLIGHT
TZOFFSETFROM:-0500
TZOFFSETTO:-0400
TZNAME:EDT
DTSTART:20160313T070000
END:DAYLIGHT
BEGIN:STANDARD
TZOFFSETFROM:-0400
TZOFFSETTO:-0500
TZNAME:EST
DTSTART:20161106T060000
END:STANDARD
END:VTIMEZONE
BEGIN:VEVENT
DTSTART;TZID=America/New_York:20160614T090000
DTEND;TZID=America/New_York:20160614T110000
DTSTAMP:20210513T155956
CREATED:20160614T130000Z
LAST-MODIFIED:20191201T145142Z
UID:411346-1465894800-1465902000@www.patriotguard.org
SUMMARY:Willie Weston\, 84
DESCRIPTION:We are sad to report the death of US Marine Willie Weston\, 84\, of Columbus\, MS. \nThe family has requested the Patriot Guard Riders to assist in honoring him on Tuesday the 14th of June at Lee Sykes Funeral Home\, 422 12th St North\, Columbus\, MS. \nServices will begin at 1pm on Tuesday the 14th with an escort to Memorial Garden Cemetery immediately following. \nStaging for Tuesday the 14th:  12 noon at Lee Sykes Funeral Home\, 422 12th St North\, Columbus\, MS. for Services starting at 1pm. \nAn escort to Memorial Gardens Cemetery will follow. \nRC will be D J Jewell at 662-549-3360 \nJim Henley\nMS ASC\njghenley@bellsouth.net
URL:https://www.patriotguard.org/mission/willie-weston-84/
CATEGORIES:Archive
END:VEVENT
END:VCALENDAR