BEGIN:VCALENDAR
VERSION:2.0
PRODID:-//Patriot Guard Riders - ECPv5.3.2.1//NONSGML v1.0//EN
CALSCALE:GREGORIAN
METHOD:PUBLISH
X-WR-CALNAME:Patriot Guard Riders
X-ORIGINAL-URL:https://www.patriotguard.org
X-WR-CALDESC:Events for Patriot Guard Riders
BEGIN:VTIMEZONE
TZID:America/New_York
BEGIN:DAYLIGHT
TZOFFSETFROM:-0500
TZOFFSETTO:-0400
TZNAME:EDT
DTSTART:20190310T070000
END:DAYLIGHT
BEGIN:STANDARD
TZOFFSETFROM:-0400
TZOFFSETTO:-0500
TZNAME:EST
DTSTART:20191103T060000
END:STANDARD
END:VTIMEZONE
BEGIN:VEVENT
DTSTART;VALUE=DATE:20190708
DTEND;VALUE=DATE:20190709
DTSTAMP:20210404T020015
CREATED:20190707T053802Z
LAST-MODIFIED:20190707T053802Z
UID:166840-1562544000-1562630399@www.patriotguard.org
SUMMARY:Willie James Shipp
DESCRIPTION:Honor Mission\nWillie James Shipp\, Veteran\nUSN – WWII\nFort Worth\, Texas – 07-08-19\n\n\n \n\nABOUT THE MISSION: \nMr. Shipp served during WWII in the Pacific and was an Iwo Jima survivor.\n\n\nPRIMARY STAGING DETAILS: 07-08-19 \nStaging Time: 12:30 pm\n \nGreenwood Funeral Home\n3100 White Settlement Road\nFort Worth\, Texas 76107\n\n\nRide Captain: \nMike Flocken\nmikefl@flash.net\n(214) 458-4473\n\n\nSpecial Instructions: \nBriefing Time: 12:45 pm\nIn Position/KSU Time: 1:00 pm\nStarting Time: 1:30 pm\nThe funeral service will be at the Greenwood Chapel at the Greenwood Funeral Home.After the Mission Brief\, the Riders will establish the Flag Line and await the arrival of Mr. Shipp’s family and friends. It is possible the family will need pallbearers. When directed\, the Riders will return the flags to the support vehicle. The family has elected to not have a procession. At the conclusion of the funeral service\, riders may depart to stage at the Mount Olivet cemetery for the interment.\n\nFlags & Water:\nFlags will be provided\nLarge Bike Flags will NOT be needed.\nWater will be provided.\n\nSTAGING #2 DETAILS: 07-08-19 \nStaging Time: 1:45 pm\n \nMount Olivet Cemetery\n2301 N. Sylvania Ave\nFort Worth\, Texas 76111\n\n\nRide Captain: \nMike Flocken\nmikefl@flash.net\n(214) 458-4473\n\n\nSpecial Instructions: \nBriefing Time: 2:00 pm\nIn Position/KSU Time: 2:15 pm\nStarting Time: 2:30 pm – Estimated\nUpon arrival at Mount Olivet Cemetery\, riders will assist with setting up the flag line\, man the flag line\, and await the arrival of Mr. Shipp’s family and friends. Pallbearers may be required. Upon conclusion of the committal service\, flags will be furled and stowed in the support vehicle. Riders will then be debriefed and dismissed.\n\nFlags & Water:\nFlags will be provided\nLarge Bike Flags will NOT be needed.\nWater will be provided.\n\n\n\nSubmitted By: Dan Mathys \nPosition: Texas Ride Captain \n\nNote: You do not have to own/ride a motorcycle or be a veteran to join\, and membership is Free. The only requirement is RESPECT! To subscribe to receive mission notices\, log into the National Site and click on the Members tab at the top. Select the Subscribe to PGR Missions option.\n Print This Page
URL:https://www.patriotguard.org/mission/willie-james-shipp/
CATEGORIES:Honor Mission
END:VEVENT
END:VCALENDAR