BEGIN:VCALENDAR
VERSION:2.0
PRODID:-//Patriot Guard Riders - ECPv5.3.2.1//NONSGML v1.0//EN
CALSCALE:GREGORIAN
METHOD:PUBLISH
X-WR-CALNAME:Patriot Guard Riders
X-ORIGINAL-URL:https://www.patriotguard.org
X-WR-CALDESC:Events for Patriot Guard Riders
BEGIN:VTIMEZONE
TZID:America/New_York
BEGIN:DAYLIGHT
TZOFFSETFROM:-0500
TZOFFSETTO:-0400
TZNAME:EDT
DTSTART:20190310T070000
END:DAYLIGHT
BEGIN:STANDARD
TZOFFSETFROM:-0400
TZOFFSETTO:-0500
TZNAME:EST
DTSTART:20191103T060000
END:STANDARD
END:VTIMEZONE
BEGIN:VEVENT
DTSTART;VALUE=DATE:20190713
DTEND;VALUE=DATE:20190714
DTSTAMP:20210404T055325
CREATED:20190711T031451Z
LAST-MODIFIED:20190711T031451Z
UID:167273-1562976000-1563062399@www.patriotguard.org
SUMMARY:Willie Floyd Polk
DESCRIPTION:Honor Mission\nWillie Floyd Polk\, Veteran\nUSA – Vietnam\nMarshall\, Texas – 07-13-19\n\n\n \n\nABOUT THE MISSION: \nSP4 Polk served 2 years in the US Army \, went to Vietnam \, and was Honorably discharged in 1967.\n\n\nPRIMARY STAGING DETAILS: 07-13-19 \nStaging Time: 11:15 am\n \nMt. Zion Spiritual Church #2\n2200 Pemperton Street\nMarshall\, Texas 75670\nMap\n\n\nRide Captain: \nBill Parrish\n903-926-1962\nbparrish4x4@gmail.com\n\n\nSpecial Instructions: \nRiders meeting at 11:45 am.\nBIG FLAG BIKES ARE REQUESTED\nDirections to the cemetery will be given by the Ride Captain.\nPlease remain flexible as to the requirements of the mission. (SEMPER GUMBY)\nFuneral services are scheduled for 1:00 pm at Mt. Zion Spiritual Church #2. Interment\, with military honors\, will be at Sipps Cemetery\, Karnack\, Texas.\n\nFlags & Water:\nFlags will be provided\nIf you have large bike flags\, please bring them.\nWater will be provided.\n\n\n\nSubmitted By: Michael Eubank \nPosition: Texas Deputy State Captain \n\nNote: You do not have to own/ride a motorcycle or be a veteran to join\, and membership is Free. The only requirement is RESPECT! To subscribe to receive mission notices\, log into the National Site and click on the Members tab at the top. Select the Subscribe to PGR Missions option.\n Print This Page
URL:https://www.patriotguard.org/mission/willie-floyd-polk/
CATEGORIES:Honor Mission
END:VEVENT
END:VCALENDAR