BEGIN:VCALENDAR
VERSION:2.0
PRODID:-//Patriot Guard Riders - ECPv5.3.2.1//NONSGML v1.0//EN
CALSCALE:GREGORIAN
METHOD:PUBLISH
X-WR-CALNAME:Patriot Guard Riders
X-ORIGINAL-URL:https://www.patriotguard.org
X-WR-CALDESC:Events for Patriot Guard Riders
BEGIN:VTIMEZONE
TZID:America/New_York
BEGIN:DAYLIGHT
TZOFFSETFROM:-0500
TZOFFSETTO:-0400
TZNAME:EDT
DTSTART:20190310T070000
END:DAYLIGHT
BEGIN:STANDARD
TZOFFSETFROM:-0400
TZOFFSETTO:-0500
TZNAME:EST
DTSTART:20191103T060000
END:STANDARD
END:VTIMEZONE
BEGIN:VEVENT
DTSTART;VALUE=DATE:20190712
DTEND;VALUE=DATE:20190713
DTSTAMP:20210403T183217
CREATED:20190705T221111Z
LAST-MODIFIED:20190707T174658Z
UID:166734-1562889600-1562975999@www.patriotguard.org
SUMMARY:Willie Edward Arrington\, Jr.
DESCRIPTION:Honor Mission\nWillie Edward Arrington\, Jr.\, Veteran\nUSA\nPensacola\, Florida – 07-12-19\n\n\n\nABOUT THE MISSION: \nThe Patriot Guard has been invited by the family of PFC Willie E. Arrington\, Jr.\, United States Army\, to stand in his honor and escort him to the Barrancas National Cemetery. PFC Arrington joined the United States Army in March 1963\, serving through March 1965. PFC Arrington received the Marksman (Rifle M-14) Badge.\nServices will be at the First Baptist Church of Warrington\, 105 Gulf Beach Hwy\, Pensacola\, Fl. Honors will follow at Barrancas National Cemetery.\n\n\nPRIMARY STAGING DETAILS: 07-12-19 \nStaging Time: 10:45 AM\n \nHardees\n805 N. Navy Blvd\nPensacola\, Florida\n\n\nRide Captain: \nLinda “Sparkle” Caton\nLindacaton49@cox.net\n850-217-4193\n\n\nSpecial Instructions: \nNaval Air Station requires long sleeve shirts\, long trousers\, long-fingered gloves\, DOT Approved helmets\, leather footwear covering the ankles and appropriate eye protection. This attire will always be maintained while riding aboard the base.\n11:30 AM –  Briefing for all riders\n11:45 AM –  KSU to First Baptist Church of Warrington\n                      105 Gulf Beach Hwy\, Pensacola\, Fl.\n                                Map\n12:30 PM – KSU to Barrancas National Cemetery\, Shelter A\n13:00  PM – Honors\n\nFlags & Water:\nFlags will be provided.\nIf you have large bike flags\, please bring them.\nWater will be provided.\n\n\nSubmitted By: Ray Doyle \nPosition: Florida Assistant State Captain \n\nNote: You do not have to own/ride a motorcycle or be a veteran to join\, and membership is Free. The only requirement is RESPECT! To subscribe to receive mission notices\, log into the National Site and click on the Members tab at the top. Select the Subscribe to PGR Missions option.\n Print This Page
URL:https://www.patriotguard.org/mission/willie-edward-arrington-jr/
CATEGORIES:Honor Mission
END:VEVENT
END:VCALENDAR