BEGIN:VCALENDAR
VERSION:2.0
PRODID:-//Patriot Guard Riders - ECPv5.3.2.1//NONSGML v1.0//EN
CALSCALE:GREGORIAN
METHOD:PUBLISH
X-WR-CALNAME:Patriot Guard Riders
X-ORIGINAL-URL:https://www.patriotguard.org
X-WR-CALDESC:Events for Patriot Guard Riders
BEGIN:VTIMEZONE
TZID:America/New_York
BEGIN:DAYLIGHT
TZOFFSETFROM:-0500
TZOFFSETTO:-0400
TZNAME:EDT
DTSTART:20190310T070000
END:DAYLIGHT
BEGIN:STANDARD
TZOFFSETFROM:-0400
TZOFFSETTO:-0500
TZNAME:EST
DTSTART:20191103T060000
END:STANDARD
END:VTIMEZONE
BEGIN:VEVENT
DTSTART;VALUE=DATE:20190823
DTEND;VALUE=DATE:20190824
DTSTAMP:20210402T073200
CREATED:20190822T134953Z
LAST-MODIFIED:20190822T134953Z
UID:171634-1566518400-1566604799@www.patriotguard.org
SUMMARY:Willie D. Richardson Jr.
DESCRIPTION:Honor Mission\nWillie D. Richardson Jr. \, Retired\nUSA -\, GW/ODS\nColumbus\, Georgia – 08-23-19\n\n\n\n\nABOUT THE MISSION: \nThe family of SFC Willie Richardson has asked the PGR to stand for him during his final service; it will be our honor to do so. SFC Richardson served honorably in the US Army for over 22 years. He was a Desert Storm veteran and obtained his Bachelor’s degree from Troy University. SFC Richardson\, age 56\, was currently employed as a Contract Specialist at Fort Benning\, GA.\n\n\nPRIMARY STAGING DETAILS: 08-23-19 \nStaging Time: 10:15  \nSouth Columbus United Methodist Church\n1213 Benning Drive\nColumbus\, Georgia 31903\n\n\nRide Captain: \nWill “Boots” Duke\nwillduke@bellsouth.net\n\n\nSpecial Instructions: \nAfter a short briefing\, we will stand a flag line at the entrance to the church until the service begins at 11:00 am. After the service we will escort SFC Richardson and his family to Fort Mitchell Cemetery\, with LEO escort\, where full military honors will be rendered. SFC Richardson stood many a long night for us to keep us safe and free\, now its time to stand for him.\n\n\nFlags & Water:\nFlags will be provided\nIf you have large bike flags\, please bring them.\nWater will be provided.\n\n\n\nSubmitted By: William (Will) Duke \nPosition: Georgia Ride Captain \n\nNote: You do not have to own/ride a motorcycle or be a veteran to join\, and membership is Free. The only requirement is RESPECT! To subscribe to receive mission notices\, log into the National Site and click on the Members tab at the top. Select the Subscribe to PGR Missions option.\n Print This Page
URL:https://www.patriotguard.org/mission/willie-d-richardson-jr/
CATEGORIES:Honor Mission
END:VEVENT
END:VCALENDAR