BEGIN:VCALENDAR
VERSION:2.0
PRODID:-//Patriot Guard Riders - ECPv5.3.2.1//NONSGML v1.0//EN
CALSCALE:GREGORIAN
METHOD:PUBLISH
X-WR-CALNAME:Patriot Guard Riders
X-ORIGINAL-URL:https://www.patriotguard.org
X-WR-CALDESC:Events for Patriot Guard Riders
BEGIN:VTIMEZONE
TZID:America/New_York
BEGIN:DAYLIGHT
TZOFFSETFROM:-0500
TZOFFSETTO:-0400
TZNAME:EDT
DTSTART:20190310T070000
END:DAYLIGHT
BEGIN:STANDARD
TZOFFSETFROM:-0400
TZOFFSETTO:-0500
TZNAME:EST
DTSTART:20191103T060000
END:STANDARD
END:VTIMEZONE
BEGIN:VEVENT
DTSTART;VALUE=DATE:20190604
DTEND;VALUE=DATE:20190605
DTSTAMP:20210404T232538
CREATED:20190604T101041Z
LAST-MODIFIED:20190604T101041Z
UID:163586-1559606400-1559692799@www.patriotguard.org
SUMMARY:Willie B. Ludden\, Jr.
DESCRIPTION:Honor Mission\nWillie B. Ludden\, Jr.\, Veteran\nUSA\nDallas\, Texas – 06-04-19\n\n\n\n\nABOUT THE MISSION: \nWillie B. Ludden\, Jr. honorably served in the United States Army.\n\n\nPRIMARY STAGING DETAILS: 06-04-19 \nStaging Time: 6:00 p.m.  \nEvergreen Funeral Home\n6449 University Hills Blvd\nDallas\, Texas 75241\nMap\n\n\nRide Captain: \nJeffrey Wike\, asm757@att.net\, (817) 301-4293\n\n\nSpecial Instructions: \nBriefing:  6:15\nIn Position/KSU: 6:30\nStarting: 7:00\nThe family of Willie B. Ludden\, Jr. has invited the Patriot Guard Riders to honor his memory and service to our country by standing a flag line at his wake service.  Riders will stage at Evergreen Funeral Home for a short mission brief.  Following the briefing\, we will set the flags and establish the flag line to await the arrival of Mr. Ludden\, family and friends.  When directed\, riders will return the flags to the storage area\, have a short debriefing and be dismissed.\n\n\nFlags & Water:\nFlags will be provided\nLarge Bike Flags will NOT be needed.\nWater will be provided.\n\n\nSubmitted By: Laura Weger \nPosition: Texas Mission Control \n\nNote: You do not have to own/ride a motorcycle or be a veteran to join\, and membership is Free. The only requirement is RESPECT! To subscribe to receive mission notices\, log into the National Site and click on the Members tab at the top. Select the Subscribe to PGR Missions option.\n Print This Page
URL:https://www.patriotguard.org/mission/willie-b-ludden-jr/
CATEGORIES:Honor Mission
END:VEVENT
END:VCALENDAR