BEGIN:VCALENDAR
VERSION:2.0
PRODID:-//Patriot Guard Riders - ECPv5.6.0//NONSGML v1.0//EN
CALSCALE:GREGORIAN
METHOD:PUBLISH
X-WR-CALNAME:Patriot Guard Riders
X-ORIGINAL-URL:https://www.patriotguard.org
X-WR-CALDESC:Events for Patriot Guard Riders
BEGIN:VTIMEZONE
TZID:America/New_York
BEGIN:DAYLIGHT
TZOFFSETFROM:-0500
TZOFFSETTO:-0400
TZNAME:EDT
DTSTART:20160313T070000
END:DAYLIGHT
BEGIN:STANDARD
TZOFFSETFROM:-0400
TZOFFSETTO:-0500
TZNAME:EST
DTSTART:20161106T060000
END:STANDARD
END:VTIMEZONE
BEGIN:VEVENT
DTSTART;TZID=America/New_York:20160827T090000
DTEND;TZID=America/New_York:20160827T110000
DTSTAMP:20210512T004615
CREATED:20160827T130000Z
LAST-MODIFIED:20191201T143338Z
UID:409683-1472288400-1472295600@www.patriotguard.org
SUMMARY:William W. Peck\, 67\, USN
DESCRIPTION:William Wesley Peck (67)\nU.S. Navy\, Vietnam\nGladstone\, OR\n27/AUG/16\n\n\nLadies and Gentlemen of the Patriot Guard Riders\, we have been requested to stand for William Wesley Peck\, age 67.  Bill served in U.S. Navy from December1965 to April 1969.  He was awarded several medals including the National Defense Service Medal and the Vietnam Service Medal.  \nBig  Bad Brother Bill was a member of Brother Speed Motorcycle Club for many  years.  He is survived by his twin brother and a  sister. His father served in the Army Air Corps in WWII. \nMission Date:  Saturday\, 27/AUG/16 \nRide Captain:  Nick Kinler moseby@comcast.net \nStaging Location:  Meldrum Bar Park\, at the end of Meldrum Bar Park Rd off River Rd.\, Gladstone\, OR \nStaging Time:  1:00 PM   \nBriefing:  1:20 PM   \nFlag Line Set:  1:30 PM \nCelebration of Life Begins:  2:00 PM
URL:https://www.patriotguard.org/mission/william-w-peck-67-usn/
CATEGORIES:Archive
END:VEVENT
END:VCALENDAR