BEGIN:VCALENDAR
VERSION:2.0
PRODID:-//Patriot Guard Riders - ECPv5.3.2.1//NONSGML v1.0//EN
CALSCALE:GREGORIAN
METHOD:PUBLISH
X-WR-CALNAME:Patriot Guard Riders
X-ORIGINAL-URL:https://www.patriotguard.org
X-WR-CALDESC:Events for Patriot Guard Riders
BEGIN:VTIMEZONE
TZID:America/New_York
BEGIN:DAYLIGHT
TZOFFSETFROM:-0500
TZOFFSETTO:-0400
TZNAME:EDT
DTSTART:20190310T070000
END:DAYLIGHT
BEGIN:STANDARD
TZOFFSETFROM:-0400
TZOFFSETTO:-0500
TZNAME:EST
DTSTART:20191103T060000
END:STANDARD
END:VTIMEZONE
BEGIN:VEVENT
DTSTART;VALUE=DATE:20190903
DTEND;VALUE=DATE:20190904
DTSTAMP:20210401T081111
CREATED:20190901T235859Z
LAST-MODIFIED:20190901T235859Z
UID:172437-1567468800-1567555199@www.patriotguard.org
SUMMARY:William "Tommy" Wade
DESCRIPTION:Honor Mission\nWilliam “Tommy” Wade\, Veteran\nUSA\nColumbus\, Georgia – 09-03-19\n\n\nABOUT THE MISSION:\n\n\nThe family of CPT William “Tommy” Wade has asked the Patriot Guard Riders to participate in his final service\, and it will be our honor to do so. CPT Wade\, age 60\, served his country with honor and distinction in the US Army. He spent time in both the active force and the reserves as a Signal Corps Officer (MOS 25C). His awards and decorations include the Army Commendation Medal\, the Army Achievement Medal and the Army Service Ribbon. After his service\, he was active a a Free Mason and a member of the Shrine Club at Fort Benning.\n\n\nPRIMARY STAGING DETAILS: 09-03-19 \nStaging Time: 11:30 am \nMcMullen Funeral Home\n3874 Gentian Blvd\nColumbus\, Georgia 319097\n\n\nRide Captain: \nWill “Boots” Duke\nwillduke@bellsouth.net\n706 464 0804\n\n\nSpecial Instructions: \nAfter a short briefing\, will stand a flag line at the entrance to the funeral home from 11:45 am to 1:00 pm. This is a flag line mission only. CPT Wade stood for us on many a long night\, it is now time for us to stand for him and his family.\n\n\nFlags & Water:\n\nFlags will be provided\nLarge Bike Flags will NOT be needed.\nWater will be provided.\n\n\n\nSubmitted By: William (Will) Duke \nPosition: Georgia Ride Captain \n\nNote: You do not have to own/ride a motorcycle or be a veteran to join\, and membership is Free. The only requirement is RESPECT! To subscribe to receive mission notices\, log into the National Site and click on the Members tab at the top. Select the Subscribe to PGR Missions option.\n Print This Page
URL:https://www.patriotguard.org/mission/william-tommy-wade/
CATEGORIES:Honor Mission
END:VEVENT
END:VCALENDAR