BEGIN:VCALENDAR
VERSION:2.0
PRODID:-//Patriot Guard Riders - ECPv5.3.2.1//NONSGML v1.0//EN
CALSCALE:GREGORIAN
METHOD:PUBLISH
X-WR-CALNAME:Patriot Guard Riders
X-ORIGINAL-URL:https://www.patriotguard.org
X-WR-CALDESC:Events for Patriot Guard Riders
BEGIN:VTIMEZONE
TZID:America/New_York
BEGIN:DAYLIGHT
TZOFFSETFROM:-0500
TZOFFSETTO:-0400
TZNAME:EDT
DTSTART:20190310T070000
END:DAYLIGHT
BEGIN:STANDARD
TZOFFSETFROM:-0400
TZOFFSETTO:-0500
TZNAME:EST
DTSTART:20191103T060000
END:STANDARD
END:VTIMEZONE
BEGIN:VEVENT
DTSTART;VALUE=DATE:20190608
DTEND;VALUE=DATE:20190609
DTSTAMP:20210405T073149
CREATED:20190608T022145Z
LAST-MODIFIED:20190608T022307Z
UID:163870-1559952000-1560038399@www.patriotguard.org
SUMMARY:William Thomas Crocker
DESCRIPTION:Honor Mission\nWilliam Thomas Crocker\, Veteran\nUSN\, USNR\nGoshen\, Alabama – 06-08-19\n\n\n \n\nABOUT THE MISSION: \nThe Family of William Thomas Crocker has requested the PGR honor their hero by standing silent flag lines at his visitation and memorial service with escort to his final resting place. We are honored to do so.  Mr. Crocker served honorably in the US Navy and the Navy Reserves from February 1960 to August 1963. Mr. Crocker stood for us. Now is the time for us to stand for him.\n\n\nPRIMARY STAGING DETAILS: 06-08-19 \nStaging Time: 12:45 pm\n \nOak Bowery Church\n2283 County Rd.1107\nGoshen\, Alabama 36035\nMap\n\n\nRide Captain: \nJim Mason\njmason@reagan.com\n\n\nSpecial Instructions: \nFlag line for visitation/memorial service starting at 1:00pm.\nThe memorial service starts at 2:00pm.\nWeather forecast is 90 percent chance of thunderstorms.\nWe will escort the family to Belser cemetary following the memorial service weather permitting.\nWater not provided.\n\nFlags & Water:\nFlags will be provided\nLarge Bike Flags will NOT be needed.\nWater WILL NOT be provided\, please bring your own.\n\n\n\nSubmitted By: James Mason \nPosition: Alabama Ride Captain \n\nNote: You do not have to own/ride a motorcycle or be a veteran to join\, and membership is Free. The only requirement is RESPECT! To subscribe to receive mission notices\, log into the National Site and click on the Members tab at the top. Select the Subscribe to PGR Missions option.\n Print This Page
URL:https://www.patriotguard.org/mission/william-thomas-crocker/
CATEGORIES:Honor Mission
END:VEVENT
END:VCALENDAR