BEGIN:VCALENDAR
VERSION:2.0
PRODID:-//Patriot Guard Riders - ECPv5.3.2.1//NONSGML v1.0//EN
CALSCALE:GREGORIAN
METHOD:PUBLISH
X-WR-CALNAME:Patriot Guard Riders
X-ORIGINAL-URL:https://www.patriotguard.org
X-WR-CALDESC:Events for Patriot Guard Riders
BEGIN:VTIMEZONE
TZID:America/New_York
BEGIN:DAYLIGHT
TZOFFSETFROM:-0500
TZOFFSETTO:-0400
TZNAME:EDT
DTSTART:20190310T070000
END:DAYLIGHT
BEGIN:STANDARD
TZOFFSETFROM:-0400
TZOFFSETTO:-0500
TZNAME:EST
DTSTART:20191103T060000
END:STANDARD
END:VTIMEZONE
BEGIN:VEVENT
DTSTART;VALUE=DATE:20190731
DTEND;VALUE=DATE:20190801
DTSTAMP:20210402T134608
CREATED:20190729T163635Z
LAST-MODIFIED:20190729T163635Z
UID:169031-1564531200-1564617599@www.patriotguard.org
SUMMARY:William T Gressett
DESCRIPTION:Honor Mission\nWilliam T Gressett\, Retired\nUSA – Korea\, Vietnam\nBroken Bow\, Oklahoma – 07-31-19\n\n\n\n\nABOUT THE MISSION: \nThe family of William T Gressett\, USA (Ret)\, Korea\,Vietnam\, has requested the Patriot Guard Riders to stand a flag line at his funeral service to be held on Wednesday 31 July 2019 in Broken Bow\, OK.  Services will be held at Brumley Funeral Home Chapel at 2:00pm. We will accompany the Hero\, family and friends to Hochatown Cemetery for interment.  The Army Honor Guard will conduct Full Military Honors.\n\n\nPRIMARY STAGING DETAILS: 07-31-19 \nStaging Time: 1:00 p.m.  \nBrumley Funeral Home\n500 N Park Dr.\nBroken Bow\, Oklahoma 74728\n\n\nRide Captain: \nJeff Trusty\, jtrusty912@yahoo.com\, 580-208-8099\nAssisting:  Dale”Doc”Young\, Dale11@classicnet.net\, 580-286-1615\n\n\nSpecial Instructions: \nMandatory briefing: 1:15pm.  You must attend briefing to accompany the hero\, family and friends to the cemetery.\nFlag line: 1:30pm\nWeather:  Temp Low 73 High 94 Partly cloudy\n\n\nFlags & Water:\nFlags will be provided\nIf you have large bike flags\, please bring them.\nWater will be provided.\n\n\nSubmitted By: Ronnie Smith \nPosition: Oklahoma Ride Captain \n\nNote: You do not have to own/ride a motorcycle or be a veteran to join\, and membership is Free. The only requirement is RESPECT! To subscribe to receive mission notices\, log into the National Site and click on the Members tab at the top. Select the Subscribe to PGR Missions option.\n Print This Page
URL:https://www.patriotguard.org/mission/william-t-gressett/
CATEGORIES:Honor Mission
END:VEVENT
END:VCALENDAR