BEGIN:VCALENDAR
VERSION:2.0
PRODID:-//Patriot Guard Riders - ECPv5.6.0//NONSGML v1.0//EN
CALSCALE:GREGORIAN
METHOD:PUBLISH
X-WR-CALNAME:Patriot Guard Riders
X-ORIGINAL-URL:https://www.patriotguard.org
X-WR-CALDESC:Events for Patriot Guard Riders
BEGIN:VTIMEZONE
TZID:America/New_York
BEGIN:DAYLIGHT
TZOFFSETFROM:-0500
TZOFFSETTO:-0400
TZNAME:EDT
DTSTART:20160313T070000
END:DAYLIGHT
BEGIN:STANDARD
TZOFFSETFROM:-0400
TZOFFSETTO:-0500
TZNAME:EST
DTSTART:20161106T060000
END:STANDARD
END:VTIMEZONE
BEGIN:VEVENT
DTSTART;TZID=America/New_York:20160606T090000
DTEND;TZID=America/New_York:20160606T110000
DTSTAMP:20210513T165644
CREATED:20160606T130000Z
LAST-MODIFIED:20191201T145357Z
UID:411547-1465203600-1465210800@www.patriotguard.org
SUMMARY:William S. Hamilton
DESCRIPTION:William S. Hamilton\nUnited States Navy\nBaker\, Louisiana\, 06-06-2016\n\n\nThe family of Mr. William S. Hamilton has requested the Patriot Guard stand in Honor of their Hero at his Memorial Service. Mr. Hamilton served in the United States Navy. \nPRIMARY STAGING INFO – 06-06-2016:\n  Location:\nBaker Funeral Home\n6401 Groom Rd.\nBaker\, Louisiana \n Staging Time:\n8:30 A.M. \n  Special Instructions:\nWe will stage at 8:30 a.m. for briefing and to place flags on rebar. Visitation starts at 9:00 a.m. Services start at 1:00 p.m. Burial will be at 2:30 at LA National Cemetery. A decision will be made at the Mission regarding the escort to the cemetery. The weather is still calling for possible afternoon showers. Please feel free to make your own decision on cage or bike. \nRCIC:\nDoug Nobles – noblesdoug@gmail.com \n  Assisting RCs: \n    Flags will be provided.\nLarge bike flags will be needed. \nWeather: \n72 chance of afternoon showers
URL:https://www.patriotguard.org/mission/william-s-hamilton/
CATEGORIES:Archive
END:VEVENT
END:VCALENDAR