BEGIN:VCALENDAR
VERSION:2.0
PRODID:-//Patriot Guard Riders - ECPv5.3.2.1//NONSGML v1.0//EN
CALSCALE:GREGORIAN
METHOD:PUBLISH
X-WR-CALNAME:Patriot Guard Riders
X-ORIGINAL-URL:https://www.patriotguard.org
X-WR-CALDESC:Events for Patriot Guard Riders
BEGIN:VTIMEZONE
TZID:America/New_York
BEGIN:DAYLIGHT
TZOFFSETFROM:-0500
TZOFFSETTO:-0400
TZNAME:EDT
DTSTART:20140309T070000
END:DAYLIGHT
BEGIN:STANDARD
TZOFFSETFROM:-0400
TZOFFSETTO:-0500
TZNAME:EST
DTSTART:20141102T060000
END:STANDARD
END:VTIMEZONE
BEGIN:VEVENT
DTSTART;TZID=America/New_York:20141229T090000
DTEND;TZID=America/New_York:20141229T110000
DTSTAMP:20210401T180618
CREATED:20141229T140000Z
LAST-MODIFIED:20191201T130936Z
UID:397918-1419843600-1419850800@www.patriotguard.org
SUMMARY:William S. Chase\, Jr\, 82
DESCRIPTION:AlC William S. Chase Jr\, 82 \nUnited States Air Force \n\n\nThe family of A1C William S. Chase Jr. has invited the Patriot Guard Riders to stand in honor of his service to our country. During his enlistment he worked as a Dental Technician. He was awarded the National Defense Service Medal and the Good Conduct Medal. He is survived by his wife\, and son. He enjoyed writing and wrote for many local papers and magazines. He also enjoyed hunting.  \n\nObituary:\nhttp://www.allenfuneralhomeinc.com/fh/obituaries/obituary.cfm?o_id=2806935&fh_id=13002  \n\nStaging: 29 Dec 14\nMcDonalds:\n15187 N. Holly Road\nHolly\, Mi 48442\n\n\nMap link Holly McDonalds:\nhttp://mapq.st/1trFV1G\n\n\nStage: 1:00 P.M.\n\n\nBrief:  1:40 P.M.\n\n\nLeave for Cemetery: 2:00 P.M.\n\n\nRide Captain: Lineman\, 810-250-8966\njac3461@gmail.com \n\n\nAssistant Ride Captain: Patches\, 810-348-0809\nSeth48507@yahoo.com\n\n\nPlease bring your 3’ X 5’ American Flags to stand for A1C Chase.\n\n\nDress accordingly for the weather. \n\n\nPosted per “Sniper”\nMichigan State Captain
URL:https://www.patriotguard.org/mission/william-s-chase-jr-82/
CATEGORIES:Archive
END:VEVENT
END:VCALENDAR