BEGIN:VCALENDAR
VERSION:2.0
PRODID:-//Patriot Guard Riders - ECPv5.6.0//NONSGML v1.0//EN
CALSCALE:GREGORIAN
METHOD:PUBLISH
X-WR-CALNAME:Patriot Guard Riders
X-ORIGINAL-URL:https://www.patriotguard.org
X-WR-CALDESC:Events for Patriot Guard Riders
BEGIN:VTIMEZONE
TZID:America/New_York
BEGIN:DAYLIGHT
TZOFFSETFROM:-0500
TZOFFSETTO:-0400
TZNAME:EDT
DTSTART:20160313T070000
END:DAYLIGHT
BEGIN:STANDARD
TZOFFSETFROM:-0400
TZOFFSETTO:-0500
TZNAME:EST
DTSTART:20161106T060000
END:STANDARD
END:VTIMEZONE
BEGIN:VEVENT
DTSTART;TZID=America/New_York:20160722T090000
DTEND;TZID=America/New_York:20160722T110000
DTSTAMP:20210512T134631
CREATED:20160722T130000Z
LAST-MODIFIED:20191201T144131Z
UID:410414-1469178000-1469185200@www.patriotguard.org
SUMMARY:William Russell Atkinson\, 94\, USCG - USMM
DESCRIPTION:Ladies and Gentlemen of the Patriot Guard Riders\, we have been requested to stand for William Russell Atkinson\, age 94.  \nWilliam served from MAR 1943 to JUN 1944 in the Coast Guard and then in the Merchant Marines until his discharge in JUN 1946. \nPlease join us as we help support his family\, pay our respects\, and honor his service to our nation. \nMission Date: Friday\, 22/JUL/16\nRide Captain: John Hanan II  john@jh2design.com\nStaging Location:  Willamette National Cemetery – 11800 SE Mt Scott Blvd.\, Portland\, OR –  up top at the Rostrum by the flagpole\, please enter the cemetery through  Gate 2 – across from Lincoln Memorial. \nStaging Time: 9:30 am\nBriefing: 9:50 am\nKSU: 10:00 am\nFlagline Set: 10:15 am\nService Begins: 10:30 am \n*** There will be a RHG from the office to the shelter.
URL:https://www.patriotguard.org/mission/william-russell-atkinson-94-uscg-usmm/
CATEGORIES:Archive
END:VEVENT
END:VCALENDAR