BEGIN:VCALENDAR
VERSION:2.0
PRODID:-//Patriot Guard Riders - ECPv5.3.2.1//NONSGML v1.0//EN
CALSCALE:GREGORIAN
METHOD:PUBLISH
X-WR-CALNAME:Patriot Guard Riders
X-ORIGINAL-URL:https://www.patriotguard.org
X-WR-CALDESC:Events for Patriot Guard Riders
BEGIN:VTIMEZONE
TZID:America/New_York
BEGIN:DAYLIGHT
TZOFFSETFROM:-0500
TZOFFSETTO:-0400
TZNAME:EDT
DTSTART:20190310T070000
END:DAYLIGHT
BEGIN:STANDARD
TZOFFSETFROM:-0400
TZOFFSETTO:-0500
TZNAME:EST
DTSTART:20191103T060000
END:STANDARD
END:VTIMEZONE
BEGIN:VEVENT
DTSTART;VALUE=DATE:20190820
DTEND;VALUE=DATE:20190821
DTSTAMP:20210402T071550
CREATED:20190817T023225Z
LAST-MODIFIED:20190817T023225Z
UID:171165-1566259200-1566345599@www.patriotguard.org
SUMMARY:William R. Stokes
DESCRIPTION:Honor Mission\nWilliam R. Stokes\, Veteran\nUSN – Vietnam\nWillow Grove\, Pennsylvania – 08-20-19\n\n\n\nABOUT THE MISSION: \n  The family of US Navy Vietnam Veteran William R. Stokes Jr. has requested that we honor him at his service and provide an escort to Washington Crossing National Cemetery where he will be interred.  William served in the US Navy from 1968-1970.  He received the National Defense Service Medal\, the Vietnam Service Medal\, and the Vietnam Campaign Medal.  The family requests we stand in his honor at his service and escort him to his final rest at Washington Crossing National Cemetery where we will stand in silent honor.\n  BT William R. Stokes\, Jr. is a patriot who served our country with honor and now it is our turn to stand and honor him.\n\n\nPRIMARY STAGING DETAILS: 08-20-19 \nStaging Time: 08:00  \nAngelone Funeral Home\nWillow Grove\, Pennsylvania 19090\nMAP\n\n\nRide Captain: \nMark Fiore\n markbennyfiore@gmail.com\n\n\nSpecial Instructions: \n\n\nFlags & Water:\nFlags will not be provided\nLarge Bike Flags will NOT be needed.\nWater WILL NOT be provided\, please bring your own.\n\n\n  \n\n\nSubmitted By: Eric Cramer \nPosition: Pennsylvania Ride Captain \n\nNote: You do not have to own/ride a motorcycle or be a veteran to join\, and membership is Free. The only requirement is RESPECT! To subscribe to receive mission notices\, log into the National Site and click on the Members tab at the top. Select the Subscribe to PGR Missions option.\n Print This Page
URL:https://www.patriotguard.org/mission/william-r-stokes/
CATEGORIES:Honor Mission
END:VEVENT
END:VCALENDAR