BEGIN:VCALENDAR
VERSION:2.0
PRODID:-//Patriot Guard Riders - ECPv5.6.0//NONSGML v1.0//EN
CALSCALE:GREGORIAN
METHOD:PUBLISH
X-WR-CALNAME:Patriot Guard Riders
X-ORIGINAL-URL:https://www.patriotguard.org
X-WR-CALDESC:Events for Patriot Guard Riders
BEGIN:VTIMEZONE
TZID:America/New_York
BEGIN:DAYLIGHT
TZOFFSETFROM:-0500
TZOFFSETTO:-0400
TZNAME:EDT
DTSTART:20160313T070000
END:DAYLIGHT
BEGIN:STANDARD
TZOFFSETFROM:-0400
TZOFFSETTO:-0500
TZNAME:EST
DTSTART:20161106T060000
END:STANDARD
END:VTIMEZONE
BEGIN:VEVENT
DTSTART;TZID=America/New_York:20160819T090000
DTEND;TZID=America/New_York:20160819T110000
DTSTAMP:20210512T015539
CREATED:20160819T130000Z
LAST-MODIFIED:20191201T143502Z
UID:409812-1471597200-1471604400@www.patriotguard.org
SUMMARY:William R Hall Jr.\, USA
DESCRIPTION:We have been invited to attend the Funeral of William R Hall Jr.\, Veteran\, U.S. Army\, Vietnam\n\nInterment 1000(10:00 am) 19 Aug 16 at Veterans Memorial Cemetery\n                                                      2830 Riverside Parkway\n                                                      Grand Junction\, CO\nStage: 09:15 am at Shelter Area\n\nRide Captain: Tim Himes \nArt Edwards\nharleyroadk@yahoo.com
URL:https://www.patriotguard.org/mission/william-r-hall-jr-usa/
CATEGORIES:Archive
END:VEVENT
END:VCALENDAR